BEGIN:VCALENDAR
VERSION:2.0
PRODID:-//First Mennonite Church of Champaign-Urbana - ECPv6.15.20//NONSGML v1.0//EN
CALSCALE:GREGORIAN
METHOD:PUBLISH
X-ORIGINAL-URL:https://fmc-cu.org
X-WR-CALDESC:Events for First Mennonite Church of Champaign-Urbana
REFRESH-INTERVAL;VALUE=DURATION:PT1H
X-Robots-Tag:noindex
X-PUBLISHED-TTL:PT1H
BEGIN:VTIMEZONE
TZID:America/Chicago
BEGIN:DAYLIGHT
TZOFFSETFROM:-0600
TZOFFSETTO:-0500
TZNAME:CDT
DTSTART:20230312T080000
END:DAYLIGHT
BEGIN:STANDARD
TZOFFSETFROM:-0500
TZOFFSETTO:-0600
TZNAME:CST
DTSTART:20231105T070000
END:STANDARD
BEGIN:DAYLIGHT
TZOFFSETFROM:-0600
TZOFFSETTO:-0500
TZNAME:CDT
DTSTART:20240310T080000
END:DAYLIGHT
BEGIN:STANDARD
TZOFFSETFROM:-0500
TZOFFSETTO:-0600
TZNAME:CST
DTSTART:20241103T070000
END:STANDARD
BEGIN:DAYLIGHT
TZOFFSETFROM:-0600
TZOFFSETTO:-0500
TZNAME:CDT
DTSTART:20250309T080000
END:DAYLIGHT
BEGIN:STANDARD
TZOFFSETFROM:-0500
TZOFFSETTO:-0600
TZNAME:CST
DTSTART:20251102T070000
END:STANDARD
BEGIN:DAYLIGHT
TZOFFSETFROM:-0600
TZOFFSETTO:-0500
TZNAME:CDT
DTSTART:20260308T080000
END:DAYLIGHT
BEGIN:STANDARD
TZOFFSETFROM:-0500
TZOFFSETTO:-0600
TZNAME:CST
DTSTART:20261101T070000
END:STANDARD
END:VTIMEZONE
BEGIN:VEVENT
DTSTART;TZID=America/Chicago:20251123T150000
DTEND;TZID=America/Chicago:20251123T170000
DTSTAMP:20260420T052834
CREATED:20251105T164239Z
LAST-MODIFIED:20251105T164239Z
UID:10003441-1763910000-1763917200@fmc-cu.org
SUMMARY:Annual Interfaith Gathering
DESCRIPTION:
URL:https://fmc-cu.org/event/annual-interfaith-gathering/
LOCATION:Spurlock Museum\, 600 S Gregory St.\, Urbana\, IL\, 61801\, United States
CATEGORIES:Co-Sponsored Events
END:VEVENT
BEGIN:VEVENT
DTSTART;TZID=America/Chicago:20241124T150000
DTEND;TZID=America/Chicago:20241124T170000
DTSTAMP:20260420T052834
CREATED:20241016T160617Z
LAST-MODIFIED:20241016T160618Z
UID:10000235-1732460400-1732467600@fmc-cu.org
SUMMARY:Annual Grateful Gathering\, hosted by the Interfaith Alliance of Champaign County
DESCRIPTION:Interfaith Alliance of Champaign County invites you an afternoon of fellowship\, interfaith reflection\, music\, children’s activities\, and light refreshments. \n\nPlease join us as we honor the submissions and winners of our gratitude contest “What does your spiritual tradition teach you about Gratitude?”\nThis event is free and open to the public.\n 
URL:https://fmc-cu.org/event/annual-grateful-gathering-hosted-by-the-interfaith-alliance-of-champaign-county-2/
LOCATION:Spurlock Museum\, 600 S Gregory St.\, Urbana\, IL\, 61801\, United States
CATEGORIES:Co-Sponsored Events
ORGANIZER;CN="Pastor Michael Crosby":MAILTO:michael.crosby@fmc-cu.org
END:VEVENT
END:VCALENDAR