BEGIN:VCALENDAR
VERSION:2.0
PRODID:-//First Mennonite Church of Champaign-Urbana - ECPv6.15.20//NONSGML v1.0//EN
CALSCALE:GREGORIAN
METHOD:PUBLISH
X-WR-CALNAME:First Mennonite Church of Champaign-Urbana
X-ORIGINAL-URL:https://fmc-cu.org
X-WR-CALDESC:Events for First Mennonite Church of Champaign-Urbana
REFRESH-INTERVAL;VALUE=DURATION:PT1H
X-Robots-Tag:noindex
X-PUBLISHED-TTL:PT1H
BEGIN:VTIMEZONE
TZID:America/Chicago
BEGIN:DAYLIGHT
TZOFFSETFROM:-0600
TZOFFSETTO:-0500
TZNAME:CDT
DTSTART:20210314T080000
END:DAYLIGHT
BEGIN:STANDARD
TZOFFSETFROM:-0500
TZOFFSETTO:-0600
TZNAME:CST
DTSTART:20211107T070000
END:STANDARD
BEGIN:DAYLIGHT
TZOFFSETFROM:-0600
TZOFFSETTO:-0500
TZNAME:CDT
DTSTART:20220313T080000
END:DAYLIGHT
BEGIN:STANDARD
TZOFFSETFROM:-0500
TZOFFSETTO:-0600
TZNAME:CST
DTSTART:20221106T070000
END:STANDARD
BEGIN:DAYLIGHT
TZOFFSETFROM:-0600
TZOFFSETTO:-0500
TZNAME:CDT
DTSTART:20230312T080000
END:DAYLIGHT
BEGIN:STANDARD
TZOFFSETFROM:-0500
TZOFFSETTO:-0600
TZNAME:CST
DTSTART:20231105T070000
END:STANDARD
BEGIN:DAYLIGHT
TZOFFSETFROM:-0600
TZOFFSETTO:-0500
TZNAME:CDT
DTSTART:20240310T080000
END:DAYLIGHT
BEGIN:STANDARD
TZOFFSETFROM:-0500
TZOFFSETTO:-0600
TZNAME:CST
DTSTART:20241103T070000
END:STANDARD
END:VTIMEZONE
BEGIN:VEVENT
DTSTART;TZID=America/Chicago:20230521T103000
DTEND;TZID=America/Chicago:20230521T120000
DTSTAMP:20260420T174446
CREATED:20230502T190033Z
LAST-MODIFIED:20230502T190235Z
UID:10001667-1684665000-1684670400@fmc-cu.org
SUMMARY:Sunday Morning Joint Worship at Randolph St. Gardens
DESCRIPTION:10:30 AM Joint Worship Service with Church of the Brethren at Randolph St. Community Gardens (1001 N. Randolph St\, Champaign).\nThe service will not be live streamed. No refreshments or Sunday school today.
URL:https://fmc-cu.org/event/sunday-mornings-at-fmc-4/
LOCATION:Randoph St. Communiy Garden\, 1001 N. Randolph\, Champaign\, IL\, 1001 N. Randolph St\, Champaign\, 61820\, United States
CATEGORIES:Sunday Mornings
ORGANIZER;CN="Pastor Michael Crosby":MAILTO:michael.crosby@fmc-cu.org
END:VEVENT
BEGIN:VEVENT
DTSTART;VALUE=DATE:20230415
DTEND;VALUE=DATE:20230416
DTSTAMP:20260420T174446
CREATED:20230322T163650Z
LAST-MODIFIED:20230322T163650Z
UID:10001580-1681516800-1681603199@fmc-cu.org
SUMMARY:Randolph St. Community Garden FMCers Work Day
DESCRIPTION:FMC folks are invited to signup to help ready the Randolph St. Community Garden. Details and sign-up forthcoming.
URL:https://fmc-cu.org/event/randolph-st-community-garden-fmcers-work-day/
LOCATION:Randoph St. Communiy Garden\, 1001 N. Randolph\, Champaign\, IL\, 1001 N. Randolph St\, Champaign\, 61820\, United States
CATEGORIES:FMC Events
ORGANIZER;CN="FMC Office":MAILTO:office@fmc-cu.org
END:VEVENT
BEGIN:VEVENT
DTSTART;TZID=America/Chicago:20220729T170000
DTEND;TZID=America/Chicago:20220729T210000
DTSTAMP:20260420T174446
CREATED:20220623T180740Z
LAST-MODIFIED:20220713T164243Z
UID:10000223-1659114000-1659128400@fmc-cu.org
SUMMARY:RAWtools Weekend in CU - Friday
DESCRIPTION:FRIDAY\, JULY 29 – Guns to Garden Tools at Randolph St. Community Gardens\, 1001 N Randolph St\, Champaign. \n5 pm – FREE food (donations welcome)\n6 pm – RAWTOOLS program. RAWTOOLS blacksmiths operate the forge\, transforming a gun into a garden tool while local artists\, musicians\, and storytellers guide a service of lament and transformative hope. The service ends with community members – especially those directly impacted by gun violence – invited to take the hammer themselves and help transform the gun. \nWhat is RAWtools? RAWtools is a Colorado-based organization that is rooted in the Mennonite Church. The organization collects firearms\, decommissions and dismantles them\, and then uses a blacksmith’s fire and hammer to transform them into garden tools. The prophetic image comes from the Bible’s prophets: “they shall beat their swords into plowshares and their spears into pruning hooks; nation shall not lift up sword against nation; neither shall they learn war anymore.” (Isaiah 2:4) \nTools meant for destruction and death pass through the fire\, emerging on the other side remade as a tool fashioned for growth and new life. This is the RAWtools vision for all of us caught up in cycles of violence and trauma. Transformation. Learn more about RAWtools at their website. \n 
URL:https://fmc-cu.org/event/rawtools-weekend-in-cu/
LOCATION:Randoph St. Communiy Garden\, 1001 N. Randolph\, Champaign\, IL\, 1001 N. Randolph St\, Champaign\, 61820\, United States
CATEGORIES:Co-Sponsored Events
ORGANIZER;CN="FMC Office":MAILTO:office@fmc-cu.org
END:VEVENT
END:VCALENDAR