BEGIN:VCALENDAR
VERSION:2.0
PRODID:-//First Mennonite Church of Champaign-Urbana - ECPv6.15.20//NONSGML v1.0//EN
CALSCALE:GREGORIAN
METHOD:PUBLISH
X-WR-CALNAME:First Mennonite Church of Champaign-Urbana
X-ORIGINAL-URL:https://fmc-cu.org
X-WR-CALDESC:Events for First Mennonite Church of Champaign-Urbana
REFRESH-INTERVAL;VALUE=DURATION:PT1H
X-Robots-Tag:noindex
X-PUBLISHED-TTL:PT1H
BEGIN:VTIMEZONE
TZID:America/Chicago
BEGIN:DAYLIGHT
TZOFFSETFROM:-0600
TZOFFSETTO:-0500
TZNAME:CDT
DTSTART:20220313T080000
END:DAYLIGHT
BEGIN:STANDARD
TZOFFSETFROM:-0500
TZOFFSETTO:-0600
TZNAME:CST
DTSTART:20221106T070000
END:STANDARD
BEGIN:DAYLIGHT
TZOFFSETFROM:-0600
TZOFFSETTO:-0500
TZNAME:CDT
DTSTART:20230312T080000
END:DAYLIGHT
BEGIN:STANDARD
TZOFFSETFROM:-0500
TZOFFSETTO:-0600
TZNAME:CST
DTSTART:20231105T070000
END:STANDARD
BEGIN:DAYLIGHT
TZOFFSETFROM:-0600
TZOFFSETTO:-0500
TZNAME:CDT
DTSTART:20240310T080000
END:DAYLIGHT
BEGIN:STANDARD
TZOFFSETFROM:-0500
TZOFFSETTO:-0600
TZNAME:CST
DTSTART:20241103T070000
END:STANDARD
BEGIN:DAYLIGHT
TZOFFSETFROM:-0600
TZOFFSETTO:-0500
TZNAME:CDT
DTSTART:20250309T080000
END:DAYLIGHT
BEGIN:STANDARD
TZOFFSETFROM:-0500
TZOFFSETTO:-0600
TZNAME:CST
DTSTART:20251102T070000
END:STANDARD
END:VTIMEZONE
BEGIN:VEVENT
DTSTART;TZID=America/Chicago:20241113T080000
DTEND;TZID=America/Chicago:20241113T093000
DTSTAMP:20260419T205548
CREATED:20230526T160544Z
LAST-MODIFIED:20241121T165805Z
UID:10002630-1731484800-1731490200@fmc-cu.org
SUMMARY:Wednesday Morning Zoom Bible Study (meets over Zoom)
DESCRIPTION:Early risers – join us online for a time of study and discussion. Email Pastor Michael for the Zoom link.
URL:https://fmc-cu.org/event/early-morning-bible-study-meets-over-zoom-2-2/2024-11-13/
LOCATION:Zoom
CATEGORIES:Bible Study & Prayer
ORGANIZER;CN="Pastor Michael Crosby":MAILTO:michael.crosby@fmc-cu.org
END:VEVENT
BEGIN:VEVENT
DTSTART;TZID=America/Chicago:20241106T080000
DTEND;TZID=America/Chicago:20241106T093000
DTSTAMP:20260419T205548
CREATED:20230526T160544Z
LAST-MODIFIED:20241121T165805Z
UID:10002629-1730880000-1730885400@fmc-cu.org
SUMMARY:Wednesday Morning Zoom Bible Study (meets over Zoom)
DESCRIPTION:Early risers – join us online for a time of study and discussion. Email Pastor Michael for the Zoom link.
URL:https://fmc-cu.org/event/early-morning-bible-study-meets-over-zoom-2-2/2024-11-06/
LOCATION:Zoom
CATEGORIES:Bible Study & Prayer
ORGANIZER;CN="Pastor Michael Crosby":MAILTO:michael.crosby@fmc-cu.org
END:VEVENT
BEGIN:VEVENT
DTSTART;TZID=America/Chicago:20241030T080000
DTEND;TZID=America/Chicago:20241030T093000
DTSTAMP:20260419T205548
CREATED:20230526T160544Z
LAST-MODIFIED:20241121T165805Z
UID:10002628-1730275200-1730280600@fmc-cu.org
SUMMARY:Wednesday Morning Zoom Bible Study (meets over Zoom)
DESCRIPTION:Early risers – join us online for a time of study and discussion. Email Pastor Michael for the Zoom link.
URL:https://fmc-cu.org/event/early-morning-bible-study-meets-over-zoom-2-2/2024-10-30/
LOCATION:Zoom
CATEGORIES:Bible Study & Prayer
ORGANIZER;CN="Pastor Michael Crosby":MAILTO:michael.crosby@fmc-cu.org
END:VEVENT
BEGIN:VEVENT
DTSTART;TZID=America/Chicago:20241025T150000
DTEND;TZID=America/Chicago:20241025T160000
DTSTAMP:20260419T205548
CREATED:20230428T181955Z
LAST-MODIFIED:20230428T181955Z
UID:10001601-1729868400-1729872000@fmc-cu.org
SUMMARY:Repair Network Prayer & Action Hour-Zoom
DESCRIPTION:FMC is part of a Dismantling the Doctrine of Discovery Coalition of congregations that supports church communities in education\, solidarity and reparative action alongside Indigenous Peoples. The Coalition meets via Zoom each month for prayer and action. Click here to view the calendar and to sign up for the Zoom link.\n \n 
URL:https://fmc-cu.org/event/repair-network-prayer-action-hour-zoom/2024-10-25/
LOCATION:Zoom
ORGANIZER;CN="Pastor Michael Crosby":MAILTO:michael.crosby@fmc-cu.org
END:VEVENT
BEGIN:VEVENT
DTSTART;TZID=America/Chicago:20241023T080000
DTEND;TZID=America/Chicago:20241023T093000
DTSTAMP:20260419T205548
CREATED:20230526T160544Z
LAST-MODIFIED:20241121T165805Z
UID:10002627-1729670400-1729675800@fmc-cu.org
SUMMARY:Wednesday Morning Zoom Bible Study (meets over Zoom)
DESCRIPTION:Early risers – join us online for a time of study and discussion. Email Pastor Michael for the Zoom link.
URL:https://fmc-cu.org/event/early-morning-bible-study-meets-over-zoom-2-2/2024-10-23/
LOCATION:Zoom
CATEGORIES:Bible Study & Prayer
ORGANIZER;CN="Pastor Michael Crosby":MAILTO:michael.crosby@fmc-cu.org
END:VEVENT
BEGIN:VEVENT
DTSTART;TZID=America/Chicago:20241016T080000
DTEND;TZID=America/Chicago:20241016T093000
DTSTAMP:20260419T205548
CREATED:20230526T160544Z
LAST-MODIFIED:20241121T165805Z
UID:10002626-1729065600-1729071000@fmc-cu.org
SUMMARY:Wednesday Morning Zoom Bible Study (meets over Zoom)
DESCRIPTION:Early risers – join us online for a time of study and discussion. Email Pastor Michael for the Zoom link.
URL:https://fmc-cu.org/event/early-morning-bible-study-meets-over-zoom-2-2/2024-10-16/
LOCATION:Zoom
CATEGORIES:Bible Study & Prayer
ORGANIZER;CN="Pastor Michael Crosby":MAILTO:michael.crosby@fmc-cu.org
END:VEVENT
BEGIN:VEVENT
DTSTART;TZID=America/Chicago:20241009T080000
DTEND;TZID=America/Chicago:20241009T093000
DTSTAMP:20260419T205548
CREATED:20230526T160544Z
LAST-MODIFIED:20241121T165805Z
UID:10002625-1728460800-1728466200@fmc-cu.org
SUMMARY:Wednesday Morning Zoom Bible Study (meets over Zoom)
DESCRIPTION:Early risers – join us online for a time of study and discussion. Email Pastor Michael for the Zoom link.
URL:https://fmc-cu.org/event/early-morning-bible-study-meets-over-zoom-2-2/2024-10-09/
LOCATION:Zoom
CATEGORIES:Bible Study & Prayer
ORGANIZER;CN="Pastor Michael Crosby":MAILTO:michael.crosby@fmc-cu.org
END:VEVENT
BEGIN:VEVENT
DTSTART;TZID=America/Chicago:20241002T080000
DTEND;TZID=America/Chicago:20241002T093000
DTSTAMP:20260419T205548
CREATED:20230526T160544Z
LAST-MODIFIED:20241121T165805Z
UID:10002624-1727856000-1727861400@fmc-cu.org
SUMMARY:Wednesday Morning Zoom Bible Study (meets over Zoom)
DESCRIPTION:Early risers – join us online for a time of study and discussion. Email Pastor Michael for the Zoom link.
URL:https://fmc-cu.org/event/early-morning-bible-study-meets-over-zoom-2-2/2024-10-02/
LOCATION:Zoom
CATEGORIES:Bible Study & Prayer
ORGANIZER;CN="Pastor Michael Crosby":MAILTO:michael.crosby@fmc-cu.org
END:VEVENT
BEGIN:VEVENT
DTSTART;TZID=America/Chicago:20240927T150000
DTEND;TZID=America/Chicago:20240927T160000
DTSTAMP:20260419T205548
CREATED:20230428T181955Z
LAST-MODIFIED:20230428T181955Z
UID:10001600-1727449200-1727452800@fmc-cu.org
SUMMARY:Repair Network Prayer & Action Hour-Zoom
DESCRIPTION:FMC is part of a Dismantling the Doctrine of Discovery Coalition of congregations that supports church communities in education\, solidarity and reparative action alongside Indigenous Peoples. The Coalition meets via Zoom each month for prayer and action. Click here to view the calendar and to sign up for the Zoom link.\n \n 
URL:https://fmc-cu.org/event/repair-network-prayer-action-hour-zoom/2024-09-27/
LOCATION:Zoom
ORGANIZER;CN="Pastor Michael Crosby":MAILTO:michael.crosby@fmc-cu.org
END:VEVENT
BEGIN:VEVENT
DTSTART;TZID=America/Chicago:20240925T080000
DTEND;TZID=America/Chicago:20240925T093000
DTSTAMP:20260419T205548
CREATED:20230526T160544Z
LAST-MODIFIED:20241121T165805Z
UID:10002623-1727251200-1727256600@fmc-cu.org
SUMMARY:Wednesday Morning Zoom Bible Study (meets over Zoom)
DESCRIPTION:Early risers – join us online for a time of study and discussion. Email Pastor Michael for the Zoom link.
URL:https://fmc-cu.org/event/early-morning-bible-study-meets-over-zoom-2-2/2024-09-25/
LOCATION:Zoom
CATEGORIES:Bible Study & Prayer
ORGANIZER;CN="Pastor Michael Crosby":MAILTO:michael.crosby@fmc-cu.org
END:VEVENT
BEGIN:VEVENT
DTSTART;TZID=America/Chicago:20240918T080000
DTEND;TZID=America/Chicago:20240918T093000
DTSTAMP:20260419T205548
CREATED:20230526T160544Z
LAST-MODIFIED:20241121T165805Z
UID:10002622-1726646400-1726651800@fmc-cu.org
SUMMARY:Wednesday Morning Zoom Bible Study (meets over Zoom)
DESCRIPTION:Early risers – join us online for a time of study and discussion. Email Pastor Michael for the Zoom link.
URL:https://fmc-cu.org/event/early-morning-bible-study-meets-over-zoom-2-2/2024-09-18/
LOCATION:Zoom
CATEGORIES:Bible Study & Prayer
ORGANIZER;CN="Pastor Michael Crosby":MAILTO:michael.crosby@fmc-cu.org
END:VEVENT
BEGIN:VEVENT
DTSTART;TZID=America/Chicago:20240911T080000
DTEND;TZID=America/Chicago:20240911T093000
DTSTAMP:20260419T205548
CREATED:20230526T160544Z
LAST-MODIFIED:20241121T165805Z
UID:10002621-1726041600-1726047000@fmc-cu.org
SUMMARY:Wednesday Morning Zoom Bible Study (meets over Zoom)
DESCRIPTION:Early risers – join us online for a time of study and discussion. Email Pastor Michael for the Zoom link.
URL:https://fmc-cu.org/event/early-morning-bible-study-meets-over-zoom-2-2/2024-09-11/
LOCATION:Zoom
CATEGORIES:Bible Study & Prayer
ORGANIZER;CN="Pastor Michael Crosby":MAILTO:michael.crosby@fmc-cu.org
END:VEVENT
BEGIN:VEVENT
DTSTART;TZID=America/Chicago:20240904T080000
DTEND;TZID=America/Chicago:20240904T093000
DTSTAMP:20260419T205548
CREATED:20230526T160544Z
LAST-MODIFIED:20241121T165805Z
UID:10002620-1725436800-1725442200@fmc-cu.org
SUMMARY:Wednesday Morning Zoom Bible Study (meets over Zoom)
DESCRIPTION:Early risers – join us online for a time of study and discussion. Email Pastor Michael for the Zoom link.
URL:https://fmc-cu.org/event/early-morning-bible-study-meets-over-zoom-2-2/2024-09-04/
LOCATION:Zoom
CATEGORIES:Bible Study & Prayer
ORGANIZER;CN="Pastor Michael Crosby":MAILTO:michael.crosby@fmc-cu.org
END:VEVENT
BEGIN:VEVENT
DTSTART;TZID=America/Chicago:20240823T150000
DTEND;TZID=America/Chicago:20240823T160000
DTSTAMP:20260419T205548
CREATED:20230428T181955Z
LAST-MODIFIED:20230428T181955Z
UID:10001599-1724425200-1724428800@fmc-cu.org
SUMMARY:Repair Network Prayer & Action Hour-Zoom
DESCRIPTION:FMC is part of a Dismantling the Doctrine of Discovery Coalition of congregations that supports church communities in education\, solidarity and reparative action alongside Indigenous Peoples. The Coalition meets via Zoom each month for prayer and action. Click here to view the calendar and to sign up for the Zoom link.\n \n 
URL:https://fmc-cu.org/event/repair-network-prayer-action-hour-zoom/2024-08-23/
LOCATION:Zoom
ORGANIZER;CN="Pastor Michael Crosby":MAILTO:michael.crosby@fmc-cu.org
END:VEVENT
BEGIN:VEVENT
DTSTART;TZID=America/Chicago:20240726T150000
DTEND;TZID=America/Chicago:20240726T160000
DTSTAMP:20260419T205548
CREATED:20230428T181955Z
LAST-MODIFIED:20230428T181955Z
UID:10001598-1722006000-1722009600@fmc-cu.org
SUMMARY:Repair Network Prayer & Action Hour-Zoom
DESCRIPTION:FMC is part of a Dismantling the Doctrine of Discovery Coalition of congregations that supports church communities in education\, solidarity and reparative action alongside Indigenous Peoples. The Coalition meets via Zoom each month for prayer and action. Click here to view the calendar and to sign up for the Zoom link.\n \n 
URL:https://fmc-cu.org/event/repair-network-prayer-action-hour-zoom/2024-07-26/
LOCATION:Zoom
ORGANIZER;CN="Pastor Michael Crosby":MAILTO:michael.crosby@fmc-cu.org
END:VEVENT
BEGIN:VEVENT
DTSTART;TZID=America/Chicago:20240628T150000
DTEND;TZID=America/Chicago:20240628T160000
DTSTAMP:20260419T205548
CREATED:20230428T181955Z
LAST-MODIFIED:20230428T181955Z
UID:10001597-1719586800-1719590400@fmc-cu.org
SUMMARY:Repair Network Prayer & Action Hour-Zoom
DESCRIPTION:FMC is part of a Dismantling the Doctrine of Discovery Coalition of congregations that supports church communities in education\, solidarity and reparative action alongside Indigenous Peoples. The Coalition meets via Zoom each month for prayer and action. Click here to view the calendar and to sign up for the Zoom link.\n \n 
URL:https://fmc-cu.org/event/repair-network-prayer-action-hour-zoom/2024-06-28/
LOCATION:Zoom
ORGANIZER;CN="Pastor Michael Crosby":MAILTO:michael.crosby@fmc-cu.org
END:VEVENT
BEGIN:VEVENT
DTSTART;TZID=America/Chicago:20240618T130000
DTEND;TZID=America/Chicago:20240618T150000
DTSTAMP:20260419T205548
CREATED:20230505T145634Z
LAST-MODIFIED:20240524T180631Z
UID:10001669-1718715600-1718722800@fmc-cu.org
SUMMARY:FMC 60th Anniversary Planning Committee-Zoom
DESCRIPTION:
URL:https://fmc-cu.org/event/fmc-60th-anniversary-planning-meeting/
LOCATION:Zoom
CATEGORIES:FMC Meetings
ORGANIZER;CN="FMC Office":MAILTO:office@fmc-cu.org
END:VEVENT
BEGIN:VEVENT
DTSTART;TZID=America/Chicago:20240606T150000
DTEND;TZID=America/Chicago:20240606T163000
DTSTAMP:20260419T205548
CREATED:20240207T194357Z
LAST-MODIFIED:20240626T181557Z
UID:10002356-1717686000-1717691400@fmc-cu.org
SUMMARY:Racial Justice Working Group (Zoom)
DESCRIPTION:This group provides a space for anti-racism education\, advocacy\, and mutual accountability in our church and community.
URL:https://fmc-cu.org/event/racial-justice-working-group-2-2-2-2/2024-06-06/
LOCATION:Zoom
CATEGORIES:FMC Meetings
ORGANIZER;CN="Pastor Michael Crosby":MAILTO:michael.crosby@fmc-cu.org
END:VEVENT
BEGIN:VEVENT
DTSTART;TZID=America/Chicago:20240524T150000
DTEND;TZID=America/Chicago:20240524T160000
DTSTAMP:20260419T205548
CREATED:20230428T181955Z
LAST-MODIFIED:20230428T181955Z
UID:10001596-1716562800-1716566400@fmc-cu.org
SUMMARY:Repair Network Prayer & Action Hour-Zoom
DESCRIPTION:FMC is part of a Dismantling the Doctrine of Discovery Coalition of congregations that supports church communities in education\, solidarity and reparative action alongside Indigenous Peoples. The Coalition meets via Zoom each month for prayer and action. Click here to view the calendar and to sign up for the Zoom link.\n \n 
URL:https://fmc-cu.org/event/repair-network-prayer-action-hour-zoom/2024-05-24/
LOCATION:Zoom
ORGANIZER;CN="Pastor Michael Crosby":MAILTO:michael.crosby@fmc-cu.org
END:VEVENT
BEGIN:VEVENT
DTSTART;TZID=America/Chicago:20240502T150000
DTEND;TZID=America/Chicago:20240502T163000
DTSTAMP:20260419T205548
CREATED:20240207T194357Z
LAST-MODIFIED:20240626T181557Z
UID:10002355-1714662000-1714667400@fmc-cu.org
SUMMARY:Racial Justice Working Group (Zoom)
DESCRIPTION:This group provides a space for anti-racism education\, advocacy\, and mutual accountability in our church and community.
URL:https://fmc-cu.org/event/racial-justice-working-group-2-2-2-2/2024-05-02/
LOCATION:Zoom
CATEGORIES:FMC Meetings
ORGANIZER;CN="Pastor Michael Crosby":MAILTO:michael.crosby@fmc-cu.org
END:VEVENT
BEGIN:VEVENT
DTSTART;TZID=America/Chicago:20240426T150000
DTEND;TZID=America/Chicago:20240426T160000
DTSTAMP:20260419T205548
CREATED:20230428T181955Z
LAST-MODIFIED:20230428T181955Z
UID:10001595-1714143600-1714147200@fmc-cu.org
SUMMARY:Repair Network Prayer & Action Hour-Zoom
DESCRIPTION:FMC is part of a Dismantling the Doctrine of Discovery Coalition of congregations that supports church communities in education\, solidarity and reparative action alongside Indigenous Peoples. The Coalition meets via Zoom each month for prayer and action. Click here to view the calendar and to sign up for the Zoom link.\n \n 
URL:https://fmc-cu.org/event/repair-network-prayer-action-hour-zoom/2024-04-26/
LOCATION:Zoom
ORGANIZER;CN="Pastor Michael Crosby":MAILTO:michael.crosby@fmc-cu.org
END:VEVENT
BEGIN:VEVENT
DTSTART;TZID=America/Chicago:20240322T150000
DTEND;TZID=America/Chicago:20240322T160000
DTSTAMP:20260419T205548
CREATED:20230428T181955Z
LAST-MODIFIED:20230428T181955Z
UID:10001594-1711119600-1711123200@fmc-cu.org
SUMMARY:Repair Network Prayer & Action Hour-Zoom
DESCRIPTION:FMC is part of a Dismantling the Doctrine of Discovery Coalition of congregations that supports church communities in education\, solidarity and reparative action alongside Indigenous Peoples. The Coalition meets via Zoom each month for prayer and action. Click here to view the calendar and to sign up for the Zoom link.\n \n 
URL:https://fmc-cu.org/event/repair-network-prayer-action-hour-zoom/2024-03-22/
LOCATION:Zoom
ORGANIZER;CN="Pastor Michael Crosby":MAILTO:michael.crosby@fmc-cu.org
END:VEVENT
BEGIN:VEVENT
DTSTART;TZID=America/Chicago:20240307T150000
DTEND;TZID=America/Chicago:20240307T163000
DTSTAMP:20260419T205548
CREATED:20240207T194357Z
LAST-MODIFIED:20240626T181557Z
UID:10002353-1709823600-1709829000@fmc-cu.org
SUMMARY:Racial Justice Working Group (Zoom)
DESCRIPTION:This group provides a space for anti-racism education\, advocacy\, and mutual accountability in our church and community.
URL:https://fmc-cu.org/event/racial-justice-working-group-2-2-2-2/2024-03-07/
LOCATION:Zoom
CATEGORIES:FMC Meetings
ORGANIZER;CN="Pastor Michael Crosby":MAILTO:michael.crosby@fmc-cu.org
END:VEVENT
BEGIN:VEVENT
DTSTART;TZID=America/Chicago:20240223T150000
DTEND;TZID=America/Chicago:20240223T160000
DTSTAMP:20260419T205548
CREATED:20230428T181955Z
LAST-MODIFIED:20230428T181955Z
UID:10001593-1708700400-1708704000@fmc-cu.org
SUMMARY:Repair Network Prayer & Action Hour-Zoom
DESCRIPTION:FMC is part of a Dismantling the Doctrine of Discovery Coalition of congregations that supports church communities in education\, solidarity and reparative action alongside Indigenous Peoples. The Coalition meets via Zoom each month for prayer and action. Click here to view the calendar and to sign up for the Zoom link.\n \n 
URL:https://fmc-cu.org/event/repair-network-prayer-action-hour-zoom/2024-02-23/
LOCATION:Zoom
ORGANIZER;CN="Pastor Michael Crosby":MAILTO:michael.crosby@fmc-cu.org
END:VEVENT
BEGIN:VEVENT
DTSTART;TZID=America/Chicago:20240203T080000
DTEND;TZID=America/Chicago:20240203T103000
DTSTAMP:20260419T205548
CREATED:20240119T195117Z
LAST-MODIFIED:20240119T195117Z
UID:10002317-1706947200-1706956200@fmc-cu.org
SUMMARY:Mennonite Central District Conference Mid-year Zoom Gathering
DESCRIPTION:Mennonite CDC Mid-Year Zoom Gathering.\nTheme:  Listen! Wisdom is Calling. Congregations are invited to participate in the gathering and no registration is necessary. \nContact the church office for further details.
URL:https://fmc-cu.org/event/mennonite-central-district-conference-mid-year-zoom-gathering/
LOCATION:Zoom
CATEGORIES:Mennonite Church-affiliated
ORGANIZER;CN="FMC Office":MAILTO:office@fmc-cu.org
END:VEVENT
BEGIN:VEVENT
DTSTART;TZID=America/Chicago:20240201T150000
DTEND;TZID=America/Chicago:20240201T163000
DTSTAMP:20260419T205548
CREATED:20240207T194357Z
LAST-MODIFIED:20240626T181557Z
UID:10002313-1706799600-1706805000@fmc-cu.org
SUMMARY:Racial Justice Working Group (Zoom)
DESCRIPTION:This group provides a space for anti-racism education\, advocacy\, and mutual accountability in our church and community.
URL:https://fmc-cu.org/event/racial-justice-working-group-2-2-2-2/2024-02-01/
LOCATION:Zoom
CATEGORIES:FMC Meetings
ORGANIZER;CN="Pastor Michael Crosby":MAILTO:michael.crosby@fmc-cu.org
END:VEVENT
BEGIN:VEVENT
DTSTART;TZID=America/Chicago:20240127T160000
DTEND;TZID=America/Chicago:20240127T173000
DTSTAMP:20260419T205548
CREATED:20240119T194706Z
LAST-MODIFIED:20240119T194706Z
UID:10002316-1706371200-1706376600@fmc-cu.org
SUMMARY:Addressing Our Climate Crisis:Multigenerational & Multidimensional Perspectives
DESCRIPTION:Free online panel discussion\, “Addressing our Climate Crisis: Multigenerational/Multidimensional Perspectives”\, coordinated by our FMC Green Team.  What values guide people of faith acting to preserve our Common Home? National\, regional and local leaders bring diverse perspectives to the critical work we must do to protect our common home. The  panel includes: \n\nKarla Stoltzfus-Detweiler – Coordinator for Climate Justice Program with MC USA\nFMC Green Team Member Bob Hudson and Eco-Ambassador David Black\nSheri Hostetler\, Co-founder of the Coalition to Dismantle the Doctrine of Discovery & Co-Author of “So We & Our Children May Live”\nCindy Shepherd\, Green Team Directory\, Faith in Place\nCesar Almeida\, Youth Empowerment Senior Coordinator\n\nClick here to register.
URL:https://fmc-cu.org/event/addressing-our-climate-crisismultigenerational-multidimensional-perspectives/
LOCATION:Zoom
CATEGORIES:FMC Events
ORGANIZER;CN="FMC Office":MAILTO:office@fmc-cu.org
END:VEVENT
BEGIN:VEVENT
DTSTART;TZID=America/Chicago:20240126T150000
DTEND;TZID=America/Chicago:20240126T160000
DTSTAMP:20260419T205548
CREATED:20230428T181955Z
LAST-MODIFIED:20230428T181955Z
UID:10001592-1706281200-1706284800@fmc-cu.org
SUMMARY:Repair Network Prayer & Action Hour-Zoom
DESCRIPTION:FMC is part of a Dismantling the Doctrine of Discovery Coalition of congregations that supports church communities in education\, solidarity and reparative action alongside Indigenous Peoples. The Coalition meets via Zoom each month for prayer and action. Click here to view the calendar and to sign up for the Zoom link.\n \n 
URL:https://fmc-cu.org/event/repair-network-prayer-action-hour-zoom/2024-01-26/
LOCATION:Zoom
ORGANIZER;CN="Pastor Michael Crosby":MAILTO:michael.crosby@fmc-cu.org
END:VEVENT
BEGIN:VEVENT
DTSTART;TZID=America/Chicago:20231222T150000
DTEND;TZID=America/Chicago:20231222T160000
DTSTAMP:20260419T205548
CREATED:20230428T181955Z
LAST-MODIFIED:20230428T181955Z
UID:10001591-1703257200-1703260800@fmc-cu.org
SUMMARY:Repair Network Prayer & Action Hour-Zoom
DESCRIPTION:FMC is part of a Dismantling the Doctrine of Discovery Coalition of congregations that supports church communities in education\, solidarity and reparative action alongside Indigenous Peoples. The Coalition meets via Zoom each month for prayer and action. Click here to view the calendar and to sign up for the Zoom link.\n \n 
URL:https://fmc-cu.org/event/repair-network-prayer-action-hour-zoom/2023-12-22/
LOCATION:Zoom
ORGANIZER;CN="Pastor Michael Crosby":MAILTO:michael.crosby@fmc-cu.org
END:VEVENT
BEGIN:VEVENT
DTSTART;TZID=America/Chicago:20231220T080000
DTEND;TZID=America/Chicago:20231220T090000
DTSTAMP:20260419T205548
CREATED:20230526T160503Z
LAST-MODIFIED:20231201T194406Z
UID:10000731-1703059200-1703062800@fmc-cu.org
SUMMARY:Wednesday Morning Zoom Bible Study (meets over Zoom)
DESCRIPTION:Early risers – join us online for a time of study and discussion. Email Pastor Michael for the Zoom link.
URL:https://fmc-cu.org/event/early-morning-bible-study-meets-over-zoom-2/2023-12-20/
LOCATION:Zoom
CATEGORIES:Bible Study & Prayer
ORGANIZER;CN="Pastor Michael Crosby":MAILTO:michael.crosby@fmc-cu.org
END:VEVENT
END:VCALENDAR