BEGIN:VCALENDAR
VERSION:2.0
PRODID:-//First Mennonite Church of Champaign-Urbana - ECPv6.15.20//NONSGML v1.0//EN
CALSCALE:GREGORIAN
METHOD:PUBLISH
X-ORIGINAL-URL:https://fmc-cu.org
X-WR-CALDESC:Events for First Mennonite Church of Champaign-Urbana
REFRESH-INTERVAL;VALUE=DURATION:PT1H
X-Robots-Tag:noindex
X-PUBLISHED-TTL:PT1H
BEGIN:VTIMEZONE
TZID:America/Chicago
BEGIN:DAYLIGHT
TZOFFSETFROM:-0600
TZOFFSETTO:-0500
TZNAME:CDT
DTSTART:20210314T080000
END:DAYLIGHT
BEGIN:STANDARD
TZOFFSETFROM:-0500
TZOFFSETTO:-0600
TZNAME:CST
DTSTART:20211107T070000
END:STANDARD
BEGIN:DAYLIGHT
TZOFFSETFROM:-0600
TZOFFSETTO:-0500
TZNAME:CDT
DTSTART:20220313T080000
END:DAYLIGHT
BEGIN:STANDARD
TZOFFSETFROM:-0500
TZOFFSETTO:-0600
TZNAME:CST
DTSTART:20221106T070000
END:STANDARD
BEGIN:DAYLIGHT
TZOFFSETFROM:-0600
TZOFFSETTO:-0500
TZNAME:CDT
DTSTART:20230312T080000
END:DAYLIGHT
BEGIN:STANDARD
TZOFFSETFROM:-0500
TZOFFSETTO:-0600
TZNAME:CST
DTSTART:20231105T070000
END:STANDARD
BEGIN:DAYLIGHT
TZOFFSETFROM:-0600
TZOFFSETTO:-0500
TZNAME:CDT
DTSTART:20240310T080000
END:DAYLIGHT
BEGIN:STANDARD
TZOFFSETFROM:-0500
TZOFFSETTO:-0600
TZNAME:CST
DTSTART:20241103T070000
END:STANDARD
END:VTIMEZONE
BEGIN:VEVENT
DTSTART;TZID=America/Chicago:20230202T150000
DTEND;TZID=America/Chicago:20230202T163000
DTSTAMP:20260425T131616
CREATED:20221230T155454Z
LAST-MODIFIED:20221230T155454Z
UID:10000018-1675350000-1675355400@fmc-cu.org
SUMMARY:Racial Justice Working Group (Zoom)
DESCRIPTION:This group provides a space for anti-racism education\, advocacy\, and mutual accountability in our church and community.
URL:https://fmc-cu.org/event/racial-justice-working-group-2/2023-02-02/
LOCATION:Zoom
CATEGORIES:FMC Meetings
ORGANIZER;CN="Pastor Michael Crosby":MAILTO:michael.crosby@fmc-cu.org
END:VEVENT
BEGIN:VEVENT
DTSTART;TZID=America/Chicago:20230126T160000
DTEND;TZID=America/Chicago:20230126T173000
DTSTAMP:20260425T131616
CREATED:20210730T192315Z
LAST-MODIFIED:20220201T194305Z
UID:10000104-1674748800-1674754200@fmc-cu.org
SUMMARY:Service & Outreach Committee (Zoom)
DESCRIPTION:The Service and Outreach Committee reaches out to and welcomes people who wish to know more about the church. The committee also coordinates FMC service projects in the community and beyond.
URL:https://fmc-cu.org/event/service-outreach-committee-2021-11-18/2023-01-26/
LOCATION:Zoom
CATEGORIES:FMC Meetings
ORGANIZER;CN="Pastor Michael Crosby":MAILTO:michael.crosby@fmc-cu.org
END:VEVENT
BEGIN:VEVENT
DTSTART;TZID=America/Chicago:20230126T160000
DTEND;TZID=America/Chicago:20230126T173000
DTSTAMP:20260425T131616
CREATED:20210730T192315Z
LAST-MODIFIED:20230210T165546Z
UID:10000001-1674748800-1674754200@fmc-cu.org
SUMMARY:Service & Outreach Committee (Zoom)
DESCRIPTION:The Service and Outreach Committee reaches out to and welcomes people who wish to know more about the church. The committee also coordinates FMC service projects in the community and beyond.
URL:https://fmc-cu.org/event/service-outreach-committee-2021-11-18-2022-09-22/2023-01-26/
LOCATION:Zoom
CATEGORIES:FMC Meetings
ORGANIZER;CN="Pastor Michael Crosby":MAILTO:michael.crosby@fmc-cu.org
END:VEVENT
BEGIN:VEVENT
DTSTART;TZID=America/Chicago:20230105T150000
DTEND;TZID=America/Chicago:20230105T163000
DTSTAMP:20260425T131616
CREATED:20231220T192453Z
LAST-MODIFIED:20231220T192454Z
UID:10002303-1672930800-1672936200@fmc-cu.org
SUMMARY:Racial Justice Working Group (Zoom)
DESCRIPTION:This group provides a space for anti-racism education\, advocacy\, and mutual accountability in our church and community.
URL:https://fmc-cu.org/event/racial-justice-working-group-2-2-2/2023-01-05/
LOCATION:Zoom
CATEGORIES:FMC Meetings
ORGANIZER;CN="Pastor Michael Crosby":MAILTO:michael.crosby@fmc-cu.org
END:VEVENT
BEGIN:VEVENT
DTSTART;TZID=America/Chicago:20230105T150000
DTEND;TZID=America/Chicago:20230105T163000
DTSTAMP:20260425T131616
CREATED:20221230T155454Z
LAST-MODIFIED:20221230T155454Z
UID:10000017-1672930800-1672936200@fmc-cu.org
SUMMARY:Racial Justice Working Group (Zoom)
DESCRIPTION:This group provides a space for anti-racism education\, advocacy\, and mutual accountability in our church and community.
URL:https://fmc-cu.org/event/racial-justice-working-group-2/2023-01-05/
LOCATION:Zoom
CATEGORIES:FMC Meetings
ORGANIZER;CN="Pastor Michael Crosby":MAILTO:michael.crosby@fmc-cu.org
END:VEVENT
BEGIN:VEVENT
DTSTART;TZID=America/Chicago:20221201T163000
DTEND;TZID=America/Chicago:20221201T183000
DTSTAMP:20260425T131616
CREATED:20210730T192315Z
LAST-MODIFIED:20221028T155430Z
UID:10000643-1669912200-1669919400@fmc-cu.org
SUMMARY:Service & Outreach Committee (Zoom)
DESCRIPTION:The Service and Outreach Committee reaches out to and welcomes people who wish to know more about the church. The committee also coordinates FMC service projects in the community and beyond.
URL:https://fmc-cu.org/event/service-outreach-committee-2021-11-18-2022-11-24/
LOCATION:Zoom
CATEGORIES:FMC Meetings
ORGANIZER;CN="Pastor Michael Crosby":MAILTO:michael.crosby@fmc-cu.org
END:VEVENT
BEGIN:VEVENT
DTSTART;TZID=America/Chicago:20221027T160000
DTEND;TZID=America/Chicago:20221027T173000
DTSTAMP:20260425T131616
CREATED:20210730T192315Z
LAST-MODIFIED:20220201T194305Z
UID:10000102-1666886400-1666891800@fmc-cu.org
SUMMARY:Service & Outreach Committee (Zoom)
DESCRIPTION:The Service and Outreach Committee reaches out to and welcomes people who wish to know more about the church. The committee also coordinates FMC service projects in the community and beyond.
URL:https://fmc-cu.org/event/service-outreach-committee-2021-11-18/2022-10-27/
LOCATION:Zoom
CATEGORIES:FMC Meetings
ORGANIZER;CN="Pastor Michael Crosby":MAILTO:michael.crosby@fmc-cu.org
END:VEVENT
BEGIN:VEVENT
DTSTART;TZID=America/Chicago:20221006T150000
DTEND;TZID=America/Chicago:20221006T163000
DTSTAMP:20260425T131616
CREATED:20210716T183326Z
LAST-MODIFIED:20220120T183441Z
UID:10000014-1665068400-1665073800@fmc-cu.org
SUMMARY:Racial Justice Working Group (Zoom)
DESCRIPTION:This group provides a space for anti-racism education\, advocacy\, and mutual accountability in our church and community.
URL:https://fmc-cu.org/event/racial-justice-working-group/2022-10-06/
LOCATION:Zoom
CATEGORIES:FMC Meetings
ORGANIZER;CN="Pastor Michael Crosby":MAILTO:michael.crosby@fmc-cu.org
END:VEVENT
BEGIN:VEVENT
DTSTART;TZID=America/Chicago:20220901T150000
DTEND;TZID=America/Chicago:20220901T163000
DTSTAMP:20260425T131616
CREATED:20210716T183326Z
LAST-MODIFIED:20220120T183441Z
UID:10000013-1662044400-1662049800@fmc-cu.org
SUMMARY:Racial Justice Working Group (Zoom)
DESCRIPTION:This group provides a space for anti-racism education\, advocacy\, and mutual accountability in our church and community.
URL:https://fmc-cu.org/event/racial-justice-working-group/2022-09-01/
LOCATION:Zoom
CATEGORIES:FMC Meetings
ORGANIZER;CN="Pastor Michael Crosby":MAILTO:michael.crosby@fmc-cu.org
END:VEVENT
BEGIN:VEVENT
DTSTART;TZID=America/Chicago:20220825T160000
DTEND;TZID=America/Chicago:20220825T173000
DTSTAMP:20260425T131616
CREATED:20210730T192315Z
LAST-MODIFIED:20220201T194305Z
UID:10000101-1661443200-1661448600@fmc-cu.org
SUMMARY:Service & Outreach Committee (Zoom)
DESCRIPTION:The Service and Outreach Committee reaches out to and welcomes people who wish to know more about the church. The committee also coordinates FMC service projects in the community and beyond.
URL:https://fmc-cu.org/event/service-outreach-committee-2021-11-18/2022-08-25/
LOCATION:Zoom
CATEGORIES:FMC Meetings
ORGANIZER;CN="Pastor Michael Crosby":MAILTO:michael.crosby@fmc-cu.org
END:VEVENT
BEGIN:VEVENT
DTSTART;TZID=America/Chicago:20220804T150000
DTEND;TZID=America/Chicago:20220804T163000
DTSTAMP:20260425T131616
CREATED:20210716T183326Z
LAST-MODIFIED:20220120T183441Z
UID:10000012-1659625200-1659630600@fmc-cu.org
SUMMARY:Racial Justice Working Group (Zoom)
DESCRIPTION:This group provides a space for anti-racism education\, advocacy\, and mutual accountability in our church and community.
URL:https://fmc-cu.org/event/racial-justice-working-group/2022-08-04/
LOCATION:Zoom
CATEGORIES:FMC Meetings
ORGANIZER;CN="Pastor Michael Crosby":MAILTO:michael.crosby@fmc-cu.org
END:VEVENT
BEGIN:VEVENT
DTSTART;TZID=America/Chicago:20220728T160000
DTEND;TZID=America/Chicago:20220728T173000
DTSTAMP:20260425T131616
CREATED:20210730T192315Z
LAST-MODIFIED:20220201T194305Z
UID:10000100-1659024000-1659029400@fmc-cu.org
SUMMARY:Service & Outreach Committee (Zoom)
DESCRIPTION:The Service and Outreach Committee reaches out to and welcomes people who wish to know more about the church. The committee also coordinates FMC service projects in the community and beyond.
URL:https://fmc-cu.org/event/service-outreach-committee-2021-11-18/2022-07-28/
LOCATION:Zoom
CATEGORIES:FMC Meetings
ORGANIZER;CN="Pastor Michael Crosby":MAILTO:michael.crosby@fmc-cu.org
END:VEVENT
BEGIN:VEVENT
DTSTART;TZID=America/Chicago:20220707T150000
DTEND;TZID=America/Chicago:20220707T163000
DTSTAMP:20260425T131616
CREATED:20210716T183326Z
LAST-MODIFIED:20220120T183441Z
UID:10000011-1657206000-1657211400@fmc-cu.org
SUMMARY:Racial Justice Working Group (Zoom)
DESCRIPTION:This group provides a space for anti-racism education\, advocacy\, and mutual accountability in our church and community.
URL:https://fmc-cu.org/event/racial-justice-working-group/2022-07-07/
LOCATION:Zoom
CATEGORIES:FMC Meetings
ORGANIZER;CN="Pastor Michael Crosby":MAILTO:michael.crosby@fmc-cu.org
END:VEVENT
BEGIN:VEVENT
DTSTART;TZID=America/Chicago:20220623T160000
DTEND;TZID=America/Chicago:20220623T173000
DTSTAMP:20260425T131616
CREATED:20210730T192315Z
LAST-MODIFIED:20220201T194305Z
UID:10000099-1656000000-1656005400@fmc-cu.org
SUMMARY:Service & Outreach Committee (Zoom)
DESCRIPTION:The Service and Outreach Committee reaches out to and welcomes people who wish to know more about the church. The committee also coordinates FMC service projects in the community and beyond.
URL:https://fmc-cu.org/event/service-outreach-committee-2021-11-18/2022-06-23/
LOCATION:Zoom
CATEGORIES:FMC Meetings
ORGANIZER;CN="Pastor Michael Crosby":MAILTO:michael.crosby@fmc-cu.org
END:VEVENT
BEGIN:VEVENT
DTSTART;TZID=America/Chicago:20220602T150000
DTEND;TZID=America/Chicago:20220602T163000
DTSTAMP:20260425T131616
CREATED:20210716T183326Z
LAST-MODIFIED:20220120T183441Z
UID:10000010-1654182000-1654187400@fmc-cu.org
SUMMARY:Racial Justice Working Group (Zoom)
DESCRIPTION:This group provides a space for anti-racism education\, advocacy\, and mutual accountability in our church and community.
URL:https://fmc-cu.org/event/racial-justice-working-group/2022-06-02/
LOCATION:Zoom
CATEGORIES:FMC Meetings
ORGANIZER;CN="Pastor Michael Crosby":MAILTO:michael.crosby@fmc-cu.org
END:VEVENT
BEGIN:VEVENT
DTSTART;TZID=America/Chicago:20220526T160000
DTEND;TZID=America/Chicago:20220526T173000
DTSTAMP:20260425T131616
CREATED:20210730T192315Z
LAST-MODIFIED:20220201T194305Z
UID:10000098-1653580800-1653586200@fmc-cu.org
SUMMARY:Service & Outreach Committee (Zoom)
DESCRIPTION:The Service and Outreach Committee reaches out to and welcomes people who wish to know more about the church. The committee also coordinates FMC service projects in the community and beyond.
URL:https://fmc-cu.org/event/service-outreach-committee-2021-11-18/2022-05-26/
LOCATION:Zoom
CATEGORIES:FMC Meetings
ORGANIZER;CN="Pastor Michael Crosby":MAILTO:michael.crosby@fmc-cu.org
END:VEVENT
BEGIN:VEVENT
DTSTART;TZID=America/Chicago:20220505T150000
DTEND;TZID=America/Chicago:20220505T163000
DTSTAMP:20260425T131616
CREATED:20210716T183326Z
LAST-MODIFIED:20220120T183441Z
UID:10000009-1651762800-1651768200@fmc-cu.org
SUMMARY:Racial Justice Working Group (Zoom)
DESCRIPTION:This group provides a space for anti-racism education\, advocacy\, and mutual accountability in our church and community.
URL:https://fmc-cu.org/event/racial-justice-working-group/2022-05-05/
LOCATION:Zoom
CATEGORIES:FMC Meetings
ORGANIZER;CN="Pastor Michael Crosby":MAILTO:michael.crosby@fmc-cu.org
END:VEVENT
BEGIN:VEVENT
DTSTART;TZID=America/Chicago:20220428T160000
DTEND;TZID=America/Chicago:20220428T173000
DTSTAMP:20260425T131616
CREATED:20210730T192315Z
LAST-MODIFIED:20220201T194305Z
UID:10000097-1651161600-1651167000@fmc-cu.org
SUMMARY:Service & Outreach Committee (Zoom)
DESCRIPTION:The Service and Outreach Committee reaches out to and welcomes people who wish to know more about the church. The committee also coordinates FMC service projects in the community and beyond.
URL:https://fmc-cu.org/event/service-outreach-committee-2021-11-18/2022-04-28/
LOCATION:Zoom
CATEGORIES:FMC Meetings
ORGANIZER;CN="Pastor Michael Crosby":MAILTO:michael.crosby@fmc-cu.org
END:VEVENT
BEGIN:VEVENT
DTSTART;TZID=America/Chicago:20220407T150000
DTEND;TZID=America/Chicago:20220407T163000
DTSTAMP:20260425T131616
CREATED:20210716T183326Z
LAST-MODIFIED:20220120T183441Z
UID:10000008-1649343600-1649349000@fmc-cu.org
SUMMARY:Racial Justice Working Group (Zoom)
DESCRIPTION:This group provides a space for anti-racism education\, advocacy\, and mutual accountability in our church and community.
URL:https://fmc-cu.org/event/racial-justice-working-group/2022-04-07/
LOCATION:Zoom
CATEGORIES:FMC Meetings
ORGANIZER;CN="Pastor Michael Crosby":MAILTO:michael.crosby@fmc-cu.org
END:VEVENT
BEGIN:VEVENT
DTSTART;TZID=America/Chicago:20220324T160000
DTEND;TZID=America/Chicago:20220324T173000
DTSTAMP:20260425T131616
CREATED:20210730T192315Z
LAST-MODIFIED:20220201T194305Z
UID:10000096-1648137600-1648143000@fmc-cu.org
SUMMARY:Service & Outreach Committee (Zoom)
DESCRIPTION:The Service and Outreach Committee reaches out to and welcomes people who wish to know more about the church. The committee also coordinates FMC service projects in the community and beyond.
URL:https://fmc-cu.org/event/service-outreach-committee-2021-11-18/2022-03-24/
LOCATION:Zoom
CATEGORIES:FMC Meetings
ORGANIZER;CN="Pastor Michael Crosby":MAILTO:michael.crosby@fmc-cu.org
END:VEVENT
BEGIN:VEVENT
DTSTART;TZID=America/Chicago:20220303T150000
DTEND;TZID=America/Chicago:20220303T163000
DTSTAMP:20260425T131616
CREATED:20210716T183326Z
LAST-MODIFIED:20220120T183441Z
UID:10000007-1646319600-1646325000@fmc-cu.org
SUMMARY:Racial Justice Working Group (Zoom)
DESCRIPTION:This group provides a space for anti-racism education\, advocacy\, and mutual accountability in our church and community.
URL:https://fmc-cu.org/event/racial-justice-working-group/2022-03-03/
LOCATION:Zoom
CATEGORIES:FMC Meetings
ORGANIZER;CN="Pastor Michael Crosby":MAILTO:michael.crosby@fmc-cu.org
END:VEVENT
BEGIN:VEVENT
DTSTART;TZID=America/Chicago:20220224T160000
DTEND;TZID=America/Chicago:20220224T173000
DTSTAMP:20260425T131616
CREATED:20210730T192315Z
LAST-MODIFIED:20220201T194305Z
UID:10000095-1645718400-1645723800@fmc-cu.org
SUMMARY:Service & Outreach Committee (Zoom)
DESCRIPTION:The Service and Outreach Committee reaches out to and welcomes people who wish to know more about the church. The committee also coordinates FMC service projects in the community and beyond.
URL:https://fmc-cu.org/event/service-outreach-committee-2021-11-18/2022-02-24/
LOCATION:Zoom
CATEGORIES:FMC Meetings
ORGANIZER;CN="Pastor Michael Crosby":MAILTO:michael.crosby@fmc-cu.org
END:VEVENT
BEGIN:VEVENT
DTSTART;TZID=America/Chicago:20220222T183000
DTEND;TZID=America/Chicago:20220222T203000
DTSTAMP:20260425T131616
CREATED:20220111T201753Z
LAST-MODIFIED:20220111T201911Z
UID:10001020-1645554600-1645561800@fmc-cu.org
SUMMARY:Anti-racism Audit Committee meeting (Zoom)
DESCRIPTION:
URL:https://fmc-cu.org/event/anti-racism-audit-committee-meeting-zoom/2022-02-22/
LOCATION:Zoom
CATEGORIES:FMC Meetings
ORGANIZER;CN="FMC Office":MAILTO:office@fmc-cu.org
END:VEVENT
BEGIN:VEVENT
DTSTART;TZID=America/Chicago:20220215T183000
DTEND;TZID=America/Chicago:20220215T203000
DTSTAMP:20260425T131616
CREATED:20220111T201753Z
LAST-MODIFIED:20220111T201911Z
UID:10001019-1644949800-1644957000@fmc-cu.org
SUMMARY:Anti-racism Audit Committee meeting (Zoom)
DESCRIPTION:
URL:https://fmc-cu.org/event/anti-racism-audit-committee-meeting-zoom/2022-02-15/
LOCATION:Zoom
CATEGORIES:FMC Meetings
ORGANIZER;CN="FMC Office":MAILTO:office@fmc-cu.org
END:VEVENT
BEGIN:VEVENT
DTSTART;TZID=America/Chicago:20220208T183000
DTEND;TZID=America/Chicago:20220208T203000
DTSTAMP:20260425T131616
CREATED:20220111T201753Z
LAST-MODIFIED:20220111T201911Z
UID:10001018-1644345000-1644352200@fmc-cu.org
SUMMARY:Anti-racism Audit Committee meeting (Zoom)
DESCRIPTION:
URL:https://fmc-cu.org/event/anti-racism-audit-committee-meeting-zoom/2022-02-08/
LOCATION:Zoom
CATEGORIES:FMC Meetings
ORGANIZER;CN="FMC Office":MAILTO:office@fmc-cu.org
END:VEVENT
BEGIN:VEVENT
DTSTART;TZID=America/Chicago:20220203T150000
DTEND;TZID=America/Chicago:20220203T163000
DTSTAMP:20260425T131616
CREATED:20210716T183326Z
LAST-MODIFIED:20220120T183441Z
UID:10000006-1643900400-1643905800@fmc-cu.org
SUMMARY:Racial Justice Working Group (Zoom)
DESCRIPTION:This group provides a space for anti-racism education\, advocacy\, and mutual accountability in our church and community.
URL:https://fmc-cu.org/event/racial-justice-working-group/2022-02-03/
LOCATION:Zoom
CATEGORIES:FMC Meetings
ORGANIZER;CN="Pastor Michael Crosby":MAILTO:michael.crosby@fmc-cu.org
END:VEVENT
BEGIN:VEVENT
DTSTART;TZID=America/Chicago:20220201T183000
DTEND;TZID=America/Chicago:20220201T203000
DTSTAMP:20260425T131616
CREATED:20220111T201753Z
LAST-MODIFIED:20220111T201911Z
UID:10001017-1643740200-1643747400@fmc-cu.org
SUMMARY:Anti-racism Audit Committee meeting (Zoom)
DESCRIPTION:
URL:https://fmc-cu.org/event/anti-racism-audit-committee-meeting-zoom/2022-02-01/
LOCATION:Zoom
CATEGORIES:FMC Meetings
ORGANIZER;CN="FMC Office":MAILTO:office@fmc-cu.org
END:VEVENT
BEGIN:VEVENT
DTSTART;TZID=America/Chicago:20220129T163000
DTEND;TZID=America/Chicago:20220129T180000
DTSTAMP:20260425T131616
CREATED:20220120T183949Z
LAST-MODIFIED:20220120T183949Z
UID:10001024-1643473800-1643479200@fmc-cu.org
SUMMARY:Lent Planning Committee (Zoom)
DESCRIPTION:
URL:https://fmc-cu.org/event/lent-planning-committee-zoom/
LOCATION:Zoom
CATEGORIES:FMC Meetings
ORGANIZER;CN="Associate Pastor Deb Sutter":MAILTO:debra.sutter@fmc-cu.org
END:VEVENT
BEGIN:VEVENT
DTSTART;TZID=America/Chicago:20220125T183000
DTEND;TZID=America/Chicago:20220125T203000
DTSTAMP:20260425T131616
CREATED:20220111T201753Z
LAST-MODIFIED:20220111T201911Z
UID:10001016-1643135400-1643142600@fmc-cu.org
SUMMARY:Anti-racism Audit Committee meeting (Zoom)
DESCRIPTION:
URL:https://fmc-cu.org/event/anti-racism-audit-committee-meeting-zoom/2022-01-25/
LOCATION:Zoom
CATEGORIES:FMC Meetings
ORGANIZER;CN="FMC Office":MAILTO:office@fmc-cu.org
END:VEVENT
BEGIN:VEVENT
DTSTART;TZID=America/Chicago:20220121T131500
DTEND;TZID=America/Chicago:20220121T141500
DTSTAMP:20260425T131616
CREATED:20220118T201500Z
LAST-MODIFIED:20220118T201509Z
UID:10001021-1642770900-1642774500@fmc-cu.org
SUMMARY:Colombia Sister Church Committee (Zoom)
DESCRIPTION:Iglesia Evangelica Luterana el Divino Redentor (IELEDIR) is a Lutheran congregation located in Bucaramanga\, a city of a half million people in northeast Colombia. \nSince 2003\, FMC and IELEDIR have developed and sustained a mutually supportive relationship based on prayer and the exchange of ideas\, people\, theology\, resources\, and experiences to strengthen and support both congregations in peace making\, community building\, advocacy and their work to build God’s Kingdom on earth. \nThe Colombia Sister Church Committee serves to support our relationship with IELEDIR.
URL:https://fmc-cu.org/event/colombia-sister-church-committee-zoom/
LOCATION:Zoom
CATEGORIES:FMC Meetings
ORGANIZER;CN="FMC Office":MAILTO:office@fmc-cu.org
END:VEVENT
END:VCALENDAR