BEGIN:VCALENDAR
VERSION:2.0
PRODID:-//First Mennonite Church of Champaign-Urbana - ECPv6.15.20//NONSGML v1.0//EN
CALSCALE:GREGORIAN
METHOD:PUBLISH
X-WR-CALNAME:First Mennonite Church of Champaign-Urbana
X-ORIGINAL-URL:https://fmc-cu.org
X-WR-CALDESC:Events for First Mennonite Church of Champaign-Urbana
REFRESH-INTERVAL;VALUE=DURATION:PT1H
X-Robots-Tag:noindex
X-PUBLISHED-TTL:PT1H
BEGIN:VTIMEZONE
TZID:America/Chicago
BEGIN:DAYLIGHT
TZOFFSETFROM:-0600
TZOFFSETTO:-0500
TZNAME:CDT
DTSTART:20220313T080000
END:DAYLIGHT
BEGIN:STANDARD
TZOFFSETFROM:-0500
TZOFFSETTO:-0600
TZNAME:CST
DTSTART:20221106T070000
END:STANDARD
BEGIN:DAYLIGHT
TZOFFSETFROM:-0600
TZOFFSETTO:-0500
TZNAME:CDT
DTSTART:20230312T080000
END:DAYLIGHT
BEGIN:STANDARD
TZOFFSETFROM:-0500
TZOFFSETTO:-0600
TZNAME:CST
DTSTART:20231105T070000
END:STANDARD
BEGIN:DAYLIGHT
TZOFFSETFROM:-0600
TZOFFSETTO:-0500
TZNAME:CDT
DTSTART:20240310T080000
END:DAYLIGHT
BEGIN:STANDARD
TZOFFSETFROM:-0500
TZOFFSETTO:-0600
TZNAME:CST
DTSTART:20241103T070000
END:STANDARD
END:VTIMEZONE
BEGIN:VEVENT
DTSTART;TZID=America/Chicago:20231115T080000
DTEND;TZID=America/Chicago:20231115T090000
DTSTAMP:20260421T032941
CREATED:20230526T160503Z
LAST-MODIFIED:20231201T194406Z
UID:10000726-1700035200-1700038800@fmc-cu.org
SUMMARY:Wednesday Morning Zoom Bible Study (meets over Zoom)
DESCRIPTION:Early risers – join us online for a time of study and discussion. Email Pastor Michael for the Zoom link.
URL:https://fmc-cu.org/event/early-morning-bible-study-meets-over-zoom-2/2023-11-15/
LOCATION:Zoom
CATEGORIES:Bible Study & Prayer
ORGANIZER;CN="Pastor Michael Crosby":MAILTO:michael.crosby@fmc-cu.org
END:VEVENT
BEGIN:VEVENT
DTSTART;TZID=America/Chicago:20231108T080000
DTEND;TZID=America/Chicago:20231108T090000
DTSTAMP:20260421T032941
CREATED:20230526T160503Z
LAST-MODIFIED:20231201T194406Z
UID:10000725-1699430400-1699434000@fmc-cu.org
SUMMARY:Wednesday Morning Zoom Bible Study (meets over Zoom)
DESCRIPTION:Early risers – join us online for a time of study and discussion. Email Pastor Michael for the Zoom link.
URL:https://fmc-cu.org/event/early-morning-bible-study-meets-over-zoom-2/2023-11-08/
LOCATION:Zoom
CATEGORIES:Bible Study & Prayer
ORGANIZER;CN="Pastor Michael Crosby":MAILTO:michael.crosby@fmc-cu.org
END:VEVENT
BEGIN:VEVENT
DTSTART;TZID=America/Chicago:20231102T150000
DTEND;TZID=America/Chicago:20231102T163000
DTSTAMP:20260421T032941
CREATED:20231220T192453Z
LAST-MODIFIED:20231220T192454Z
UID:10002312-1698937200-1698942600@fmc-cu.org
SUMMARY:Racial Justice Working Group (Zoom)
DESCRIPTION:This group provides a space for anti-racism education\, advocacy\, and mutual accountability in our church and community.
URL:https://fmc-cu.org/event/racial-justice-working-group-2-2-2/2023-11-02/
LOCATION:Zoom
CATEGORIES:FMC Meetings
ORGANIZER;CN="Pastor Michael Crosby":MAILTO:michael.crosby@fmc-cu.org
END:VEVENT
BEGIN:VEVENT
DTSTART;TZID=America/Chicago:20231102T150000
DTEND;TZID=America/Chicago:20231102T163000
DTSTAMP:20260421T032941
CREATED:20230525T175115Z
LAST-MODIFIED:20230525T175347Z
UID:10000027-1698937200-1698942600@fmc-cu.org
SUMMARY:Racial Justice Working Group (Zoom)
DESCRIPTION:This group provides a space for anti-racism education\, advocacy\, and mutual accountability in our church and community.
URL:https://fmc-cu.org/event/racial-justice-working-group-2-2/2023-11-02/
LOCATION:Zoom
CATEGORIES:FMC Meetings
ORGANIZER;CN="Pastor Michael Crosby":MAILTO:michael.crosby@fmc-cu.org
END:VEVENT
BEGIN:VEVENT
DTSTART;TZID=America/Chicago:20231101T080000
DTEND;TZID=America/Chicago:20231101T090000
DTSTAMP:20260421T032941
CREATED:20230526T160503Z
LAST-MODIFIED:20231201T194406Z
UID:10000724-1698825600-1698829200@fmc-cu.org
SUMMARY:Wednesday Morning Zoom Bible Study (meets over Zoom)
DESCRIPTION:Early risers – join us online for a time of study and discussion. Email Pastor Michael for the Zoom link.
URL:https://fmc-cu.org/event/early-morning-bible-study-meets-over-zoom-2/2023-11-01/
LOCATION:Zoom
CATEGORIES:Bible Study & Prayer
ORGANIZER;CN="Pastor Michael Crosby":MAILTO:michael.crosby@fmc-cu.org
END:VEVENT
BEGIN:VEVENT
DTSTART;TZID=America/Chicago:20231027T150000
DTEND;TZID=America/Chicago:20231027T160000
DTSTAMP:20260421T032941
CREATED:20230428T181955Z
LAST-MODIFIED:20230428T181955Z
UID:10001589-1698418800-1698422400@fmc-cu.org
SUMMARY:Repair Network Prayer & Action Hour-Zoom
DESCRIPTION:FMC is part of a Dismantling the Doctrine of Discovery Coalition of congregations that supports church communities in education\, solidarity and reparative action alongside Indigenous Peoples. The Coalition meets via Zoom each month for prayer and action. Click here to view the calendar and to sign up for the Zoom link.\n \n 
URL:https://fmc-cu.org/event/repair-network-prayer-action-hour-zoom/2023-10-27/
LOCATION:Zoom
ORGANIZER;CN="Pastor Michael Crosby":MAILTO:michael.crosby@fmc-cu.org
END:VEVENT
BEGIN:VEVENT
DTSTART;TZID=America/Chicago:20231025T080000
DTEND;TZID=America/Chicago:20231025T090000
DTSTAMP:20260421T032941
CREATED:20230526T160503Z
LAST-MODIFIED:20231201T194406Z
UID:10000723-1698220800-1698224400@fmc-cu.org
SUMMARY:Wednesday Morning Zoom Bible Study (meets over Zoom)
DESCRIPTION:Early risers – join us online for a time of study and discussion. Email Pastor Michael for the Zoom link.
URL:https://fmc-cu.org/event/early-morning-bible-study-meets-over-zoom-2/2023-10-25/
LOCATION:Zoom
CATEGORIES:Bible Study & Prayer
ORGANIZER;CN="Pastor Michael Crosby":MAILTO:michael.crosby@fmc-cu.org
END:VEVENT
BEGIN:VEVENT
DTSTART;TZID=America/Chicago:20231018T080000
DTEND;TZID=America/Chicago:20231018T090000
DTSTAMP:20260421T032941
CREATED:20230526T160503Z
LAST-MODIFIED:20231201T194406Z
UID:10000722-1697616000-1697619600@fmc-cu.org
SUMMARY:Wednesday Morning Zoom Bible Study (meets over Zoom)
DESCRIPTION:Early risers – join us online for a time of study and discussion. Email Pastor Michael for the Zoom link.
URL:https://fmc-cu.org/event/early-morning-bible-study-meets-over-zoom-2/2023-10-18/
LOCATION:Zoom
CATEGORIES:Bible Study & Prayer
ORGANIZER;CN="Pastor Michael Crosby":MAILTO:michael.crosby@fmc-cu.org
END:VEVENT
BEGIN:VEVENT
DTSTART;TZID=America/Chicago:20231011T080000
DTEND;TZID=America/Chicago:20231011T090000
DTSTAMP:20260421T032941
CREATED:20230526T160503Z
LAST-MODIFIED:20231201T194406Z
UID:10000721-1697011200-1697014800@fmc-cu.org
SUMMARY:Wednesday Morning Zoom Bible Study (meets over Zoom)
DESCRIPTION:Early risers – join us online for a time of study and discussion. Email Pastor Michael for the Zoom link.
URL:https://fmc-cu.org/event/early-morning-bible-study-meets-over-zoom-2/2023-10-11/
LOCATION:Zoom
CATEGORIES:Bible Study & Prayer
ORGANIZER;CN="Pastor Michael Crosby":MAILTO:michael.crosby@fmc-cu.org
END:VEVENT
BEGIN:VEVENT
DTSTART;TZID=America/Chicago:20231005T150000
DTEND;TZID=America/Chicago:20231005T163000
DTSTAMP:20260421T032941
CREATED:20231220T192453Z
LAST-MODIFIED:20231220T192454Z
UID:10002311-1696518000-1696523400@fmc-cu.org
SUMMARY:Racial Justice Working Group (Zoom)
DESCRIPTION:This group provides a space for anti-racism education\, advocacy\, and mutual accountability in our church and community.
URL:https://fmc-cu.org/event/racial-justice-working-group-2-2-2/2023-10-05/
LOCATION:Zoom
CATEGORIES:FMC Meetings
ORGANIZER;CN="Pastor Michael Crosby":MAILTO:michael.crosby@fmc-cu.org
END:VEVENT
BEGIN:VEVENT
DTSTART;TZID=America/Chicago:20231005T150000
DTEND;TZID=America/Chicago:20231005T163000
DTSTAMP:20260421T032941
CREATED:20230525T175115Z
LAST-MODIFIED:20230525T175347Z
UID:10000026-1696518000-1696523400@fmc-cu.org
SUMMARY:Racial Justice Working Group (Zoom)
DESCRIPTION:This group provides a space for anti-racism education\, advocacy\, and mutual accountability in our church and community.
URL:https://fmc-cu.org/event/racial-justice-working-group-2-2/2023-10-05/
LOCATION:Zoom
CATEGORIES:FMC Meetings
ORGANIZER;CN="Pastor Michael Crosby":MAILTO:michael.crosby@fmc-cu.org
END:VEVENT
BEGIN:VEVENT
DTSTART;TZID=America/Chicago:20231004T080000
DTEND;TZID=America/Chicago:20231004T090000
DTSTAMP:20260421T032941
CREATED:20230526T160503Z
LAST-MODIFIED:20231201T194406Z
UID:10000720-1696406400-1696410000@fmc-cu.org
SUMMARY:Wednesday Morning Zoom Bible Study (meets over Zoom)
DESCRIPTION:Early risers – join us online for a time of study and discussion. Email Pastor Michael for the Zoom link.
URL:https://fmc-cu.org/event/early-morning-bible-study-meets-over-zoom-2/2023-10-04/
LOCATION:Zoom
CATEGORIES:Bible Study & Prayer
ORGANIZER;CN="Pastor Michael Crosby":MAILTO:michael.crosby@fmc-cu.org
END:VEVENT
BEGIN:VEVENT
DTSTART;TZID=America/Chicago:20230928T160000
DTEND;TZID=America/Chicago:20230928T180000
DTSTAMP:20260421T032941
CREATED:20230322T162501Z
LAST-MODIFIED:20231220T192623Z
UID:10001905-1695916800-1695924000@fmc-cu.org
SUMMARY:Service & Outreach Committee (Zoom)
DESCRIPTION:The Service and Outreach Committee reaches out to and welcomes people who wish to know more about the church. The committee also coordinates FMC service projects in the community and beyond.
URL:https://fmc-cu.org/event/service-outreach-committee-2021-11-18-2022-09-22-2/2023-09-28/
LOCATION:Zoom
CATEGORIES:FMC Meetings
ORGANIZER;CN="Pastor Michael Crosby":MAILTO:michael.crosby@fmc-cu.org
END:VEVENT
BEGIN:VEVENT
DTSTART;TZID=America/Chicago:20230927T080000
DTEND;TZID=America/Chicago:20230927T090000
DTSTAMP:20260421T032941
CREATED:20230526T160503Z
LAST-MODIFIED:20231201T194406Z
UID:10000719-1695801600-1695805200@fmc-cu.org
SUMMARY:Wednesday Morning Zoom Bible Study (meets over Zoom)
DESCRIPTION:Early risers – join us online for a time of study and discussion. Email Pastor Michael for the Zoom link.
URL:https://fmc-cu.org/event/early-morning-bible-study-meets-over-zoom-2/2023-09-27/
LOCATION:Zoom
CATEGORIES:Bible Study & Prayer
ORGANIZER;CN="Pastor Michael Crosby":MAILTO:michael.crosby@fmc-cu.org
END:VEVENT
BEGIN:VEVENT
DTSTART;TZID=America/Chicago:20230922T150000
DTEND;TZID=America/Chicago:20230922T160000
DTSTAMP:20260421T032941
CREATED:20230428T181955Z
LAST-MODIFIED:20230428T181955Z
UID:10001588-1695394800-1695398400@fmc-cu.org
SUMMARY:Repair Network Prayer & Action Hour-Zoom
DESCRIPTION:FMC is part of a Dismantling the Doctrine of Discovery Coalition of congregations that supports church communities in education\, solidarity and reparative action alongside Indigenous Peoples. The Coalition meets via Zoom each month for prayer and action. Click here to view the calendar and to sign up for the Zoom link.\n \n 
URL:https://fmc-cu.org/event/repair-network-prayer-action-hour-zoom/2023-09-22/
LOCATION:Zoom
ORGANIZER;CN="Pastor Michael Crosby":MAILTO:michael.crosby@fmc-cu.org
END:VEVENT
BEGIN:VEVENT
DTSTART;TZID=America/Chicago:20230920T080000
DTEND;TZID=America/Chicago:20230920T090000
DTSTAMP:20260421T032941
CREATED:20230526T160503Z
LAST-MODIFIED:20231201T194406Z
UID:10000718-1695196800-1695200400@fmc-cu.org
SUMMARY:Wednesday Morning Zoom Bible Study (meets over Zoom)
DESCRIPTION:Early risers – join us online for a time of study and discussion. Email Pastor Michael for the Zoom link.
URL:https://fmc-cu.org/event/early-morning-bible-study-meets-over-zoom-2/2023-09-20/
LOCATION:Zoom
CATEGORIES:Bible Study & Prayer
ORGANIZER;CN="Pastor Michael Crosby":MAILTO:michael.crosby@fmc-cu.org
END:VEVENT
BEGIN:VEVENT
DTSTART;TZID=America/Chicago:20230913T080000
DTEND;TZID=America/Chicago:20230913T090000
DTSTAMP:20260421T032941
CREATED:20230526T160503Z
LAST-MODIFIED:20231201T194406Z
UID:10000717-1694592000-1694595600@fmc-cu.org
SUMMARY:Wednesday Morning Zoom Bible Study (meets over Zoom)
DESCRIPTION:Early risers – join us online for a time of study and discussion. Email Pastor Michael for the Zoom link.
URL:https://fmc-cu.org/event/early-morning-bible-study-meets-over-zoom-2/2023-09-13/
LOCATION:Zoom
CATEGORIES:Bible Study & Prayer
ORGANIZER;CN="Pastor Michael Crosby":MAILTO:michael.crosby@fmc-cu.org
END:VEVENT
BEGIN:VEVENT
DTSTART;TZID=America/Chicago:20230907T150000
DTEND;TZID=America/Chicago:20230907T163000
DTSTAMP:20260421T032941
CREATED:20231220T192453Z
LAST-MODIFIED:20231220T192454Z
UID:10002310-1694098800-1694104200@fmc-cu.org
SUMMARY:Racial Justice Working Group (Zoom)
DESCRIPTION:This group provides a space for anti-racism education\, advocacy\, and mutual accountability in our church and community.
URL:https://fmc-cu.org/event/racial-justice-working-group-2-2-2/2023-09-07/
LOCATION:Zoom
CATEGORIES:FMC Meetings
ORGANIZER;CN="Pastor Michael Crosby":MAILTO:michael.crosby@fmc-cu.org
END:VEVENT
BEGIN:VEVENT
DTSTART;TZID=America/Chicago:20230907T150000
DTEND;TZID=America/Chicago:20230907T163000
DTSTAMP:20260421T032941
CREATED:20230525T175115Z
LAST-MODIFIED:20230525T175347Z
UID:10000025-1694098800-1694104200@fmc-cu.org
SUMMARY:Racial Justice Working Group (Zoom)
DESCRIPTION:This group provides a space for anti-racism education\, advocacy\, and mutual accountability in our church and community.
URL:https://fmc-cu.org/event/racial-justice-working-group-2-2/2023-09-07/
LOCATION:Zoom
CATEGORIES:FMC Meetings
ORGANIZER;CN="Pastor Michael Crosby":MAILTO:michael.crosby@fmc-cu.org
END:VEVENT
BEGIN:VEVENT
DTSTART;TZID=America/Chicago:20230906T080000
DTEND;TZID=America/Chicago:20230906T090000
DTSTAMP:20260421T032941
CREATED:20230526T160503Z
LAST-MODIFIED:20231201T194406Z
UID:10000716-1693987200-1693990800@fmc-cu.org
SUMMARY:Wednesday Morning Zoom Bible Study (meets over Zoom)
DESCRIPTION:Early risers – join us online for a time of study and discussion. Email Pastor Michael for the Zoom link.
URL:https://fmc-cu.org/event/early-morning-bible-study-meets-over-zoom-2/2023-09-06/
LOCATION:Zoom
CATEGORIES:Bible Study & Prayer
ORGANIZER;CN="Pastor Michael Crosby":MAILTO:michael.crosby@fmc-cu.org
END:VEVENT
BEGIN:VEVENT
DTSTART;TZID=America/Chicago:20230830T080000
DTEND;TZID=America/Chicago:20230830T090000
DTSTAMP:20260421T032941
CREATED:20230526T160503Z
LAST-MODIFIED:20231201T194406Z
UID:10000715-1693382400-1693386000@fmc-cu.org
SUMMARY:Wednesday Morning Zoom Bible Study (meets over Zoom)
DESCRIPTION:Early risers – join us online for a time of study and discussion. Email Pastor Michael for the Zoom link.
URL:https://fmc-cu.org/event/early-morning-bible-study-meets-over-zoom-2/2023-08-30/
LOCATION:Zoom
CATEGORIES:Bible Study & Prayer
ORGANIZER;CN="Pastor Michael Crosby":MAILTO:michael.crosby@fmc-cu.org
END:VEVENT
BEGIN:VEVENT
DTSTART;TZID=America/Chicago:20230825T150000
DTEND;TZID=America/Chicago:20230825T160000
DTSTAMP:20260421T032941
CREATED:20230428T181955Z
LAST-MODIFIED:20230428T181955Z
UID:10001587-1692975600-1692979200@fmc-cu.org
SUMMARY:Repair Network Prayer & Action Hour-Zoom
DESCRIPTION:FMC is part of a Dismantling the Doctrine of Discovery Coalition of congregations that supports church communities in education\, solidarity and reparative action alongside Indigenous Peoples. The Coalition meets via Zoom each month for prayer and action. Click here to view the calendar and to sign up for the Zoom link.\n \n 
URL:https://fmc-cu.org/event/repair-network-prayer-action-hour-zoom/2023-08-25/
LOCATION:Zoom
ORGANIZER;CN="Pastor Michael Crosby":MAILTO:michael.crosby@fmc-cu.org
END:VEVENT
BEGIN:VEVENT
DTSTART;TZID=America/Chicago:20230823T080000
DTEND;TZID=America/Chicago:20230823T090000
DTSTAMP:20260421T032941
CREATED:20230526T160503Z
LAST-MODIFIED:20231201T194406Z
UID:10000714-1692777600-1692781200@fmc-cu.org
SUMMARY:Wednesday Morning Zoom Bible Study (meets over Zoom)
DESCRIPTION:Early risers – join us online for a time of study and discussion. Email Pastor Michael for the Zoom link.
URL:https://fmc-cu.org/event/early-morning-bible-study-meets-over-zoom-2/2023-08-23/
LOCATION:Zoom
CATEGORIES:Bible Study & Prayer
ORGANIZER;CN="Pastor Michael Crosby":MAILTO:michael.crosby@fmc-cu.org
END:VEVENT
BEGIN:VEVENT
DTSTART;TZID=America/Chicago:20230816T080000
DTEND;TZID=America/Chicago:20230816T090000
DTSTAMP:20260421T032941
CREATED:20230526T160503Z
LAST-MODIFIED:20231201T194406Z
UID:10000713-1692172800-1692176400@fmc-cu.org
SUMMARY:Wednesday Morning Zoom Bible Study (meets over Zoom)
DESCRIPTION:Early risers – join us online for a time of study and discussion. Email Pastor Michael for the Zoom link.
URL:https://fmc-cu.org/event/early-morning-bible-study-meets-over-zoom-2/2023-08-16/
LOCATION:Zoom
CATEGORIES:Bible Study & Prayer
ORGANIZER;CN="Pastor Michael Crosby":MAILTO:michael.crosby@fmc-cu.org
END:VEVENT
BEGIN:VEVENT
DTSTART;TZID=America/Chicago:20230809T080000
DTEND;TZID=America/Chicago:20230809T090000
DTSTAMP:20260421T032941
CREATED:20230526T160503Z
LAST-MODIFIED:20231201T194406Z
UID:10000712-1691568000-1691571600@fmc-cu.org
SUMMARY:Wednesday Morning Zoom Bible Study (meets over Zoom)
DESCRIPTION:Early risers – join us online for a time of study and discussion. Email Pastor Michael for the Zoom link.
URL:https://fmc-cu.org/event/early-morning-bible-study-meets-over-zoom-2/2023-08-09/
LOCATION:Zoom
CATEGORIES:Bible Study & Prayer
ORGANIZER;CN="Pastor Michael Crosby":MAILTO:michael.crosby@fmc-cu.org
END:VEVENT
BEGIN:VEVENT
DTSTART;TZID=America/Chicago:20230803T150000
DTEND;TZID=America/Chicago:20230803T163000
DTSTAMP:20260421T032941
CREATED:20231220T192453Z
LAST-MODIFIED:20231220T192454Z
UID:10002309-1691074800-1691080200@fmc-cu.org
SUMMARY:Racial Justice Working Group (Zoom)
DESCRIPTION:This group provides a space for anti-racism education\, advocacy\, and mutual accountability in our church and community.
URL:https://fmc-cu.org/event/racial-justice-working-group-2-2-2/2023-08-03/
LOCATION:Zoom
CATEGORIES:FMC Meetings
ORGANIZER;CN="Pastor Michael Crosby":MAILTO:michael.crosby@fmc-cu.org
END:VEVENT
BEGIN:VEVENT
DTSTART;TZID=America/Chicago:20230803T150000
DTEND;TZID=America/Chicago:20230803T163000
DTSTAMP:20260421T032941
CREATED:20230525T175115Z
LAST-MODIFIED:20230525T175347Z
UID:10000024-1691074800-1691080200@fmc-cu.org
SUMMARY:Racial Justice Working Group (Zoom)
DESCRIPTION:This group provides a space for anti-racism education\, advocacy\, and mutual accountability in our church and community.
URL:https://fmc-cu.org/event/racial-justice-working-group-2-2/2023-08-03/
LOCATION:Zoom
CATEGORIES:FMC Meetings
ORGANIZER;CN="Pastor Michael Crosby":MAILTO:michael.crosby@fmc-cu.org
END:VEVENT
BEGIN:VEVENT
DTSTART;TZID=America/Chicago:20230802T080000
DTEND;TZID=America/Chicago:20230802T090000
DTSTAMP:20260421T032941
CREATED:20230526T160503Z
LAST-MODIFIED:20231201T194406Z
UID:10000711-1690963200-1690966800@fmc-cu.org
SUMMARY:Wednesday Morning Zoom Bible Study (meets over Zoom)
DESCRIPTION:Early risers – join us online for a time of study and discussion. Email Pastor Michael for the Zoom link.
URL:https://fmc-cu.org/event/early-morning-bible-study-meets-over-zoom-2/2023-08-02/
LOCATION:Zoom
CATEGORIES:Bible Study & Prayer
ORGANIZER;CN="Pastor Michael Crosby":MAILTO:michael.crosby@fmc-cu.org
END:VEVENT
BEGIN:VEVENT
DTSTART;TZID=America/Chicago:20230728T150000
DTEND;TZID=America/Chicago:20230728T160000
DTSTAMP:20260421T032941
CREATED:20230428T181955Z
LAST-MODIFIED:20230428T181955Z
UID:10001586-1690556400-1690560000@fmc-cu.org
SUMMARY:Repair Network Prayer & Action Hour-Zoom
DESCRIPTION:FMC is part of a Dismantling the Doctrine of Discovery Coalition of congregations that supports church communities in education\, solidarity and reparative action alongside Indigenous Peoples. The Coalition meets via Zoom each month for prayer and action. Click here to view the calendar and to sign up for the Zoom link.\n \n 
URL:https://fmc-cu.org/event/repair-network-prayer-action-hour-zoom/2023-07-28/
LOCATION:Zoom
ORGANIZER;CN="Pastor Michael Crosby":MAILTO:michael.crosby@fmc-cu.org
END:VEVENT
BEGIN:VEVENT
DTSTART;TZID=America/Chicago:20230719T080000
DTEND;TZID=America/Chicago:20230719T090000
DTSTAMP:20260421T032941
CREATED:20230526T160503Z
LAST-MODIFIED:20231201T194406Z
UID:10000709-1689753600-1689757200@fmc-cu.org
SUMMARY:Wednesday Morning Zoom Bible Study (meets over Zoom)
DESCRIPTION:Early risers – join us online for a time of study and discussion. Email Pastor Michael for the Zoom link.
URL:https://fmc-cu.org/event/early-morning-bible-study-meets-over-zoom-2/2023-07-19/
LOCATION:Zoom
CATEGORIES:Bible Study & Prayer
ORGANIZER;CN="Pastor Michael Crosby":MAILTO:michael.crosby@fmc-cu.org
END:VEVENT
END:VCALENDAR