BEGIN:VCALENDAR
VERSION:2.0
PRODID:-//First Mennonite Church of Champaign-Urbana - ECPv6.15.20//NONSGML v1.0//EN
CALSCALE:GREGORIAN
METHOD:PUBLISH
X-WR-CALNAME:First Mennonite Church of Champaign-Urbana
X-ORIGINAL-URL:https://fmc-cu.org
X-WR-CALDESC:Events for First Mennonite Church of Champaign-Urbana
REFRESH-INTERVAL;VALUE=DURATION:PT1H
X-Robots-Tag:noindex
X-PUBLISHED-TTL:PT1H
BEGIN:VTIMEZONE
TZID:America/Chicago
BEGIN:DAYLIGHT
TZOFFSETFROM:-0600
TZOFFSETTO:-0500
TZNAME:CDT
DTSTART:20240310T080000
END:DAYLIGHT
BEGIN:STANDARD
TZOFFSETFROM:-0500
TZOFFSETTO:-0600
TZNAME:CST
DTSTART:20241103T070000
END:STANDARD
BEGIN:DAYLIGHT
TZOFFSETFROM:-0600
TZOFFSETTO:-0500
TZNAME:CDT
DTSTART:20250309T080000
END:DAYLIGHT
BEGIN:STANDARD
TZOFFSETFROM:-0500
TZOFFSETTO:-0600
TZNAME:CST
DTSTART:20251102T070000
END:STANDARD
BEGIN:DAYLIGHT
TZOFFSETFROM:-0600
TZOFFSETTO:-0500
TZNAME:CDT
DTSTART:20260308T080000
END:DAYLIGHT
BEGIN:STANDARD
TZOFFSETFROM:-0500
TZOFFSETTO:-0600
TZNAME:CST
DTSTART:20261101T070000
END:STANDARD
END:VTIMEZONE
BEGIN:VEVENT
DTSTART;TZID=America/Chicago:20251112T180000
DTEND;TZID=America/Chicago:20251112T200000
DTSTAMP:20260424T192741
CREATED:20231220T190406Z
LAST-MODIFIED:20250411T192604Z
UID:10003167-1762970400-1762977600@fmc-cu.org
SUMMARY:FMC Council meeting
DESCRIPTION:
URL:https://fmc-cu.org/event/fmc-council-meeting-2/2025-11-12/
LOCATION:First Mennonite Church\, 902 W Springfield Ave\, Urbana\, IL\, 61801\, United States
CATEGORIES:FMC Meetings
ORGANIZER;CN="FMC Office":MAILTO:office@fmc-cu.org
END:VEVENT
BEGIN:VEVENT
DTSTART;TZID=America/Chicago:20251111T100000
DTEND;TZID=America/Chicago:20251111T130000
DTSTAMP:20260424T192741
CREATED:20250828T165520Z
LAST-MODIFIED:20250828T165520Z
UID:10003299-1762855200-1762866000@fmc-cu.org
SUMMARY:IL Mennonite Conference Pastor Peer Meeting
DESCRIPTION:IMC Pastor Peer meeting in the FMC fellowship hall.
URL:https://fmc-cu.org/event/il-mennonite-conference-pastor-peer-meeting/
LOCATION:First Mennonite Church\, 902 W Springfield Ave\, Urbana\, IL\, 61801\, United States
CATEGORIES:Mennonite Church-affiliated
ORGANIZER;CN="Pastor Michael Crosby":MAILTO:michael.crosby@fmc-cu.org
END:VEVENT
BEGIN:VEVENT
DTSTART;TZID=America/Chicago:20251109T091500
DTEND;TZID=America/Chicago:20251109T120000
DTSTAMP:20260424T192741
CREATED:20251001T153317Z
LAST-MODIFIED:20251031T173239Z
UID:10003318-1762679700-1762689600@fmc-cu.org
SUMMARY:Sunday mornings at FMC
DESCRIPTION:Guest Speaker: Joyce Mast \nJoin us for worship at 9:15 am in-person or online.  We welcome\, without exclusion all who seek God’s love and grace! \nOur Fall children’s offering is to help MCC’s relief work. \nSunday school classes for all ages begin at 11:15 am.
URL:https://fmc-cu.org/event/sunday-mornings-at-fmc-35/
LOCATION:First Mennonite Church\, 902 W Springfield Ave\, Urbana\, IL\, 61801\, United States
CATEGORIES:Sunday Mornings
ORGANIZER;CN="FMC Office":MAILTO:office@fmc-cu.org
END:VEVENT
BEGIN:VEVENT
DTSTART;TZID=America/Chicago:20251108T080000
DTEND;TZID=America/Chicago:20251108T120000
DTSTAMP:20260424T192741
CREATED:20211012T183718Z
LAST-MODIFIED:20250923T173905Z
UID:10000655-1762588800-1762603200@fmc-cu.org
SUMMARY:FMC Fall Work Day
DESCRIPTION:The Property and Finance Committee invites you to help spruce up the FMC building and grounds.
URL:https://fmc-cu.org/event/fmc-fall-work-day/
LOCATION:First Mennonite Church\, 902 W Springfield Ave\, Urbana\, IL\, 61801\, United States
CATEGORIES:FMC Events
ORGANIZER;CN="FMC Office":MAILTO:office@fmc-cu.org
END:VEVENT
BEGIN:VEVENT
DTSTART;TZID=America/Chicago:20251106T111500
DTEND;TZID=America/Chicago:20251106T114500
DTSTAMP:20260424T192741
CREATED:20251003T181139Z
LAST-MODIFIED:20251008T164104Z
UID:10003379-1762427700-1762429500@fmc-cu.org
SUMMARY:Weekly Vigil for Palestine
DESCRIPTION:Join in prayer\, song\, lament and listening for God in the Palestine-Israel conflict.
URL:https://fmc-cu.org/event/weekly-vigil-for-palestine/2025-11-06/
LOCATION:First Mennonite Church\, 902 W Springfield Ave\, Urbana\, IL\, 61801\, United States
CATEGORIES:Bible Study & Prayer
ORGANIZER;CN="Pastor Michael Crosby":MAILTO:michael.crosby@fmc-cu.org
END:VEVENT
BEGIN:VEVENT
DTSTART;TZID=America/Chicago:20251102T091500
DTEND;TZID=America/Chicago:20251102T120000
DTSTAMP:20260424T192741
CREATED:20251001T153042Z
LAST-MODIFIED:20251001T153042Z
UID:10003317-1762074900-1762084800@fmc-cu.org
SUMMARY:Sunday Mornings at FMC
DESCRIPTION:TODAY: Service of Remembrance (remembering loved ones who have passed away within the past year). \nJoin us for worship at 9:15 am in-person or online.  We welcome\, without exclusion all who seek God’s love and grace! \nOur Fall children’s offering is to help MCC’s relief work. \nSunday school classes for all ages begin at 11:15 am.
URL:https://fmc-cu.org/event/sunday-mornings-at-fmc-34/
LOCATION:First Mennonite Church\, 902 W Springfield Ave\, Urbana\, IL\, 61801\, United States
CATEGORIES:Sunday Mornings
ORGANIZER;CN="FMC Office":MAILTO:office@fmc-cu.org
END:VEVENT
BEGIN:VEVENT
DTSTART;TZID=America/Chicago:20251030T111500
DTEND;TZID=America/Chicago:20251030T114500
DTSTAMP:20260424T192741
CREATED:20251003T181139Z
LAST-MODIFIED:20251008T164104Z
UID:10003378-1761822900-1761824700@fmc-cu.org
SUMMARY:Weekly Vigil for Palestine
DESCRIPTION:Join in prayer\, song\, lament and listening for God in the Palestine-Israel conflict.
URL:https://fmc-cu.org/event/weekly-vigil-for-palestine/2025-10-30/
LOCATION:First Mennonite Church\, 902 W Springfield Ave\, Urbana\, IL\, 61801\, United States
CATEGORIES:Bible Study & Prayer
ORGANIZER;CN="Pastor Michael Crosby":MAILTO:michael.crosby@fmc-cu.org
END:VEVENT
BEGIN:VEVENT
DTSTART;TZID=America/Chicago:20251026T120000
DTEND;TZID=America/Chicago:20251026T130000
DTSTAMP:20260424T192741
CREATED:20240906T181005Z
LAST-MODIFIED:20251008T160618Z
UID:10002942-1761480000-1761483600@fmc-cu.org
SUMMARY:FMC Discernment Circles
DESCRIPTION:FMC attendees will meet in small groups for about 30 minutes after Sunday school to discern possible people to recommend to fill Council\, Committee Rep and Elder roles in 2026.
URL:https://fmc-cu.org/event/fmc-discernment-circles/
LOCATION:First Mennonite Church\, 902 W Springfield Ave\, Urbana\, IL\, 61801\, United States
CATEGORIES:FMC Meetings
ORGANIZER;CN="FMC Office":MAILTO:office@fmc-cu.org
END:VEVENT
BEGIN:VEVENT
DTSTART;TZID=America/Chicago:20251026T091500
DTEND;TZID=America/Chicago:20251026T120000
DTSTAMP:20260424T192741
CREATED:20250912T145327Z
LAST-MODIFIED:20250912T145327Z
UID:10003313-1761470100-1761480000@fmc-cu.org
SUMMARY:Sunday Mornings at FMC
DESCRIPTION:OCTOBER 26 – We welcome guest preacher\, Lawrence Matthews\, from Mennonite Disaster Service (MDS). \nJoin us for worship at 9:15 am in-person or online.  We welcome\, without exclusion all who seek God’s love and grace! \nOur Fall children’s offering is to help MCC’s relief work. \nSunday school classes for all ages begin at 11:15 am.
URL:https://fmc-cu.org/event/sunday-mornings-at-fmc-33/
LOCATION:First Mennonite Church\, 902 W Springfield Ave\, Urbana\, IL\, 61801\, United States
CATEGORIES:Sunday Mornings
ORGANIZER;CN="FMC Office":MAILTO:office@fmc-cu.org
END:VEVENT
BEGIN:VEVENT
DTSTART;TZID=America/Chicago:20251023T111500
DTEND;TZID=America/Chicago:20251023T114500
DTSTAMP:20260424T192741
CREATED:20251003T181139Z
LAST-MODIFIED:20251008T164104Z
UID:10003377-1761218100-1761219900@fmc-cu.org
SUMMARY:Weekly Vigil for Palestine
DESCRIPTION:Join in prayer\, song\, lament and listening for God in the Palestine-Israel conflict.
URL:https://fmc-cu.org/event/weekly-vigil-for-palestine/2025-10-23/
LOCATION:First Mennonite Church\, 902 W Springfield Ave\, Urbana\, IL\, 61801\, United States
CATEGORIES:Bible Study & Prayer
ORGANIZER;CN="Pastor Michael Crosby":MAILTO:michael.crosby@fmc-cu.org
END:VEVENT
BEGIN:VEVENT
DTSTART;TZID=America/Chicago:20251021T173000
DTEND;TZID=America/Chicago:20251021T193000
DTSTAMP:20260424T192741
CREATED:20240529T180214Z
LAST-MODIFIED:20250103T163528Z
UID:10002515-1761067800-1761075000@fmc-cu.org
SUMMARY:Taco Tuesday (3rd Tuesday of each month)
DESCRIPTION:Attendees meet for fellowship and a taco dinner. People sign up to help bring main items. Those not helping bring a main meal item are invited\, though not required\, to bring a topping to share. \n 
URL:https://fmc-cu.org/event/3rd-taco-thursday-2-2/2025-10-21/
LOCATION:First Mennonite Church\, 902 W Springfield Ave\, Urbana\, IL\, 61801\, United States
CATEGORIES:FMC Events
ORGANIZER;CN="Pastor Michael Crosby":MAILTO:michael.crosby@fmc-cu.org
END:VEVENT
BEGIN:VEVENT
DTSTART;TZID=America/Chicago:20251019T091500
DTEND;TZID=America/Chicago:20251019T120000
DTSTAMP:20260424T192741
CREATED:20250912T145140Z
LAST-MODIFIED:20250912T145140Z
UID:10003312-1760865300-1760875200@fmc-cu.org
SUMMARY:Sunday Mornings at FMC
DESCRIPTION:Join us for worship at 9:15 am in-person or online.  We welcome\, without exclusion all who seek God’s love and grace! \nOur Fall children’s offering is to help MCC’s relief work. \nSunday school classes for all ages begin at 11:15 am.
URL:https://fmc-cu.org/event/sunday-mornings-at-fmc-30/2025-10-19/
LOCATION:First Mennonite Church\, 902 W Springfield Ave\, Urbana\, IL\, 61801\, United States
CATEGORIES:Sunday Mornings
ORGANIZER;CN="FMC Office":MAILTO:office@fmc-cu.org
END:VEVENT
BEGIN:VEVENT
DTSTART;TZID=America/Chicago:20251016T111500
DTEND;TZID=America/Chicago:20251016T114500
DTSTAMP:20260424T192741
CREATED:20251003T181139Z
LAST-MODIFIED:20251008T164104Z
UID:10003376-1760613300-1760615100@fmc-cu.org
SUMMARY:Weekly Vigil for Palestine
DESCRIPTION:Join in prayer\, song\, lament and listening for God in the Palestine-Israel conflict.
URL:https://fmc-cu.org/event/weekly-vigil-for-palestine/2025-10-16/
LOCATION:First Mennonite Church\, 902 W Springfield Ave\, Urbana\, IL\, 61801\, United States
CATEGORIES:Bible Study & Prayer
ORGANIZER;CN="Pastor Michael Crosby":MAILTO:michael.crosby@fmc-cu.org
END:VEVENT
BEGIN:VEVENT
DTSTART;TZID=America/Chicago:20251012T091500
DTEND;TZID=America/Chicago:20251012T120000
DTSTAMP:20260424T192741
CREATED:20250912T145140Z
LAST-MODIFIED:20250912T145140Z
UID:10003311-1760260500-1760270400@fmc-cu.org
SUMMARY:Sunday Mornings at FMC
DESCRIPTION:Join us for worship at 9:15 am in-person or online.  We welcome\, without exclusion all who seek God’s love and grace! \nOur Fall children’s offering is to help MCC’s relief work. \nSunday school classes for all ages begin at 11:15 am.
URL:https://fmc-cu.org/event/sunday-mornings-at-fmc-30/2025-10-12/
LOCATION:First Mennonite Church\, 902 W Springfield Ave\, Urbana\, IL\, 61801\, United States
CATEGORIES:Sunday Mornings
ORGANIZER;CN="FMC Office":MAILTO:office@fmc-cu.org
END:VEVENT
BEGIN:VEVENT
DTSTART;TZID=America/Chicago:20251009T111500
DTEND;TZID=America/Chicago:20251009T114500
DTSTAMP:20260424T192741
CREATED:20251003T181139Z
LAST-MODIFIED:20251008T164104Z
UID:10003375-1760008500-1760010300@fmc-cu.org
SUMMARY:Weekly Vigil for Palestine
DESCRIPTION:Join in prayer\, song\, lament and listening for God in the Palestine-Israel conflict.
URL:https://fmc-cu.org/event/weekly-vigil-for-palestine/2025-10-09/
LOCATION:First Mennonite Church\, 902 W Springfield Ave\, Urbana\, IL\, 61801\, United States
CATEGORIES:Bible Study & Prayer
ORGANIZER;CN="Pastor Michael Crosby":MAILTO:michael.crosby@fmc-cu.org
END:VEVENT
BEGIN:VEVENT
DTSTART;TZID=America/Chicago:20251008T180000
DTEND;TZID=America/Chicago:20251008T200000
DTSTAMP:20260424T192741
CREATED:20231220T190406Z
LAST-MODIFIED:20250411T192604Z
UID:10003166-1759946400-1759953600@fmc-cu.org
SUMMARY:FMC Council meeting
DESCRIPTION:
URL:https://fmc-cu.org/event/fmc-council-meeting-2/2025-10-08/
LOCATION:First Mennonite Church\, 902 W Springfield Ave\, Urbana\, IL\, 61801\, United States
CATEGORIES:FMC Meetings
ORGANIZER;CN="FMC Office":MAILTO:office@fmc-cu.org
END:VEVENT
BEGIN:VEVENT
DTSTART;TZID=America/Chicago:20251005T120000
DTEND;TZID=America/Chicago:20251005T150000
DTSTAMP:20260424T192741
CREATED:20250923T174230Z
LAST-MODIFIED:20250923T174310Z
UID:10003315-1759665600-1759676400@fmc-cu.org
SUMMARY:Noon Potluck and Congregational Meeting (1p)
DESCRIPTION:Noon potluck; please bring a nut-free dish to share. Following the potluck we will have a congregational gathering at 1 pm for a critical component of Pastor Michael’s 5-year formal evaluation and our ongoing congregational self-reflection. We’ll meet in focus groups of 6-10 people each\, using the process and materials from MC USA’s “Appreciative Inquiry.”
URL:https://fmc-cu.org/event/noon-potluck-and-congregational-meeting-1p/
LOCATION:First Mennonite Church\, 902 W Springfield Ave\, Urbana\, IL\, 61801\, United States
CATEGORIES:FMC Meetings
ORGANIZER;CN="FMC Office":MAILTO:office@fmc-cu.org
END:VEVENT
BEGIN:VEVENT
DTSTART;TZID=America/Chicago:20251005T091500
DTEND;TZID=America/Chicago:20251005T120000
DTSTAMP:20260424T192741
CREATED:20250912T144946Z
LAST-MODIFIED:20250912T144946Z
UID:10003195-1759655700-1759665600@fmc-cu.org
SUMMARY:Sunday Mornings at FMC
DESCRIPTION:OCTOBER 5 – WE WILL CELEBRATE COMMUNION AS PART OF WORLD COMMUNION SUNDAY \nJoin us for worship at 9:15 am in-person or online.  We welcome\, without exclusion all who seek God’s love and grace! \nOur Fall children’s offering is to help MCC’s relief work. \nSunday school classes for all ages begin at 11:15 am.
URL:https://fmc-cu.org/event/sunday-mornings-at-fmc-32-2/
LOCATION:First Mennonite Church\, 902 W Springfield Ave\, Urbana\, IL\, 61801\, United States
CATEGORIES:Sunday Mornings
END:VEVENT
BEGIN:VEVENT
DTSTART;TZID=America/Chicago:20250930T173000
DTEND;TZID=America/Chicago:20250930T213000
DTSTAMP:20260424T192741
CREATED:20250522T175754Z
LAST-MODIFIED:20250827T164816Z
UID:10003211-1759253400-1759267800@fmc-cu.org
SUMMARY:Annual Faith in Place Environment & Spirituality Summit (AES) Watch Party at FMC
DESCRIPTION:First Mennonite is hosting a watch party on September 30\, starting at 5:30 pm. Watch Keynote speaker Robin Wall Kimmerer with others at our church. When you register for the AES summit\, you will be given an opportunity to select the option for joining an in-person watch party. Click here to learn more and to register for the summit.
URL:https://fmc-cu.org/event/potential-community-event/
LOCATION:First Mennonite Church\, 902 W Springfield Ave\, Urbana\, IL\, 61801\, United States
CATEGORIES:Co-Sponsored Events
ORGANIZER;CN="FMC Office":MAILTO:office@fmc-cu.org
END:VEVENT
BEGIN:VEVENT
DTSTART;TZID=America/Chicago:20250928T091500
DTEND;TZID=America/Chicago:20250928T120000
DTSTAMP:20260424T192741
CREATED:20250820T203358Z
LAST-MODIFIED:20250912T145406Z
UID:10003294-1759050900-1759060800@fmc-cu.org
SUMMARY:Sunday Mornings at FMC
DESCRIPTION:SEPTEMBER WORSHIP THEME:\nSeason of Creation\nSeptember 7 – Sky  (3rd Grade Bibles will also be given out)\nSeptember 14 – Humanity (Also our “Work of the Church” Sunday)\nSeptember 21 – Planet Earth\nSeptember 28 – Mountain \nJoin us for worship at 9:15 am in-person or online.  We welcome\, without exclusion all who seek God’s love and grace! \nOur Fall children’s offering will help with MCC’s relief work. \nSunday school classes for all ages begin at 11:15 am.
URL:https://fmc-cu.org/event/sunday-mornings-2021-11-21-2022-09-11-2/2025-09-28/
LOCATION:First Mennonite Church\, 902 W Springfield Ave\, Urbana\, IL\, 61801\, United States
CATEGORIES:Sunday Mornings
ORGANIZER;CN="FMC Office":MAILTO:office@fmc-cu.org
END:VEVENT
BEGIN:VEVENT
DTSTART;TZID=America/Chicago:20250921T091500
DTEND;TZID=America/Chicago:20250921T120000
DTSTAMP:20260424T192741
CREATED:20250820T203358Z
LAST-MODIFIED:20250912T145406Z
UID:10003293-1758446100-1758456000@fmc-cu.org
SUMMARY:Sunday Mornings at FMC
DESCRIPTION:SEPTEMBER WORSHIP THEME:\nSeason of Creation\nSeptember 7 – Sky  (3rd Grade Bibles will also be given out)\nSeptember 14 – Humanity (Also our “Work of the Church” Sunday)\nSeptember 21 – Planet Earth\nSeptember 28 – Mountain \nJoin us for worship at 9:15 am in-person or online.  We welcome\, without exclusion all who seek God’s love and grace! \nOur Fall children’s offering will help with MCC’s relief work. \nSunday school classes for all ages begin at 11:15 am.
URL:https://fmc-cu.org/event/sunday-mornings-2021-11-21-2022-09-11-2/2025-09-21/
LOCATION:First Mennonite Church\, 902 W Springfield Ave\, Urbana\, IL\, 61801\, United States
CATEGORIES:Sunday Mornings
ORGANIZER;CN="FMC Office":MAILTO:office@fmc-cu.org
END:VEVENT
BEGIN:VEVENT
DTSTART;TZID=America/Chicago:20250918T131500
DTEND;TZID=America/Chicago:20250918T141500
DTSTAMP:20260424T192741
CREATED:20250128T195958Z
LAST-MODIFIED:20250827T164920Z
UID:10003297-1758201300-1758204900@fmc-cu.org
SUMMARY:Christian Education Committee Meeting
DESCRIPTION:This committee oversees the Christian Education (Spiritual Formation) needs of the congregation and for planning programming to meet them. \n 
URL:https://fmc-cu.org/event/christian-education-committee-meeting-3-2/2025-09-18/
LOCATION:First Mennonite Church\, 902 W Springfield Ave\, Urbana\, IL\, 61801\, United States
CATEGORIES:FMC Meetings
ORGANIZER;CN="FMC Office":MAILTO:office@fmc-cu.org
END:VEVENT
BEGIN:VEVENT
DTSTART;TZID=America/Chicago:20250916T181500
DTEND;TZID=America/Chicago:20250916T191500
DTSTAMP:20260424T192741
CREATED:20230712T192115Z
LAST-MODIFIED:20250820T203052Z
UID:10001870-1758046500-1758050100@fmc-cu.org
SUMMARY:Safe Church Training
DESCRIPTION:At 6:15 pm after our meal\, we will hold our annual Safe Church Training\,
URL:https://fmc-cu.org/event/safe-church-training-potluck/
LOCATION:First Mennonite Church\, 902 W Springfield Ave\, Urbana\, IL\, 61801\, United States
CATEGORIES:FMC Events
ORGANIZER;CN="FMC Office":MAILTO:office@fmc-cu.org
END:VEVENT
BEGIN:VEVENT
DTSTART;TZID=America/Chicago:20250916T173000
DTEND;TZID=America/Chicago:20250916T193000
DTSTAMP:20260424T192741
CREATED:20240529T180214Z
LAST-MODIFIED:20250103T163528Z
UID:10002514-1758043800-1758051000@fmc-cu.org
SUMMARY:Taco Tuesday (3rd Tuesday of each month)
DESCRIPTION:Attendees meet for fellowship and a taco dinner. People sign up to help bring main items. Those not helping bring a main meal item are invited\, though not required\, to bring a topping to share. \n 
URL:https://fmc-cu.org/event/3rd-taco-thursday-2-2/2025-09-16/
LOCATION:First Mennonite Church\, 902 W Springfield Ave\, Urbana\, IL\, 61801\, United States
CATEGORIES:FMC Events
ORGANIZER;CN="Pastor Michael Crosby":MAILTO:michael.crosby@fmc-cu.org
END:VEVENT
BEGIN:VEVENT
DTSTART;TZID=America/Chicago:20250914T091500
DTEND;TZID=America/Chicago:20250914T120000
DTSTAMP:20260424T192741
CREATED:20250820T203358Z
LAST-MODIFIED:20250912T145406Z
UID:10003292-1757841300-1757851200@fmc-cu.org
SUMMARY:Sunday Mornings at FMC
DESCRIPTION:SEPTEMBER WORSHIP THEME:\nSeason of Creation\nSeptember 7 – Sky  (3rd Grade Bibles will also be given out)\nSeptember 14 – Humanity (Also our “Work of the Church” Sunday)\nSeptember 21 – Planet Earth\nSeptember 28 – Mountain \nJoin us for worship at 9:15 am in-person or online.  We welcome\, without exclusion all who seek God’s love and grace! \nOur Fall children’s offering will help with MCC’s relief work. \nSunday school classes for all ages begin at 11:15 am.
URL:https://fmc-cu.org/event/sunday-mornings-2021-11-21-2022-09-11-2/2025-09-14/
LOCATION:First Mennonite Church\, 902 W Springfield Ave\, Urbana\, IL\, 61801\, United States
CATEGORIES:Sunday Mornings
ORGANIZER;CN="FMC Office":MAILTO:office@fmc-cu.org
END:VEVENT
BEGIN:VEVENT
DTSTART;TZID=America/Chicago:20250910T180000
DTEND;TZID=America/Chicago:20250910T200000
DTSTAMP:20260424T192741
CREATED:20231220T190406Z
LAST-MODIFIED:20250411T192604Z
UID:10003165-1757527200-1757534400@fmc-cu.org
SUMMARY:FMC Council meeting
DESCRIPTION:
URL:https://fmc-cu.org/event/fmc-council-meeting-2/2025-09-10/
LOCATION:First Mennonite Church\, 902 W Springfield Ave\, Urbana\, IL\, 61801\, United States
CATEGORIES:FMC Meetings
ORGANIZER;CN="FMC Office":MAILTO:office@fmc-cu.org
END:VEVENT
BEGIN:VEVENT
DTSTART;TZID=America/Chicago:20250907T091500
DTEND;TZID=America/Chicago:20250907T120000
DTSTAMP:20260424T192741
CREATED:20250820T203358Z
LAST-MODIFIED:20250912T145406Z
UID:10001884-1757236500-1757246400@fmc-cu.org
SUMMARY:Sunday Mornings at FMC
DESCRIPTION:SEPTEMBER WORSHIP THEME:\nSeason of Creation\nSeptember 7 – Sky  (3rd Grade Bibles will also be given out)\nSeptember 14 – Humanity (Also our “Work of the Church” Sunday)\nSeptember 21 – Planet Earth\nSeptember 28 – Mountain \nJoin us for worship at 9:15 am in-person or online.  We welcome\, without exclusion all who seek God’s love and grace! \nOur Fall children’s offering will help with MCC’s relief work. \nSunday school classes for all ages begin at 11:15 am.
URL:https://fmc-cu.org/event/sunday-mornings-2021-11-21-2022-09-11-2/2025-09-07/
LOCATION:First Mennonite Church\, 902 W Springfield Ave\, Urbana\, IL\, 61801\, United States
CATEGORIES:Sunday Mornings
ORGANIZER;CN="FMC Office":MAILTO:office@fmc-cu.org
END:VEVENT
BEGIN:VEVENT
DTSTART;TZID=America/Chicago:20250905T133000
DTEND;TZID=America/Chicago:20250905T153000
DTSTAMP:20260424T192741
CREATED:20230210T165718Z
LAST-MODIFIED:20250822T172304Z
UID:10003296-1757079000-1757086200@fmc-cu.org
SUMMARY:Spiritual Leadership Team meeting
DESCRIPTION:The Spiritual Leadership Team (SLT) is responsible for the spiritual nurture of the congregation.
URL:https://fmc-cu.org/event/spiritual-leadership-team-meeting-2/2025-09-05/
LOCATION:First Mennonite Church\, 902 W Springfield Ave\, Urbana\, IL\, 61801\, United States
CATEGORIES:FMC Meetings
ORGANIZER;CN="Pastor Michael Crosby":MAILTO:michael.crosby@fmc-cu.org
END:VEVENT
BEGIN:VEVENT
DTSTART;TZID=America/Chicago:20250825T183000
DTEND;TZID=America/Chicago:20250825T203000
DTSTAMP:20260424T192741
CREATED:20250326T154537Z
LAST-MODIFIED:20250806T150854Z
UID:10003260-1756146600-1756153800@fmc-cu.org
SUMMARY:Monday Spiritual Direction Group
DESCRIPTION:4-6 people meet the several Tuesdays each month for prayer\, sharing\, Lectio Divina and a short silence. Meeting times and days are decided by the group. New groups are formed each September. \nIn person & on Zoom.
URL:https://fmc-cu.org/event/monday-spiritual-direction-group/2025-08-25/
LOCATION:First Mennonite Church\, 902 W Springfield Ave\, Urbana\, IL\, 61801\, United States
CATEGORIES:Spiritual Direction Groups
ORGANIZER;CN="Associate Pastor Deb Sutter":MAILTO:debra.sutter@fmc-cu.org
END:VEVENT
BEGIN:VEVENT
DTSTART;TZID=America/Chicago:20250821T011500
DTEND;TZID=America/Chicago:20250821T151500
DTSTAMP:20260424T192741
CREATED:20250128T195958Z
LAST-MODIFIED:20250827T164920Z
UID:10002972-1755738900-1755789300@fmc-cu.org
SUMMARY:Christian Education Committee Meeting
DESCRIPTION:This committee oversees the Christian Education (Spiritual Formation) needs of the congregation and for planning programming to meet them. \n 
URL:https://fmc-cu.org/event/christian-education-committee-meeting-3-2/2025-08-21/
LOCATION:First Mennonite Church\, 902 W Springfield Ave\, Urbana\, IL\, 61801\, United States
CATEGORIES:FMC Meetings
ORGANIZER;CN="FMC Office":MAILTO:office@fmc-cu.org
END:VEVENT
END:VCALENDAR