BEGIN:VCALENDAR
VERSION:2.0
PRODID:-//First Mennonite Church of Champaign-Urbana - ECPv6.15.20//NONSGML v1.0//EN
CALSCALE:GREGORIAN
METHOD:PUBLISH
X-ORIGINAL-URL:https://fmc-cu.org
X-WR-CALDESC:Events for First Mennonite Church of Champaign-Urbana
REFRESH-INTERVAL;VALUE=DURATION:PT1H
X-Robots-Tag:noindex
X-PUBLISHED-TTL:PT1H
BEGIN:VTIMEZONE
TZID:America/Chicago
BEGIN:DAYLIGHT
TZOFFSETFROM:-0600
TZOFFSETTO:-0500
TZNAME:CDT
DTSTART:20240310T080000
END:DAYLIGHT
BEGIN:STANDARD
TZOFFSETFROM:-0500
TZOFFSETTO:-0600
TZNAME:CST
DTSTART:20241103T070000
END:STANDARD
BEGIN:DAYLIGHT
TZOFFSETFROM:-0600
TZOFFSETTO:-0500
TZNAME:CDT
DTSTART:20250309T080000
END:DAYLIGHT
BEGIN:STANDARD
TZOFFSETFROM:-0500
TZOFFSETTO:-0600
TZNAME:CST
DTSTART:20251102T070000
END:STANDARD
BEGIN:DAYLIGHT
TZOFFSETFROM:-0600
TZOFFSETTO:-0500
TZNAME:CDT
DTSTART:20260308T080000
END:DAYLIGHT
BEGIN:STANDARD
TZOFFSETFROM:-0500
TZOFFSETTO:-0600
TZNAME:CST
DTSTART:20261101T070000
END:STANDARD
BEGIN:DAYLIGHT
TZOFFSETFROM:-0600
TZOFFSETTO:-0500
TZNAME:CDT
DTSTART:20270314T080000
END:DAYLIGHT
BEGIN:STANDARD
TZOFFSETFROM:-0500
TZOFFSETTO:-0600
TZNAME:CST
DTSTART:20271107T070000
END:STANDARD
END:VTIMEZONE
BEGIN:VEVENT
DTSTART;TZID=America/Chicago:20260315T091500
DTEND;TZID=America/Chicago:20260315T120000
DTSTAMP:20260422T162936
CREATED:20260225T162533Z
LAST-MODIFIED:20260225T163102Z
UID:10003639-1773566100-1773576000@fmc-cu.org
SUMMARY:Sunday Mornings during Lent
DESCRIPTION:Lent Series: Holding it Together  \nThis Lent we will focus on scriptures from the book of John. \nJoin us for worship at 9:15 am in-person or online.  We welcome\, without exclusion all who seek God’s love and grace! \nOur Spring children’s offering is to help Prosperity Gardens in Champaign-Urbana. \nSunday school classes for all ages begin at 11:15 am.
URL:https://fmc-cu.org/event/sunday-mornings-during-lent-2/2026-03-15/
LOCATION:First Mennonite Church\, 902 W Springfield Ave\, Urbana\, IL\, 61801\, United States
CATEGORIES:Sunday Mornings
END:VEVENT
BEGIN:VEVENT
DTSTART;TZID=America/Chicago:20260311T180000
DTEND;TZID=America/Chicago:20260311T200000
DTSTAMP:20260422T162936
CREATED:20260121T182245Z
LAST-MODIFIED:20260121T182620Z
UID:10003574-1773252000-1773259200@fmc-cu.org
SUMMARY:FMC Council meeting
DESCRIPTION:
URL:https://fmc-cu.org/event/fmc-council-meeting-2-2/2026-03-11/
LOCATION:First Mennonite Church\, 902 W Springfield Ave\, Urbana\, IL\, 61801\, United States
CATEGORIES:FMC Meetings
ORGANIZER;CN="FMC Office":MAILTO:office@fmc-cu.org
END:VEVENT
BEGIN:VEVENT
DTSTART;TZID=America/Chicago:20260308T120000
DTEND;TZID=America/Chicago:20260308T140000
DTSTAMP:20260422T162936
CREATED:20230322T162711Z
LAST-MODIFIED:20260218T194755Z
UID:10003632-1772971200-1772978400@fmc-cu.org
SUMMARY:Hospitality & Fellowship Committee meeting
DESCRIPTION:This committee provides fellowship opportunities for the congregation and nurtures a spirit of hospitality within the church.
URL:https://fmc-cu.org/event/hospitality-fellowship-committee-2022-11-03-3/2026-03-08/
LOCATION:First Mennonite Church\, 902 W Springfield Ave\, Urbana\, IL\, 61801\, United States
CATEGORIES:FMC Meetings
ORGANIZER;CN="Associate Pastor Deb Sutter":MAILTO:debra.sutter@fmc-cu.org
END:VEVENT
BEGIN:VEVENT
DTSTART;TZID=America/Chicago:20260308T091500
DTEND;TZID=America/Chicago:20260308T120000
DTSTAMP:20260422T162936
CREATED:20260225T162533Z
LAST-MODIFIED:20260225T163102Z
UID:10003638-1772961300-1772971200@fmc-cu.org
SUMMARY:Sunday Mornings during Lent
DESCRIPTION:Lent Series: Holding it Together  \nThis Lent we will focus on scriptures from the book of John. \nJoin us for worship at 9:15 am in-person or online.  We welcome\, without exclusion all who seek God’s love and grace! \nOur Spring children’s offering is to help Prosperity Gardens in Champaign-Urbana. \nSunday school classes for all ages begin at 11:15 am.
URL:https://fmc-cu.org/event/sunday-mornings-during-lent-2/2026-03-08/
LOCATION:First Mennonite Church\, 902 W Springfield Ave\, Urbana\, IL\, 61801\, United States
CATEGORIES:Sunday Mornings
END:VEVENT
BEGIN:VEVENT
DTSTART;TZID=America/Chicago:20260306T103000
DTEND;TZID=America/Chicago:20260306T123000
DTSTAMP:20260422T162936
CREATED:20250417T191656Z
LAST-MODIFIED:20260218T200346Z
UID:10003635-1772793000-1772800200@fmc-cu.org
SUMMARY:Friday Spiritual Direction Group
DESCRIPTION:4-6 people meet several times each month for prayer\, sharing\, Lectio Divina and a short silence. Meeting times and days are decided by the group. New groups are formed each September. \nThe group meets in person & on Zoom.
URL:https://fmc-cu.org/event/friday-spiritual-direction-group-2/2026-03-06/
LOCATION:First Mennonite Church\, 902 W Springfield Ave\, Urbana\, IL\, 61801\, United States
CATEGORIES:Spiritual Direction Groups
ORGANIZER;CN="Associate Pastor Deb Sutter":MAILTO:debra.sutter@fmc-cu.org
END:VEVENT
BEGIN:VEVENT
DTSTART;TZID=America/Chicago:20260305T131500
DTEND;TZID=America/Chicago:20260305T150000
DTSTAMP:20260422T162936
CREATED:20230323T173509Z
LAST-MODIFIED:20260304T164613Z
UID:10003693-1772716500-1772722800@fmc-cu.org
SUMMARY:Christian Education Committee Meeting
DESCRIPTION:This committee oversees the Christian Education (Spiritual Formation) needs of the congregation and for planning programming to meet them. \n 
URL:https://fmc-cu.org/event/christian-education-committee-meeting-3/2026-03-05/
LOCATION:First Mennonite Church\, 902 W Springfield Ave\, Urbana\, IL\, 61801\, United States
CATEGORIES:FMC Meetings
ORGANIZER;CN="FMC Office":MAILTO:office@fmc-cu.org
END:VEVENT
BEGIN:VEVENT
DTSTART;TZID=America/Chicago:20260301T091500
DTEND;TZID=America/Chicago:20260301T120000
DTSTAMP:20260422T162936
CREATED:20260225T162533Z
LAST-MODIFIED:20260225T163102Z
UID:10003637-1772356500-1772366400@fmc-cu.org
SUMMARY:Sunday Mornings during Lent
DESCRIPTION:Lent Series: Holding it Together  \nThis Lent we will focus on scriptures from the book of John. \nJoin us for worship at 9:15 am in-person or online.  We welcome\, without exclusion all who seek God’s love and grace! \nOur Spring children’s offering is to help Prosperity Gardens in Champaign-Urbana. \nSunday school classes for all ages begin at 11:15 am.
URL:https://fmc-cu.org/event/sunday-mornings-during-lent-2/2026-03-01/
LOCATION:First Mennonite Church\, 902 W Springfield Ave\, Urbana\, IL\, 61801\, United States
CATEGORIES:Sunday Mornings
END:VEVENT
BEGIN:VEVENT
DTSTART;TZID=America/Chicago:20260222T120000
DTEND;TZID=America/Chicago:20260222T153000
DTSTAMP:20260422T162936
CREATED:20240124T203359Z
LAST-MODIFIED:20260121T182806Z
UID:10002324-1771761600-1771774200@fmc-cu.org
SUMMARY:FMC Council retreat
DESCRIPTION:2025 FMC Council will meet at FMC after church for a planning retreat.
URL:https://fmc-cu.org/event/fmc-council-retreat/
LOCATION:First Mennonite Church\, 902 W Springfield Ave\, Urbana\, IL\, 61801\, United States
CATEGORIES:FMC Meetings
ORGANIZER;CN="FMC Office":MAILTO:office@fmc-cu.org
END:VEVENT
BEGIN:VEVENT
DTSTART;TZID=America/Chicago:20260222T091500
DTEND;TZID=America/Chicago:20260222T120000
DTSTAMP:20260422T162936
CREATED:20260120T194722Z
LAST-MODIFIED:20260218T193832Z
UID:10003565-1771751700-1771761600@fmc-cu.org
SUMMARY:Sunday Mornings During Lent
DESCRIPTION:Lent Series: Holding it Together  \nThis Lent we will focus on scriptures from the book of John. \nJoin us for worship at 9:15 am in-person or online.  We welcome\, without exclusion all who seek God’s love and grace! \nOur Winter children’s offering is to help MCC’s relief work. \nSunday school classes for all ages begin at 11:15 am.
URL:https://fmc-cu.org/event/sunday-mornings-during-lent/
LOCATION:First Mennonite Church\, 902 W Springfield Ave\, Urbana\, IL\, 61801\, United States
CATEGORIES:Sunday Mornings
ORGANIZER;CN="FMC Office":MAILTO:office@fmc-cu.org
END:VEVENT
BEGIN:VEVENT
DTSTART;TZID=America/Chicago:20260220T163000
DTEND;TZID=America/Chicago:20260220T180000
DTSTAMP:20260422T162936
CREATED:20250430T173744Z
LAST-MODIFIED:20260325T163150Z
UID:10003816-1771605000-1771610400@fmc-cu.org
SUMMARY:Facilities Committee (Hybrid)
DESCRIPTION:This FMC committee is responsible for the general supervision of the church’s physical property and financial affairs.
URL:https://fmc-cu.org/event/facilities-committee-hybrid-4/2026-02-20/
LOCATION:First Mennonite Church\, 902 W Springfield Ave\, Urbana\, IL\, 61801\, United States
CATEGORIES:FMC Meetings
ORGANIZER;CN="Pastor Michael Crosby":MAILTO:michael.crosby@fmc-cu.org
END:VEVENT
BEGIN:VEVENT
DTSTART;TZID=America/Chicago:20260220T103000
DTEND;TZID=America/Chicago:20260220T120000
DTSTAMP:20260422T162936
CREATED:20250417T191656Z
LAST-MODIFIED:20260218T200346Z
UID:10003569-1771583400-1771588800@fmc-cu.org
SUMMARY:Friday Spiritual Direction Group
DESCRIPTION:4-6 people meet several times each month for prayer\, sharing\, Lectio Divina and a short silence. Meeting times and days are decided by the group. New groups are formed each September. \nThe group meets in person & on Zoom.
URL:https://fmc-cu.org/event/friday-spiritual-direction-group-2/2026-02-20/
LOCATION:First Mennonite Church\, 902 W Springfield Ave\, Urbana\, IL\, 61801\, United States
CATEGORIES:Spiritual Direction Groups
ORGANIZER;CN="Associate Pastor Deb Sutter":MAILTO:debra.sutter@fmc-cu.org
END:VEVENT
BEGIN:VEVENT
DTSTART;TZID=America/Chicago:20260218T183000
DTEND;TZID=America/Chicago:20260218T190000
DTSTAMP:20260422T162936
CREATED:20230120T205522Z
LAST-MODIFIED:20260127T201323Z
UID:10001457-1771439400-1771441200@fmc-cu.org
SUMMARY:Ash Wednesday Service
DESCRIPTION:Join us for our annual Ash Wednesday service in the sanctuary at FMC.
URL:https://fmc-cu.org/event/ash-wednesday-service/
LOCATION:First Mennonite Church\, 902 W Springfield Ave\, Urbana\, IL\, 61801\, United States
CATEGORIES:FMC Events
ORGANIZER;CN="FMC Office":MAILTO:office@fmc-cu.org
END:VEVENT
BEGIN:VEVENT
DTSTART;TZID=America/Chicago:20260217T090000
DTEND;TZID=America/Chicago:20260217T120000
DTSTAMP:20260422T162936
CREATED:20251203T194142Z
LAST-MODIFIED:20260130T191020Z
UID:10003590-1771318800-1771329600@fmc-cu.org
SUMMARY:Tuesday Morning Music Club
DESCRIPTION:This community music club has reserved use of our church in the morning. The music program is open to the public.
URL:https://fmc-cu.org/event/tuesday-morning-music-club-private-event-2022-02-15-2/2026-02-17/
LOCATION:First Mennonite Church\, 902 W Springfield Ave\, Urbana\, IL\, 61801\, United States
CATEGORIES:Private Events (reserved)
ORGANIZER;CN="Associate Pastor Deb Sutter":MAILTO:debra.sutter@fmc-cu.org
END:VEVENT
BEGIN:VEVENT
DTSTART;TZID=America/Chicago:20260215T091500
DTEND;TZID=America/Chicago:20260215T120000
DTSTAMP:20260422T162936
CREATED:20260104T173606Z
LAST-MODIFIED:20260104T173606Z
UID:10003536-1771146900-1771156800@fmc-cu.org
SUMMARY:Sunday Morning Worship
DESCRIPTION:Join us for worship at 9:15 am in-person or online.  We welcome\, without exclusion all who seek God’s love and grace! \nOur Winter children’s offering is to help MCC’s relief work. \nSunday school classes for all ages begin at 11:15 am.
URL:https://fmc-cu.org/event/sunday-morning-worship-2/2026-02-15/
LOCATION:First Mennonite Church\, 902 W Springfield Ave\, Urbana\, IL\, 61801\, United States
CATEGORIES:Sunday Mornings
ORGANIZER;CN="FMC Office":MAILTO:office@fmc-cu.org
END:VEVENT
BEGIN:VEVENT
DTSTART;TZID=America/Chicago:20260211T180000
DTEND;TZID=America/Chicago:20260211T200000
DTSTAMP:20260422T162936
CREATED:20260121T182245Z
LAST-MODIFIED:20260121T182620Z
UID:10003168-1770832800-1770840000@fmc-cu.org
SUMMARY:FMC Council meeting
DESCRIPTION:
URL:https://fmc-cu.org/event/fmc-council-meeting-2-2/2026-02-11/
LOCATION:First Mennonite Church\, 902 W Springfield Ave\, Urbana\, IL\, 61801\, United States
CATEGORIES:FMC Meetings
ORGANIZER;CN="FMC Office":MAILTO:office@fmc-cu.org
END:VEVENT
BEGIN:VEVENT
DTSTART;TZID=America/Chicago:20260208T120000
DTEND;TZID=America/Chicago:20260208T140000
DTSTAMP:20260422T162936
CREATED:20230322T162711Z
LAST-MODIFIED:20260218T194755Z
UID:10001099-1770552000-1770559200@fmc-cu.org
SUMMARY:Hospitality & Fellowship Committee meeting
DESCRIPTION:This committee provides fellowship opportunities for the congregation and nurtures a spirit of hospitality within the church.
URL:https://fmc-cu.org/event/hospitality-fellowship-committee-2022-11-03-3/2026-02-08/
LOCATION:First Mennonite Church\, 902 W Springfield Ave\, Urbana\, IL\, 61801\, United States
CATEGORIES:FMC Meetings
ORGANIZER;CN="Associate Pastor Deb Sutter":MAILTO:debra.sutter@fmc-cu.org
END:VEVENT
BEGIN:VEVENT
DTSTART;TZID=America/Chicago:20260208T111500
DTEND;TZID=America/Chicago:20260208T134500
DTSTAMP:20260422T162936
CREATED:20260127T200615Z
LAST-MODIFIED:20260127T200615Z
UID:10003586-1770549300-1770558300@fmc-cu.org
SUMMARY:Christian Ed Committee & Parent Visioning Meeting
DESCRIPTION:The Christian Education Committee is hosting a visioning conversation for all FMC parents of children and youth.\nLunch and childcare provided. Contact Pastor Michael with questions. \n  \n11:15a-1:45p –
URL:https://fmc-cu.org/event/christian-ed-committee-parent-visioning-meeting/
LOCATION:First Mennonite Church\, 902 W Springfield Ave\, Urbana\, IL\, 61801\, United States
ORGANIZER;CN="Pastor Michael Crosby":MAILTO:michael.crosby@fmc-cu.org
END:VEVENT
BEGIN:VEVENT
DTSTART;TZID=America/Chicago:20260208T091500
DTEND;TZID=America/Chicago:20260208T120000
DTSTAMP:20260422T162936
CREATED:20260104T173606Z
LAST-MODIFIED:20260104T173606Z
UID:10003535-1770542100-1770552000@fmc-cu.org
SUMMARY:Sunday Morning Worship
DESCRIPTION:Join us for worship at 9:15 am in-person or online.  We welcome\, without exclusion all who seek God’s love and grace! \nOur Winter children’s offering is to help MCC’s relief work. \nSunday school classes for all ages begin at 11:15 am.
URL:https://fmc-cu.org/event/sunday-morning-worship-2/2026-02-08/
LOCATION:First Mennonite Church\, 902 W Springfield Ave\, Urbana\, IL\, 61801\, United States
CATEGORIES:Sunday Mornings
ORGANIZER;CN="FMC Office":MAILTO:office@fmc-cu.org
END:VEVENT
BEGIN:VEVENT
DTSTART;TZID=America/Chicago:20260203T090000
DTEND;TZID=America/Chicago:20260203T120000
DTSTAMP:20260422T162936
CREATED:20251203T194142Z
LAST-MODIFIED:20260130T191020Z
UID:10003589-1770109200-1770120000@fmc-cu.org
SUMMARY:Tuesday Morning Music Club
DESCRIPTION:This community music club has reserved use of our church in the morning. The music program is open to the public.
URL:https://fmc-cu.org/event/tuesday-morning-music-club-private-event-2022-02-15-2/2026-02-03/
LOCATION:First Mennonite Church\, 902 W Springfield Ave\, Urbana\, IL\, 61801\, United States
CATEGORIES:Private Events (reserved)
ORGANIZER;CN="Associate Pastor Deb Sutter":MAILTO:debra.sutter@fmc-cu.org
END:VEVENT
BEGIN:VEVENT
DTSTART;TZID=America/Chicago:20260201T120000
DTEND;TZID=America/Chicago:20260201T150000
DTSTAMP:20260422T162936
CREATED:20211210T175631Z
LAST-MODIFIED:20260127T195537Z
UID:10000662-1769947200-1769958000@fmc-cu.org
SUMMARY:FMC Potluck & Annual Congregational Business Meeting
DESCRIPTION:12Noon – Congregational potluck. You are invited to bring a nut-free dish to share. \n1pm – Congregational Annual Business meeting. The congregation reviews the work done in 2025 and discusses and decides the 2026 budget.
URL:https://fmc-cu.org/event/fmc-annual-meeting-after-worship/
LOCATION:First Mennonite Church\, 902 W Springfield Ave\, Urbana\, IL\, 61801\, United States
CATEGORIES:FMC Meetings
ORGANIZER;CN="FMC Office":MAILTO:office@fmc-cu.org
END:VEVENT
BEGIN:VEVENT
DTSTART;TZID=America/Chicago:20260201T091500
DTEND;TZID=America/Chicago:20260201T120000
DTSTAMP:20260422T162936
CREATED:20260104T173606Z
LAST-MODIFIED:20260104T173606Z
UID:10003534-1769937300-1769947200@fmc-cu.org
SUMMARY:Sunday Morning Worship
DESCRIPTION:Join us for worship at 9:15 am in-person or online.  We welcome\, without exclusion all who seek God’s love and grace! \nOur Winter children’s offering is to help MCC’s relief work. \nSunday school classes for all ages begin at 11:15 am.
URL:https://fmc-cu.org/event/sunday-morning-worship-2/2026-02-01/
LOCATION:First Mennonite Church\, 902 W Springfield Ave\, Urbana\, IL\, 61801\, United States
CATEGORIES:Sunday Mornings
ORGANIZER;CN="FMC Office":MAILTO:office@fmc-cu.org
END:VEVENT
BEGIN:VEVENT
DTSTART;TZID=America/Chicago:20260125T091500
DTEND;TZID=America/Chicago:20260125T120000
DTSTAMP:20260422T162936
CREATED:20260104T173606Z
LAST-MODIFIED:20260104T173606Z
UID:10003533-1769332500-1769342400@fmc-cu.org
SUMMARY:Sunday Morning Worship
DESCRIPTION:Join us for worship at 9:15 am in-person or online.  We welcome\, without exclusion all who seek God’s love and grace! \nOur Winter children’s offering is to help MCC’s relief work. \nSunday school classes for all ages begin at 11:15 am.
URL:https://fmc-cu.org/event/sunday-morning-worship-2/2026-01-25/
LOCATION:First Mennonite Church\, 902 W Springfield Ave\, Urbana\, IL\, 61801\, United States
CATEGORIES:Sunday Mornings
ORGANIZER;CN="FMC Office":MAILTO:office@fmc-cu.org
END:VEVENT
BEGIN:VEVENT
DTSTART;TZID=America/Chicago:20260124T110000
DTEND;TZID=America/Chicago:20260124T150000
DTSTAMP:20260422T162936
CREATED:20240213T205010Z
LAST-MODIFIED:20260120T175511Z
UID:10002363-1769252400-1769266800@fmc-cu.org
SUMMARY:FMC downstairs reserved for private event
DESCRIPTION:Crawford family.
URL:https://fmc-cu.org/event/fmc-reserved-for-private-event/
LOCATION:First Mennonite Church\, 902 W Springfield Ave\, Urbana\, IL\, 61801\, United States
CATEGORIES:Private Events (reserved)
ORGANIZER;CN="FMC Office":MAILTO:office@fmc-cu.org
END:VEVENT
BEGIN:VEVENT
DTSTART;TZID=America/Chicago:20260118T091500
DTEND;TZID=America/Chicago:20260118T120000
DTSTAMP:20260422T162936
CREATED:20260104T173606Z
LAST-MODIFIED:20260104T173606Z
UID:10003532-1768727700-1768737600@fmc-cu.org
SUMMARY:Sunday Morning Worship
DESCRIPTION:Join us for worship at 9:15 am in-person or online.  We welcome\, without exclusion all who seek God’s love and grace! \nOur Winter children’s offering is to help MCC’s relief work. \nSunday school classes for all ages begin at 11:15 am.
URL:https://fmc-cu.org/event/sunday-morning-worship-2/2026-01-18/
LOCATION:First Mennonite Church\, 902 W Springfield Ave\, Urbana\, IL\, 61801\, United States
CATEGORIES:Sunday Mornings
ORGANIZER;CN="FMC Office":MAILTO:office@fmc-cu.org
END:VEVENT
BEGIN:VEVENT
DTSTART;TZID=America/Chicago:20260114T180000
DTEND;TZID=America/Chicago:20260114T200000
DTSTAMP:20260422T162936
CREATED:20211216T173053Z
LAST-MODIFIED:20260104T173344Z
UID:10000941-1768413600-1768420800@fmc-cu.org
SUMMARY:FMC Joint Council Meeting
DESCRIPTION:The 2025/2026 Council members meet at 6 pm in the FMC fellowship hall.
URL:https://fmc-cu.org/event/fmc-joint-council-meeting/
LOCATION:First Mennonite Church\, 902 W Springfield Ave\, Urbana\, IL\, 61801\, United States
CATEGORIES:FMC Meetings
ORGANIZER;CN="FMC Office":MAILTO:office@fmc-cu.org
END:VEVENT
BEGIN:VEVENT
DTSTART;TZID=America/Chicago:20260111T091500
DTEND;TZID=America/Chicago:20260111T120000
DTSTAMP:20260422T162936
CREATED:20260104T173606Z
LAST-MODIFIED:20260104T173606Z
UID:10003531-1768122900-1768132800@fmc-cu.org
SUMMARY:Sunday Morning Worship
DESCRIPTION:Join us for worship at 9:15 am in-person or online.  We welcome\, without exclusion all who seek God’s love and grace! \nOur Winter children’s offering is to help MCC’s relief work. \nSunday school classes for all ages begin at 11:15 am.
URL:https://fmc-cu.org/event/sunday-morning-worship-2/2026-01-11/
LOCATION:First Mennonite Church\, 902 W Springfield Ave\, Urbana\, IL\, 61801\, United States
CATEGORIES:Sunday Mornings
ORGANIZER;CN="FMC Office":MAILTO:office@fmc-cu.org
END:VEVENT
BEGIN:VEVENT
DTSTART;TZID=America/Chicago:20260102T103000
DTEND;TZID=America/Chicago:20260102T120000
DTSTAMP:20260422T162936
CREATED:20250417T191656Z
LAST-MODIFIED:20260218T200346Z
UID:10003557-1767349800-1767355200@fmc-cu.org
SUMMARY:Friday Spiritual Direction Group
DESCRIPTION:4-6 people meet several times each month for prayer\, sharing\, Lectio Divina and a short silence. Meeting times and days are decided by the group. New groups are formed each September. \nThe group meets in person & on Zoom.
URL:https://fmc-cu.org/event/friday-spiritual-direction-group-2/2026-01-02/
LOCATION:First Mennonite Church\, 902 W Springfield Ave\, Urbana\, IL\, 61801\, United States
CATEGORIES:Spiritual Direction Groups
ORGANIZER;CN="Associate Pastor Deb Sutter":MAILTO:debra.sutter@fmc-cu.org
END:VEVENT
BEGIN:VEVENT
DTSTART;TZID=America/Chicago:20251228T100000
DTEND;TZID=America/Chicago:20251228T113000
DTSTAMP:20260422T162936
CREATED:20210402T205309Z
LAST-MODIFIED:20251107T192808Z
UID:10000354-1766916000-1766921400@fmc-cu.org
SUMMARY:Sunday Mornings at FMC
DESCRIPTION:CHRISTMAS SUNDAY \nTheme: Be Amazed! \nJoin us for worship at 10 am today live in the sanctuary or online.  We welcome\, without exclusion all who seek God’s love and grace! \nOur current children’s offering benefits the Mennonite Central Committee’s crisis response in Gaza. \nNO SUNDAY SCHOOL TODAY.
URL:https://fmc-cu.org/event/sunday-mornings-2021-11-21-2022-12-25/
LOCATION:First Mennonite Church\, 902 W Springfield Ave\, Urbana\, IL\, 61801\, United States
CATEGORIES:Sunday Mornings
ORGANIZER;CN="FMC Office":MAILTO:office@fmc-cu.org
END:VEVENT
BEGIN:VEVENT
DTSTART;TZID=America/Chicago:20251224T183000
DTEND;TZID=America/Chicago:20251224T193000
DTSTAMP:20260422T162936
CREATED:20211217T202419Z
LAST-MODIFIED:20251107T192230Z
UID:10000134-1766601000-1766604600@fmc-cu.org
SUMMARY:Christmas Eve Candlelight Service
DESCRIPTION:Join us at 6:30 pm in-person or online for a Christmas Eve Candlelight Service.
URL:https://fmc-cu.org/event/christmas-eve-candlelight-service-2/
LOCATION:First Mennonite Church\, 902 W Springfield Ave\, Urbana\, IL\, 61801\, United States
CATEGORIES:FMC Events
ORGANIZER;CN="FMC Office":MAILTO:office@fmc-cu.org
END:VEVENT
BEGIN:VEVENT
DTSTART;TZID=America/Chicago:20251221T091500
DTEND;TZID=America/Chicago:20251221T120000
DTSTAMP:20260422T162936
CREATED:20251107T192521Z
LAST-MODIFIED:20251107T192521Z
UID:10003446-1766308500-1766318400@fmc-cu.org
SUMMARY:Sunday Mornings During Advent
DESCRIPTION:ADVENT Series: Be Amazed! \nJoin us for worship at 9:15 am in-person or online.  We welcome\, without exclusion all who seek God’s love and grace! \nOur Winter children’s offering is to help MCC’s relief work. \nSunday school classes for all ages begin at 11:15 am.
URL:https://fmc-cu.org/event/sunday-mornings-during-advent/2025-12-21/
LOCATION:First Mennonite Church\, 902 W Springfield Ave\, Urbana\, IL\, 61801\, United States
CATEGORIES:Sunday Mornings
ORGANIZER;CN="FMC Office":MAILTO:office@fmc-cu.org
END:VEVENT
END:VCALENDAR