BEGIN:VCALENDAR
VERSION:2.0
PRODID:-//First Mennonite Church of Champaign-Urbana - ECPv6.15.20//NONSGML v1.0//EN
CALSCALE:GREGORIAN
METHOD:PUBLISH
X-WR-CALNAME:First Mennonite Church of Champaign-Urbana
X-ORIGINAL-URL:https://fmc-cu.org
X-WR-CALDESC:Events for First Mennonite Church of Champaign-Urbana
REFRESH-INTERVAL;VALUE=DURATION:PT1H
X-Robots-Tag:noindex
X-PUBLISHED-TTL:PT1H
BEGIN:VTIMEZONE
TZID:America/Chicago
BEGIN:DAYLIGHT
TZOFFSETFROM:-0600
TZOFFSETTO:-0500
TZNAME:CDT
DTSTART:20250309T080000
END:DAYLIGHT
BEGIN:STANDARD
TZOFFSETFROM:-0500
TZOFFSETTO:-0600
TZNAME:CST
DTSTART:20251102T070000
END:STANDARD
BEGIN:DAYLIGHT
TZOFFSETFROM:-0600
TZOFFSETTO:-0500
TZNAME:CDT
DTSTART:20260308T080000
END:DAYLIGHT
BEGIN:STANDARD
TZOFFSETFROM:-0500
TZOFFSETTO:-0600
TZNAME:CST
DTSTART:20261101T070000
END:STANDARD
BEGIN:DAYLIGHT
TZOFFSETFROM:-0600
TZOFFSETTO:-0500
TZNAME:CDT
DTSTART:20270314T080000
END:DAYLIGHT
BEGIN:STANDARD
TZOFFSETFROM:-0500
TZOFFSETTO:-0600
TZNAME:CST
DTSTART:20271107T070000
END:STANDARD
END:VTIMEZONE
BEGIN:VEVENT
DTSTART;TZID=America/Chicago:20260530T150000
DTEND;TZID=America/Chicago:20260530T170000
DTSTAMP:20260420T193707
CREATED:20260315T171408Z
LAST-MODIFIED:20260403T144019Z
UID:10003800-1780153200-1780160400@fmc-cu.org
SUMMARY:Pastor Deb's retirement celebration
DESCRIPTION:
URL:https://fmc-cu.org/event/celebration-for-pastor-deb/
LOCATION:First Mennonite Church\, 902 W Springfield Ave\, Urbana\, IL\, 61801\, United States
CATEGORIES:FMC Events
ORGANIZER;CN="FMC Office":MAILTO:office@fmc-cu.org
END:VEVENT
BEGIN:VEVENT
DTSTART;TZID=America/Chicago:20260531T091500
DTEND;TZID=America/Chicago:20260531T120000
DTSTAMP:20260420T193707
CREATED:20251031T175100Z
LAST-MODIFIED:20260305T183806Z
UID:10003710-1780218900-1780228800@fmc-cu.org
SUMMARY:Sunday Mornings at FMC
DESCRIPTION:Join us for worship at 9:15 am in-person or online.  We welcome\, without exclusion all who seek God’s love and grace! \nOur Spring/Summer Children’s offering benefits Sola Gratia Farm in Urbana\, a non-profit urban farm dedicated to making healthy food accessible for all. \nSunday school classes for all ages begin at 11:15 am.
URL:https://fmc-cu.org/event/sunday-mornings-at-fmc-38/2026-05-31/
LOCATION:First Mennonite Church\, 902 W Springfield Ave\, Urbana\, IL\, 61801\, United States
CATEGORIES:Sunday Mornings
ORGANIZER;CN="FMC Office":MAILTO:office@fmc-cu.org
END:VEVENT
BEGIN:VEVENT
DTSTART;TZID=America/Chicago:20260604T131500
DTEND;TZID=America/Chicago:20260604T150000
DTSTAMP:20260420T193707
CREATED:20230323T173509Z
LAST-MODIFIED:20260304T164613Z
UID:10003696-1780578900-1780585200@fmc-cu.org
SUMMARY:Christian Education Committee Meeting
DESCRIPTION:This committee oversees the Christian Education (Spiritual Formation) needs of the congregation and for planning programming to meet them. \n 
URL:https://fmc-cu.org/event/christian-education-committee-meeting-3/2026-06-04/
LOCATION:First Mennonite Church\, 902 W Springfield Ave\, Urbana\, IL\, 61801\, United States
CATEGORIES:FMC Meetings
ORGANIZER;CN="FMC Office":MAILTO:office@fmc-cu.org
END:VEVENT
BEGIN:VEVENT
DTSTART;TZID=America/Chicago:20260607T091500
DTEND;TZID=America/Chicago:20260607T120000
DTSTAMP:20260420T193707
CREATED:20251031T175100Z
LAST-MODIFIED:20260305T183806Z
UID:10003711-1780823700-1780833600@fmc-cu.org
SUMMARY:Sunday Mornings at FMC
DESCRIPTION:Join us for worship at 9:15 am in-person or online.  We welcome\, without exclusion all who seek God’s love and grace! \nOur Spring/Summer Children’s offering benefits Sola Gratia Farm in Urbana\, a non-profit urban farm dedicated to making healthy food accessible for all. \nSunday school classes for all ages begin at 11:15 am.
URL:https://fmc-cu.org/event/sunday-mornings-at-fmc-38/2026-06-07/
LOCATION:First Mennonite Church\, 902 W Springfield Ave\, Urbana\, IL\, 61801\, United States
CATEGORIES:Sunday Mornings
ORGANIZER;CN="FMC Office":MAILTO:office@fmc-cu.org
END:VEVENT
BEGIN:VEVENT
DTSTART;TZID=America/Chicago:20260610T180000
DTEND;TZID=America/Chicago:20260610T200000
DTSTAMP:20260420T193707
CREATED:20260121T182245Z
LAST-MODIFIED:20260121T182620Z
UID:10003577-1781114400-1781121600@fmc-cu.org
SUMMARY:FMC Council meeting
DESCRIPTION:
URL:https://fmc-cu.org/event/fmc-council-meeting-2-2/2026-06-10/
LOCATION:First Mennonite Church\, 902 W Springfield Ave\, Urbana\, IL\, 61801\, United States
CATEGORIES:FMC Meetings
ORGANIZER;CN="FMC Office":MAILTO:office@fmc-cu.org
END:VEVENT
BEGIN:VEVENT
DTSTART;TZID=America/Chicago:20260614T091500
DTEND;TZID=America/Chicago:20260614T120000
DTSTAMP:20260420T193707
CREATED:20251031T175100Z
LAST-MODIFIED:20260305T183806Z
UID:10003712-1781428500-1781438400@fmc-cu.org
SUMMARY:Sunday Mornings at FMC
DESCRIPTION:Join us for worship at 9:15 am in-person or online.  We welcome\, without exclusion all who seek God’s love and grace! \nOur Spring/Summer Children’s offering benefits Sola Gratia Farm in Urbana\, a non-profit urban farm dedicated to making healthy food accessible for all. \nSunday school classes for all ages begin at 11:15 am.
URL:https://fmc-cu.org/event/sunday-mornings-at-fmc-38/2026-06-14/
LOCATION:First Mennonite Church\, 902 W Springfield Ave\, Urbana\, IL\, 61801\, United States
CATEGORIES:Sunday Mornings
ORGANIZER;CN="FMC Office":MAILTO:office@fmc-cu.org
END:VEVENT
BEGIN:VEVENT
DTSTART;TZID=America/Chicago:20260619T150000
DTEND;TZID=America/Chicago:20260619T170000
DTSTAMP:20260420T193707
CREATED:20240327T145533Z
LAST-MODIFIED:20260305T184548Z
UID:10003770-1781881200-1781888400@fmc-cu.org
SUMMARY:Service & Outreach Committee-Hybrid
DESCRIPTION:The Service and Outreach Committee reaches out to and welcomes people who wish to know more about the church. The committee also coordinates FMC service projects in the community and beyond.
URL:https://fmc-cu.org/event/service-outreach-committee-2021-11-18-2022-09-22-2-2/2026-06-19/
LOCATION:First Mennonite Church\, 902 W Springfield Ave\, Urbana\, IL\, 61801\, United States
CATEGORIES:FMC Meetings
ORGANIZER;CN="Pastor Michael Crosby":MAILTO:michael.crosby@fmc-cu.org
END:VEVENT
BEGIN:VEVENT
DTSTART;TZID=America/Chicago:20260619T163000
DTEND;TZID=America/Chicago:20260619T180000
DTSTAMP:20260420T193707
CREATED:20250430T173744Z
LAST-MODIFIED:20260325T163150Z
UID:10003820-1781886600-1781892000@fmc-cu.org
SUMMARY:Facilities Committee (Hybrid)
DESCRIPTION:This FMC committee is responsible for the general supervision of the church’s physical property and financial affairs.
URL:https://fmc-cu.org/event/facilities-committee-hybrid-4/2026-06-19/
LOCATION:First Mennonite Church\, 902 W Springfield Ave\, Urbana\, IL\, 61801\, United States
CATEGORIES:FMC Meetings
ORGANIZER;CN="Pastor Michael Crosby":MAILTO:michael.crosby@fmc-cu.org
END:VEVENT
BEGIN:VEVENT
DTSTART;TZID=America/Chicago:20260621T091500
DTEND;TZID=America/Chicago:20260621T120000
DTSTAMP:20260420T193707
CREATED:20251031T175100Z
LAST-MODIFIED:20260305T183806Z
UID:10003713-1782033300-1782043200@fmc-cu.org
SUMMARY:Sunday Mornings at FMC
DESCRIPTION:Join us for worship at 9:15 am in-person or online.  We welcome\, without exclusion all who seek God’s love and grace! \nOur Spring/Summer Children’s offering benefits Sola Gratia Farm in Urbana\, a non-profit urban farm dedicated to making healthy food accessible for all. \nSunday school classes for all ages begin at 11:15 am.
URL:https://fmc-cu.org/event/sunday-mornings-at-fmc-38/2026-06-21/
LOCATION:First Mennonite Church\, 902 W Springfield Ave\, Urbana\, IL\, 61801\, United States
CATEGORIES:Sunday Mornings
ORGANIZER;CN="FMC Office":MAILTO:office@fmc-cu.org
END:VEVENT
BEGIN:VEVENT
DTSTART;TZID=America/Chicago:20260628T091500
DTEND;TZID=America/Chicago:20260628T120000
DTSTAMP:20260420T193707
CREATED:20251031T175100Z
LAST-MODIFIED:20260305T183806Z
UID:10003714-1782638100-1782648000@fmc-cu.org
SUMMARY:Sunday Mornings at FMC
DESCRIPTION:Join us for worship at 9:15 am in-person or online.  We welcome\, without exclusion all who seek God’s love and grace! \nOur Spring/Summer Children’s offering benefits Sola Gratia Farm in Urbana\, a non-profit urban farm dedicated to making healthy food accessible for all. \nSunday school classes for all ages begin at 11:15 am.
URL:https://fmc-cu.org/event/sunday-mornings-at-fmc-38/2026-06-28/
LOCATION:First Mennonite Church\, 902 W Springfield Ave\, Urbana\, IL\, 61801\, United States
CATEGORIES:Sunday Mornings
ORGANIZER;CN="FMC Office":MAILTO:office@fmc-cu.org
END:VEVENT
BEGIN:VEVENT
DTSTART;TZID=America/Chicago:20260702T131500
DTEND;TZID=America/Chicago:20260702T150000
DTSTAMP:20260420T193707
CREATED:20230323T173509Z
LAST-MODIFIED:20260304T164613Z
UID:10003697-1782998100-1783004400@fmc-cu.org
SUMMARY:Christian Education Committee Meeting
DESCRIPTION:This committee oversees the Christian Education (Spiritual Formation) needs of the congregation and for planning programming to meet them. \n 
URL:https://fmc-cu.org/event/christian-education-committee-meeting-3/2026-07-02/
LOCATION:First Mennonite Church\, 902 W Springfield Ave\, Urbana\, IL\, 61801\, United States
CATEGORIES:FMC Meetings
ORGANIZER;CN="FMC Office":MAILTO:office@fmc-cu.org
END:VEVENT
BEGIN:VEVENT
DTSTART;TZID=America/Chicago:20260705T091500
DTEND;TZID=America/Chicago:20260705T120000
DTSTAMP:20260420T193707
CREATED:20251031T175100Z
LAST-MODIFIED:20260305T183806Z
UID:10003715-1783242900-1783252800@fmc-cu.org
SUMMARY:Sunday Mornings at FMC
DESCRIPTION:Join us for worship at 9:15 am in-person or online.  We welcome\, without exclusion all who seek God’s love and grace! \nOur Spring/Summer Children’s offering benefits Sola Gratia Farm in Urbana\, a non-profit urban farm dedicated to making healthy food accessible for all. \nSunday school classes for all ages begin at 11:15 am.
URL:https://fmc-cu.org/event/sunday-mornings-at-fmc-38/2026-07-05/
LOCATION:First Mennonite Church\, 902 W Springfield Ave\, Urbana\, IL\, 61801\, United States
CATEGORIES:Sunday Mornings
ORGANIZER;CN="FMC Office":MAILTO:office@fmc-cu.org
END:VEVENT
BEGIN:VEVENT
DTSTART;TZID=America/Chicago:20260712T091500
DTEND;TZID=America/Chicago:20260712T120000
DTSTAMP:20260420T193707
CREATED:20251031T175100Z
LAST-MODIFIED:20260305T183806Z
UID:10003716-1783847700-1783857600@fmc-cu.org
SUMMARY:Sunday Mornings at FMC
DESCRIPTION:Join us for worship at 9:15 am in-person or online.  We welcome\, without exclusion all who seek God’s love and grace! \nOur Spring/Summer Children’s offering benefits Sola Gratia Farm in Urbana\, a non-profit urban farm dedicated to making healthy food accessible for all. \nSunday school classes for all ages begin at 11:15 am.
URL:https://fmc-cu.org/event/sunday-mornings-at-fmc-38/2026-07-12/
LOCATION:First Mennonite Church\, 902 W Springfield Ave\, Urbana\, IL\, 61801\, United States
CATEGORIES:Sunday Mornings
ORGANIZER;CN="FMC Office":MAILTO:office@fmc-cu.org
END:VEVENT
BEGIN:VEVENT
DTSTART;TZID=America/Chicago:20260717T150000
DTEND;TZID=America/Chicago:20260717T170000
DTSTAMP:20260420T193707
CREATED:20240327T145533Z
LAST-MODIFIED:20260305T184548Z
UID:10003771-1784300400-1784307600@fmc-cu.org
SUMMARY:Service & Outreach Committee-Hybrid
DESCRIPTION:The Service and Outreach Committee reaches out to and welcomes people who wish to know more about the church. The committee also coordinates FMC service projects in the community and beyond.
URL:https://fmc-cu.org/event/service-outreach-committee-2021-11-18-2022-09-22-2-2/2026-07-17/
LOCATION:First Mennonite Church\, 902 W Springfield Ave\, Urbana\, IL\, 61801\, United States
CATEGORIES:FMC Meetings
ORGANIZER;CN="Pastor Michael Crosby":MAILTO:michael.crosby@fmc-cu.org
END:VEVENT
BEGIN:VEVENT
DTSTART;TZID=America/Chicago:20260717T163000
DTEND;TZID=America/Chicago:20260717T180000
DTSTAMP:20260420T193707
CREATED:20250430T173744Z
LAST-MODIFIED:20260325T163150Z
UID:10003821-1784305800-1784311200@fmc-cu.org
SUMMARY:Facilities Committee (Hybrid)
DESCRIPTION:This FMC committee is responsible for the general supervision of the church’s physical property and financial affairs.
URL:https://fmc-cu.org/event/facilities-committee-hybrid-4/2026-07-17/
LOCATION:First Mennonite Church\, 902 W Springfield Ave\, Urbana\, IL\, 61801\, United States
CATEGORIES:FMC Meetings
ORGANIZER;CN="Pastor Michael Crosby":MAILTO:michael.crosby@fmc-cu.org
END:VEVENT
BEGIN:VEVENT
DTSTART;TZID=America/Chicago:20260719T091500
DTEND;TZID=America/Chicago:20260719T120000
DTSTAMP:20260420T193707
CREATED:20251031T175100Z
LAST-MODIFIED:20260305T183806Z
UID:10003717-1784452500-1784462400@fmc-cu.org
SUMMARY:Sunday Mornings at FMC
DESCRIPTION:Join us for worship at 9:15 am in-person or online.  We welcome\, without exclusion all who seek God’s love and grace! \nOur Spring/Summer Children’s offering benefits Sola Gratia Farm in Urbana\, a non-profit urban farm dedicated to making healthy food accessible for all. \nSunday school classes for all ages begin at 11:15 am.
URL:https://fmc-cu.org/event/sunday-mornings-at-fmc-38/2026-07-19/
LOCATION:First Mennonite Church\, 902 W Springfield Ave\, Urbana\, IL\, 61801\, United States
CATEGORIES:Sunday Mornings
ORGANIZER;CN="FMC Office":MAILTO:office@fmc-cu.org
END:VEVENT
BEGIN:VEVENT
DTSTART;TZID=America/Chicago:20260726T091500
DTEND;TZID=America/Chicago:20260726T120000
DTSTAMP:20260420T193707
CREATED:20251031T175100Z
LAST-MODIFIED:20260305T183806Z
UID:10003718-1785057300-1785067200@fmc-cu.org
SUMMARY:Sunday Mornings at FMC
DESCRIPTION:Join us for worship at 9:15 am in-person or online.  We welcome\, without exclusion all who seek God’s love and grace! \nOur Spring/Summer Children’s offering benefits Sola Gratia Farm in Urbana\, a non-profit urban farm dedicated to making healthy food accessible for all. \nSunday school classes for all ages begin at 11:15 am.
URL:https://fmc-cu.org/event/sunday-mornings-at-fmc-38/2026-07-26/
LOCATION:First Mennonite Church\, 902 W Springfield Ave\, Urbana\, IL\, 61801\, United States
CATEGORIES:Sunday Mornings
ORGANIZER;CN="FMC Office":MAILTO:office@fmc-cu.org
END:VEVENT
BEGIN:VEVENT
DTSTART;TZID=America/Chicago:20260802T091500
DTEND;TZID=America/Chicago:20260802T120000
DTSTAMP:20260420T193707
CREATED:20251031T175100Z
LAST-MODIFIED:20260305T183806Z
UID:10003719-1785662100-1785672000@fmc-cu.org
SUMMARY:Sunday Mornings at FMC
DESCRIPTION:Join us for worship at 9:15 am in-person or online.  We welcome\, without exclusion all who seek God’s love and grace! \nOur Spring/Summer Children’s offering benefits Sola Gratia Farm in Urbana\, a non-profit urban farm dedicated to making healthy food accessible for all. \nSunday school classes for all ages begin at 11:15 am.
URL:https://fmc-cu.org/event/sunday-mornings-at-fmc-38/2026-08-02/
LOCATION:First Mennonite Church\, 902 W Springfield Ave\, Urbana\, IL\, 61801\, United States
CATEGORIES:Sunday Mornings
ORGANIZER;CN="FMC Office":MAILTO:office@fmc-cu.org
END:VEVENT
BEGIN:VEVENT
DTSTART;TZID=America/Chicago:20260806T131500
DTEND;TZID=America/Chicago:20260806T150000
DTSTAMP:20260420T193707
CREATED:20230323T173509Z
LAST-MODIFIED:20260304T164613Z
UID:10003698-1786022100-1786028400@fmc-cu.org
SUMMARY:Christian Education Committee Meeting
DESCRIPTION:This committee oversees the Christian Education (Spiritual Formation) needs of the congregation and for planning programming to meet them. \n 
URL:https://fmc-cu.org/event/christian-education-committee-meeting-3/2026-08-06/
LOCATION:First Mennonite Church\, 902 W Springfield Ave\, Urbana\, IL\, 61801\, United States
CATEGORIES:FMC Meetings
ORGANIZER;CN="FMC Office":MAILTO:office@fmc-cu.org
END:VEVENT
BEGIN:VEVENT
DTSTART;TZID=America/Chicago:20260809T091500
DTEND;TZID=America/Chicago:20260809T120000
DTSTAMP:20260420T193707
CREATED:20251031T175100Z
LAST-MODIFIED:20260305T183806Z
UID:10003720-1786266900-1786276800@fmc-cu.org
SUMMARY:Sunday Mornings at FMC
DESCRIPTION:Join us for worship at 9:15 am in-person or online.  We welcome\, without exclusion all who seek God’s love and grace! \nOur Spring/Summer Children’s offering benefits Sola Gratia Farm in Urbana\, a non-profit urban farm dedicated to making healthy food accessible for all. \nSunday school classes for all ages begin at 11:15 am.
URL:https://fmc-cu.org/event/sunday-mornings-at-fmc-38/2026-08-09/
LOCATION:First Mennonite Church\, 902 W Springfield Ave\, Urbana\, IL\, 61801\, United States
CATEGORIES:Sunday Mornings
ORGANIZER;CN="FMC Office":MAILTO:office@fmc-cu.org
END:VEVENT
BEGIN:VEVENT
DTSTART;TZID=America/Chicago:20260812T180000
DTEND;TZID=America/Chicago:20260812T200000
DTSTAMP:20260420T193707
CREATED:20260121T182245Z
LAST-MODIFIED:20260121T182620Z
UID:10003579-1786557600-1786564800@fmc-cu.org
SUMMARY:FMC Council meeting
DESCRIPTION:
URL:https://fmc-cu.org/event/fmc-council-meeting-2-2/2026-08-12/
LOCATION:First Mennonite Church\, 902 W Springfield Ave\, Urbana\, IL\, 61801\, United States
CATEGORIES:FMC Meetings
ORGANIZER;CN="FMC Office":MAILTO:office@fmc-cu.org
END:VEVENT
BEGIN:VEVENT
DTSTART;TZID=America/Chicago:20260816T091500
DTEND;TZID=America/Chicago:20260816T120000
DTSTAMP:20260420T193707
CREATED:20251031T175100Z
LAST-MODIFIED:20260305T183806Z
UID:10003721-1786871700-1786881600@fmc-cu.org
SUMMARY:Sunday Mornings at FMC
DESCRIPTION:Join us for worship at 9:15 am in-person or online.  We welcome\, without exclusion all who seek God’s love and grace! \nOur Spring/Summer Children’s offering benefits Sola Gratia Farm in Urbana\, a non-profit urban farm dedicated to making healthy food accessible for all. \nSunday school classes for all ages begin at 11:15 am.
URL:https://fmc-cu.org/event/sunday-mornings-at-fmc-38/2026-08-16/
LOCATION:First Mennonite Church\, 902 W Springfield Ave\, Urbana\, IL\, 61801\, United States
CATEGORIES:Sunday Mornings
ORGANIZER;CN="FMC Office":MAILTO:office@fmc-cu.org
END:VEVENT
BEGIN:VEVENT
DTSTART;TZID=America/Chicago:20260821T150000
DTEND;TZID=America/Chicago:20260821T170000
DTSTAMP:20260420T193707
CREATED:20240327T145533Z
LAST-MODIFIED:20260305T184548Z
UID:10003772-1787324400-1787331600@fmc-cu.org
SUMMARY:Service & Outreach Committee-Hybrid
DESCRIPTION:The Service and Outreach Committee reaches out to and welcomes people who wish to know more about the church. The committee also coordinates FMC service projects in the community and beyond.
URL:https://fmc-cu.org/event/service-outreach-committee-2021-11-18-2022-09-22-2-2/2026-08-21/
LOCATION:First Mennonite Church\, 902 W Springfield Ave\, Urbana\, IL\, 61801\, United States
CATEGORIES:FMC Meetings
ORGANIZER;CN="Pastor Michael Crosby":MAILTO:michael.crosby@fmc-cu.org
END:VEVENT
BEGIN:VEVENT
DTSTART;TZID=America/Chicago:20260821T163000
DTEND;TZID=America/Chicago:20260821T180000
DTSTAMP:20260420T193707
CREATED:20250430T173744Z
LAST-MODIFIED:20260325T163150Z
UID:10003822-1787329800-1787335200@fmc-cu.org
SUMMARY:Facilities Committee (Hybrid)
DESCRIPTION:This FMC committee is responsible for the general supervision of the church’s physical property and financial affairs.
URL:https://fmc-cu.org/event/facilities-committee-hybrid-4/2026-08-21/
LOCATION:First Mennonite Church\, 902 W Springfield Ave\, Urbana\, IL\, 61801\, United States
CATEGORIES:FMC Meetings
ORGANIZER;CN="Pastor Michael Crosby":MAILTO:michael.crosby@fmc-cu.org
END:VEVENT
BEGIN:VEVENT
DTSTART;TZID=America/Chicago:20260823T091500
DTEND;TZID=America/Chicago:20260823T120000
DTSTAMP:20260420T193707
CREATED:20251031T175100Z
LAST-MODIFIED:20260305T183806Z
UID:10003722-1787476500-1787486400@fmc-cu.org
SUMMARY:Sunday Mornings at FMC
DESCRIPTION:Join us for worship at 9:15 am in-person or online.  We welcome\, without exclusion all who seek God’s love and grace! \nOur Spring/Summer Children’s offering benefits Sola Gratia Farm in Urbana\, a non-profit urban farm dedicated to making healthy food accessible for all. \nSunday school classes for all ages begin at 11:15 am.
URL:https://fmc-cu.org/event/sunday-mornings-at-fmc-38/2026-08-23/
LOCATION:First Mennonite Church\, 902 W Springfield Ave\, Urbana\, IL\, 61801\, United States
CATEGORIES:Sunday Mornings
ORGANIZER;CN="FMC Office":MAILTO:office@fmc-cu.org
END:VEVENT
BEGIN:VEVENT
DTSTART;TZID=America/Chicago:20260830T091500
DTEND;TZID=America/Chicago:20260830T120000
DTSTAMP:20260420T193707
CREATED:20251031T175100Z
LAST-MODIFIED:20260305T183806Z
UID:10003723-1788081300-1788091200@fmc-cu.org
SUMMARY:Sunday Mornings at FMC
DESCRIPTION:Join us for worship at 9:15 am in-person or online.  We welcome\, without exclusion all who seek God’s love and grace! \nOur Spring/Summer Children’s offering benefits Sola Gratia Farm in Urbana\, a non-profit urban farm dedicated to making healthy food accessible for all. \nSunday school classes for all ages begin at 11:15 am.
URL:https://fmc-cu.org/event/sunday-mornings-at-fmc-38/2026-08-30/
LOCATION:First Mennonite Church\, 902 W Springfield Ave\, Urbana\, IL\, 61801\, United States
CATEGORIES:Sunday Mornings
ORGANIZER;CN="FMC Office":MAILTO:office@fmc-cu.org
END:VEVENT
BEGIN:VEVENT
DTSTART;TZID=America/Chicago:20260903T131500
DTEND;TZID=America/Chicago:20260903T150000
DTSTAMP:20260420T193707
CREATED:20230323T173509Z
LAST-MODIFIED:20260304T164613Z
UID:10003699-1788441300-1788447600@fmc-cu.org
SUMMARY:Christian Education Committee Meeting
DESCRIPTION:This committee oversees the Christian Education (Spiritual Formation) needs of the congregation and for planning programming to meet them. \n 
URL:https://fmc-cu.org/event/christian-education-committee-meeting-3/2026-09-03/
LOCATION:First Mennonite Church\, 902 W Springfield Ave\, Urbana\, IL\, 61801\, United States
CATEGORIES:FMC Meetings
ORGANIZER;CN="FMC Office":MAILTO:office@fmc-cu.org
END:VEVENT
BEGIN:VEVENT
DTSTART;TZID=America/Chicago:20260906T091500
DTEND;TZID=America/Chicago:20260906T120000
DTSTAMP:20260420T193707
CREATED:20251031T175100Z
LAST-MODIFIED:20260305T183806Z
UID:10003724-1788686100-1788696000@fmc-cu.org
SUMMARY:Sunday Mornings at FMC
DESCRIPTION:Join us for worship at 9:15 am in-person or online.  We welcome\, without exclusion all who seek God’s love and grace! \nOur Spring/Summer Children’s offering benefits Sola Gratia Farm in Urbana\, a non-profit urban farm dedicated to making healthy food accessible for all. \nSunday school classes for all ages begin at 11:15 am.
URL:https://fmc-cu.org/event/sunday-mornings-at-fmc-38/2026-09-06/
LOCATION:First Mennonite Church\, 902 W Springfield Ave\, Urbana\, IL\, 61801\, United States
CATEGORIES:Sunday Mornings
ORGANIZER;CN="FMC Office":MAILTO:office@fmc-cu.org
END:VEVENT
BEGIN:VEVENT
DTSTART;TZID=America/Chicago:20260909T180000
DTEND;TZID=America/Chicago:20260909T200000
DTSTAMP:20260420T193707
CREATED:20260121T182245Z
LAST-MODIFIED:20260121T182620Z
UID:10003580-1788976800-1788984000@fmc-cu.org
SUMMARY:FMC Council meeting
DESCRIPTION:
URL:https://fmc-cu.org/event/fmc-council-meeting-2-2/2026-09-09/
LOCATION:First Mennonite Church\, 902 W Springfield Ave\, Urbana\, IL\, 61801\, United States
CATEGORIES:FMC Meetings
ORGANIZER;CN="FMC Office":MAILTO:office@fmc-cu.org
END:VEVENT
BEGIN:VEVENT
DTSTART;TZID=America/Chicago:20260913T091500
DTEND;TZID=America/Chicago:20260913T120000
DTSTAMP:20260420T193707
CREATED:20251031T175100Z
LAST-MODIFIED:20260305T183806Z
UID:10003725-1789290900-1789300800@fmc-cu.org
SUMMARY:Sunday Mornings at FMC
DESCRIPTION:Join us for worship at 9:15 am in-person or online.  We welcome\, without exclusion all who seek God’s love and grace! \nOur Spring/Summer Children’s offering benefits Sola Gratia Farm in Urbana\, a non-profit urban farm dedicated to making healthy food accessible for all. \nSunday school classes for all ages begin at 11:15 am.
URL:https://fmc-cu.org/event/sunday-mornings-at-fmc-38/2026-09-13/
LOCATION:First Mennonite Church\, 902 W Springfield Ave\, Urbana\, IL\, 61801\, United States
CATEGORIES:Sunday Mornings
ORGANIZER;CN="FMC Office":MAILTO:office@fmc-cu.org
END:VEVENT
END:VCALENDAR