BEGIN:VCALENDAR
VERSION:2.0
PRODID:-//First Mennonite Church of Champaign-Urbana - ECPv6.15.20//NONSGML v1.0//EN
CALSCALE:GREGORIAN
METHOD:PUBLISH
X-ORIGINAL-URL:https://fmc-cu.org
X-WR-CALDESC:Events for First Mennonite Church of Champaign-Urbana
REFRESH-INTERVAL;VALUE=DURATION:PT1H
X-Robots-Tag:noindex
X-PUBLISHED-TTL:PT1H
BEGIN:VTIMEZONE
TZID:America/Chicago
BEGIN:DAYLIGHT
TZOFFSETFROM:-0600
TZOFFSETTO:-0500
TZNAME:CDT
DTSTART:20220313T080000
END:DAYLIGHT
BEGIN:STANDARD
TZOFFSETFROM:-0500
TZOFFSETTO:-0600
TZNAME:CST
DTSTART:20221106T070000
END:STANDARD
BEGIN:DAYLIGHT
TZOFFSETFROM:-0600
TZOFFSETTO:-0500
TZNAME:CDT
DTSTART:20230312T080000
END:DAYLIGHT
BEGIN:STANDARD
TZOFFSETFROM:-0500
TZOFFSETTO:-0600
TZNAME:CST
DTSTART:20231105T070000
END:STANDARD
BEGIN:DAYLIGHT
TZOFFSETFROM:-0600
TZOFFSETTO:-0500
TZNAME:CDT
DTSTART:20240310T080000
END:DAYLIGHT
BEGIN:STANDARD
TZOFFSETFROM:-0500
TZOFFSETTO:-0600
TZNAME:CST
DTSTART:20241103T070000
END:STANDARD
END:VTIMEZONE
BEGIN:VEVENT
DTSTART;TZID=America/Chicago:20230320T190000
DTEND;TZID=America/Chicago:20230320T210000
DTSTAMP:20260423T095939
CREATED:20230119T175009Z
LAST-MODIFIED:20230119T180229Z
UID:10001454-1679338800-1679346000@fmc-cu.org
SUMMARY:FMC Volleyball Game - Church League
DESCRIPTION:This winter\, the FMC Volleyball Team (church league) will play on Mondays in the gym at Brookens Center (1776 E Washington) in Urbana. Come cheer them on!
URL:https://fmc-cu.org/event/fmc-volleyball-game-church-league/2023-03-20/
LOCATION:Brookens Center Gym\, 1776 E Washington\, Urbana\, IL\, 61802\, United States
CATEGORIES:FMC Events
ORGANIZER;CN="FMC Office":MAILTO:office@fmc-cu.org
END:VEVENT
BEGIN:VEVENT
DTSTART;TZID=America/Chicago:20230306T200000
DTEND;TZID=America/Chicago:20230306T220000
DTSTAMP:20260423T095939
CREATED:20230119T175009Z
LAST-MODIFIED:20230119T180229Z
UID:10001453-1678132800-1678140000@fmc-cu.org
SUMMARY:FMC Volleyball Game - Church League
DESCRIPTION:This winter\, the FMC Volleyball Team (church league) will play on Mondays in the gym at Brookens Center (1776 E Washington) in Urbana. Come cheer them on!
URL:https://fmc-cu.org/event/fmc-volleyball-game-church-league/2023-03-06/
LOCATION:Brookens Center Gym\, 1776 E Washington\, Urbana\, IL\, 61802\, United States
CATEGORIES:FMC Events
ORGANIZER;CN="FMC Office":MAILTO:office@fmc-cu.org
END:VEVENT
BEGIN:VEVENT
DTSTART;TZID=America/Chicago:20230227T180000
DTEND;TZID=America/Chicago:20230227T200000
DTSTAMP:20260423T095939
CREATED:20230119T175009Z
LAST-MODIFIED:20230119T180229Z
UID:10001452-1677520800-1677528000@fmc-cu.org
SUMMARY:FMC Volleyball Game - Church League
DESCRIPTION:This winter\, the FMC Volleyball Team (church league) will play on Mondays in the gym at Brookens Center (1776 E Washington) in Urbana. Come cheer them on!
URL:https://fmc-cu.org/event/fmc-volleyball-game-church-league/2023-02-27/
LOCATION:Brookens Center Gym\, 1776 E Washington\, Urbana\, IL\, 61802\, United States
CATEGORIES:FMC Events
ORGANIZER;CN="FMC Office":MAILTO:office@fmc-cu.org
END:VEVENT
BEGIN:VEVENT
DTSTART;TZID=America/Chicago:20230220T200000
DTEND;TZID=America/Chicago:20230220T220000
DTSTAMP:20260423T095939
CREATED:20230119T175009Z
LAST-MODIFIED:20230119T180229Z
UID:10001451-1676923200-1676930400@fmc-cu.org
SUMMARY:FMC Volleyball Game - Church League
DESCRIPTION:This winter\, the FMC Volleyball Team (church league) will play on Mondays in the gym at Brookens Center (1776 E Washington) in Urbana. Come cheer them on!
URL:https://fmc-cu.org/event/fmc-volleyball-game-church-league/2023-02-20/
LOCATION:Brookens Center Gym\, 1776 E Washington\, Urbana\, IL\, 61802\, United States
CATEGORIES:FMC Events
ORGANIZER;CN="FMC Office":MAILTO:office@fmc-cu.org
END:VEVENT
BEGIN:VEVENT
DTSTART;TZID=America/Chicago:20230213T190000
DTEND;TZID=America/Chicago:20230213T210000
DTSTAMP:20260423T095939
CREATED:20230119T175009Z
LAST-MODIFIED:20230119T180229Z
UID:10001450-1676314800-1676322000@fmc-cu.org
SUMMARY:FMC Volleyball Game - Church League
DESCRIPTION:This winter\, the FMC Volleyball Team (church league) will play on Mondays in the gym at Brookens Center (1776 E Washington) in Urbana. Come cheer them on!
URL:https://fmc-cu.org/event/fmc-volleyball-game-church-league/2023-02-13/
LOCATION:Brookens Center Gym\, 1776 E Washington\, Urbana\, IL\, 61802\, United States
CATEGORIES:FMC Events
ORGANIZER;CN="FMC Office":MAILTO:office@fmc-cu.org
END:VEVENT
BEGIN:VEVENT
DTSTART;TZID=America/Chicago:20230206T200000
DTEND;TZID=America/Chicago:20230206T220000
DTSTAMP:20260423T095939
CREATED:20230119T175009Z
LAST-MODIFIED:20230119T180229Z
UID:10001449-1675713600-1675720800@fmc-cu.org
SUMMARY:FMC Volleyball Game - Church League
DESCRIPTION:This winter\, the FMC Volleyball Team (church league) will play on Mondays in the gym at Brookens Center (1776 E Washington) in Urbana. Come cheer them on!
URL:https://fmc-cu.org/event/fmc-volleyball-game-church-league/2023-02-06/
LOCATION:Brookens Center Gym\, 1776 E Washington\, Urbana\, IL\, 61802\, United States
CATEGORIES:FMC Events
ORGANIZER;CN="FMC Office":MAILTO:office@fmc-cu.org
END:VEVENT
BEGIN:VEVENT
DTSTART;TZID=America/Chicago:20230130T190000
DTEND;TZID=America/Chicago:20230130T210000
DTSTAMP:20260423T095939
CREATED:20230119T175009Z
LAST-MODIFIED:20230119T180229Z
UID:10001448-1675105200-1675112400@fmc-cu.org
SUMMARY:FMC Volleyball Game - Church League
DESCRIPTION:This winter\, the FMC Volleyball Team (church league) will play on Mondays in the gym at Brookens Center (1776 E Washington) in Urbana. Come cheer them on!
URL:https://fmc-cu.org/event/fmc-volleyball-game-church-league/2023-01-30/
LOCATION:Brookens Center Gym\, 1776 E Washington\, Urbana\, IL\, 61802\, United States
CATEGORIES:FMC Events
ORGANIZER;CN="FMC Office":MAILTO:office@fmc-cu.org
END:VEVENT
BEGIN:VEVENT
DTSTART;TZID=America/Chicago:20230123T185000
DTEND;TZID=America/Chicago:20230123T210000
DTSTAMP:20260423T095939
CREATED:20230119T180403Z
LAST-MODIFIED:20230119T180403Z
UID:10001446-1674499800-1674507600@fmc-cu.org
SUMMARY:FMC Volleyball Game - Church League
DESCRIPTION:This winter\, the FMC Volleyball Team (church league) will play on Mondays in the gym at Brookens Center (1776 E Washington) in Urbana. Come cheer them on!
URL:https://fmc-cu.org/event/fmc-volleyball-game-church-league-2/
LOCATION:Brookens Center Gym\, 1776 E Washington\, Urbana\, IL\, 61802\, United States
CATEGORIES:FMC Events
ORGANIZER;CN="FMC Office":MAILTO:office@fmc-cu.org
END:VEVENT
END:VCALENDAR