BEGIN:VCALENDAR
VERSION:2.0
PRODID:-//First Mennonite Church of Champaign-Urbana - ECPv6.15.20//NONSGML v1.0//EN
CALSCALE:GREGORIAN
METHOD:PUBLISH
X-ORIGINAL-URL:https://fmc-cu.org
X-WR-CALDESC:Events for First Mennonite Church of Champaign-Urbana
REFRESH-INTERVAL;VALUE=DURATION:PT1H
X-Robots-Tag:noindex
X-PUBLISHED-TTL:PT1H
BEGIN:VTIMEZONE
TZID:America/Chicago
BEGIN:DAYLIGHT
TZOFFSETFROM:-0600
TZOFFSETTO:-0500
TZNAME:CDT
DTSTART:20250309T080000
END:DAYLIGHT
BEGIN:STANDARD
TZOFFSETFROM:-0500
TZOFFSETTO:-0600
TZNAME:CST
DTSTART:20251102T070000
END:STANDARD
BEGIN:DAYLIGHT
TZOFFSETFROM:-0600
TZOFFSETTO:-0500
TZNAME:CDT
DTSTART:20260308T080000
END:DAYLIGHT
BEGIN:STANDARD
TZOFFSETFROM:-0500
TZOFFSETTO:-0600
TZNAME:CST
DTSTART:20261101T070000
END:STANDARD
BEGIN:DAYLIGHT
TZOFFSETFROM:-0600
TZOFFSETTO:-0500
TZNAME:CDT
DTSTART:20270314T080000
END:DAYLIGHT
BEGIN:STANDARD
TZOFFSETFROM:-0500
TZOFFSETTO:-0600
TZNAME:CST
DTSTART:20271107T070000
END:STANDARD
BEGIN:DAYLIGHT
TZOFFSETFROM:-0600
TZOFFSETTO:-0500
TZNAME:CDT
DTSTART:20280312T080000
END:DAYLIGHT
BEGIN:STANDARD
TZOFFSETFROM:-0500
TZOFFSETTO:-0600
TZNAME:CST
DTSTART:20281105T070000
END:STANDARD
BEGIN:DAYLIGHT
TZOFFSETFROM:-0600
TZOFFSETTO:-0500
TZNAME:CDT
DTSTART:20290311T080000
END:DAYLIGHT
BEGIN:STANDARD
TZOFFSETFROM:-0500
TZOFFSETTO:-0600
TZNAME:CST
DTSTART:20291104T070000
END:STANDARD
BEGIN:DAYLIGHT
TZOFFSETFROM:-0600
TZOFFSETTO:-0500
TZNAME:CDT
DTSTART:20300310T080000
END:DAYLIGHT
BEGIN:STANDARD
TZOFFSETFROM:-0500
TZOFFSETTO:-0600
TZNAME:CST
DTSTART:20301103T070000
END:STANDARD
END:VTIMEZONE
BEGIN:VEVENT
DTSTART;TZID=America/Chicago:20260821T150000
DTEND;TZID=America/Chicago:20260821T170000
DTSTAMP:20260419T184046
CREATED:20240327T145533Z
LAST-MODIFIED:20260305T184548Z
UID:10003772-1787324400-1787331600@fmc-cu.org
SUMMARY:Service & Outreach Committee-Hybrid
DESCRIPTION:The Service and Outreach Committee reaches out to and welcomes people who wish to know more about the church. The committee also coordinates FMC service projects in the community and beyond.
URL:https://fmc-cu.org/event/service-outreach-committee-2021-11-18-2022-09-22-2-2/2026-08-21/
LOCATION:First Mennonite Church\, 902 W Springfield Ave\, Urbana\, IL\, 61801\, United States
CATEGORIES:FMC Meetings
ORGANIZER;CN="Pastor Michael Crosby":MAILTO:michael.crosby@fmc-cu.org
END:VEVENT
BEGIN:VEVENT
DTSTART;TZID=America/Chicago:20260821T163000
DTEND;TZID=America/Chicago:20260821T180000
DTSTAMP:20260419T184046
CREATED:20250430T173744Z
LAST-MODIFIED:20260325T163150Z
UID:10003822-1787329800-1787335200@fmc-cu.org
SUMMARY:Facilities Committee (Hybrid)
DESCRIPTION:This FMC committee is responsible for the general supervision of the church’s physical property and financial affairs.
URL:https://fmc-cu.org/event/facilities-committee-hybrid-4/2026-08-21/
LOCATION:First Mennonite Church\, 902 W Springfield Ave\, Urbana\, IL\, 61801\, United States
CATEGORIES:FMC Meetings
ORGANIZER;CN="Pastor Michael Crosby":MAILTO:michael.crosby@fmc-cu.org
END:VEVENT
BEGIN:VEVENT
DTSTART;TZID=America/Chicago:20260826T120000
DTEND;TZID=America/Chicago:20260826T130000
DTSTAMP:20260419T184046
CREATED:20250305T181622Z
LAST-MODIFIED:20260305T184801Z
UID:10003790-1787745600-1787749200@fmc-cu.org
SUMMARY:Interfaith Alliance
DESCRIPTION:The Interfaith Alliance is a network of faith leaders and houses of worship who gather together to seek the common good.\nMeetings are open to all and are held monthly in different locations on the 4th Wednesday  at Noon.\nFor details about the location of a meeting in a particular month\, email Pastor Michael Crosby\, Chair of the Interfaith Alliance.
URL:https://fmc-cu.org/event/interfaith-alliance-2-3/2026-08-26/
CATEGORIES:Co-Sponsored Events
ORGANIZER;CN="Pastor Michael Crosby":MAILTO:michael.crosby@fmc-cu.org
END:VEVENT
BEGIN:VEVENT
DTSTART;TZID=America/Chicago:20260901T130000
DTEND;TZID=America/Chicago:20260901T150000
DTSTAMP:20260419T184046
CREATED:20260104T174506Z
LAST-MODIFIED:20260218T194404Z
UID:10003609-1788267600-1788274800@fmc-cu.org
SUMMARY:Racial Justice Working Group (Hybrid)
DESCRIPTION:This group provides a space for anti-racism education\, advocacy\, and mutual accountability in our church and community. The group meeting is hybrid\, with in person members meeting in the FMC library.
URL:https://fmc-cu.org/event/racial-justice-working-group-2-2-2-2-2-2-2-2/2026-09-01/
LOCATION:Hybrid
CATEGORIES:FMC Meetings
ORGANIZER;CN="Pastor Michael Crosby":MAILTO:michael.crosby@fmc-cu.org
END:VEVENT
BEGIN:VEVENT
DTSTART;TZID=America/Chicago:20260918T150000
DTEND;TZID=America/Chicago:20260918T170000
DTSTAMP:20260419T184046
CREATED:20240327T145533Z
LAST-MODIFIED:20260305T184548Z
UID:10003773-1789743600-1789750800@fmc-cu.org
SUMMARY:Service & Outreach Committee-Hybrid
DESCRIPTION:The Service and Outreach Committee reaches out to and welcomes people who wish to know more about the church. The committee also coordinates FMC service projects in the community and beyond.
URL:https://fmc-cu.org/event/service-outreach-committee-2021-11-18-2022-09-22-2-2/2026-09-18/
LOCATION:First Mennonite Church\, 902 W Springfield Ave\, Urbana\, IL\, 61801\, United States
CATEGORIES:FMC Meetings
ORGANIZER;CN="Pastor Michael Crosby":MAILTO:michael.crosby@fmc-cu.org
END:VEVENT
BEGIN:VEVENT
DTSTART;TZID=America/Chicago:20260918T163000
DTEND;TZID=America/Chicago:20260918T180000
DTSTAMP:20260419T184046
CREATED:20250430T173744Z
LAST-MODIFIED:20260325T163150Z
UID:10003823-1789749000-1789754400@fmc-cu.org
SUMMARY:Facilities Committee (Hybrid)
DESCRIPTION:This FMC committee is responsible for the general supervision of the church’s physical property and financial affairs.
URL:https://fmc-cu.org/event/facilities-committee-hybrid-4/2026-09-18/
LOCATION:First Mennonite Church\, 902 W Springfield Ave\, Urbana\, IL\, 61801\, United States
CATEGORIES:FMC Meetings
ORGANIZER;CN="Pastor Michael Crosby":MAILTO:michael.crosby@fmc-cu.org
END:VEVENT
BEGIN:VEVENT
DTSTART;TZID=America/Chicago:20260923T120000
DTEND;TZID=America/Chicago:20260923T130000
DTSTAMP:20260419T184046
CREATED:20250305T181622Z
LAST-MODIFIED:20260305T184801Z
UID:10003791-1790164800-1790168400@fmc-cu.org
SUMMARY:Interfaith Alliance
DESCRIPTION:The Interfaith Alliance is a network of faith leaders and houses of worship who gather together to seek the common good.\nMeetings are open to all and are held monthly in different locations on the 4th Wednesday  at Noon.\nFor details about the location of a meeting in a particular month\, email Pastor Michael Crosby\, Chair of the Interfaith Alliance.
URL:https://fmc-cu.org/event/interfaith-alliance-2-3/2026-09-23/
CATEGORIES:Co-Sponsored Events
ORGANIZER;CN="Pastor Michael Crosby":MAILTO:michael.crosby@fmc-cu.org
END:VEVENT
BEGIN:VEVENT
DTSTART;TZID=America/Chicago:20261006T130000
DTEND;TZID=America/Chicago:20261006T150000
DTSTAMP:20260419T184046
CREATED:20260104T174506Z
LAST-MODIFIED:20260218T194404Z
UID:10003610-1791291600-1791298800@fmc-cu.org
SUMMARY:Racial Justice Working Group (Hybrid)
DESCRIPTION:This group provides a space for anti-racism education\, advocacy\, and mutual accountability in our church and community. The group meeting is hybrid\, with in person members meeting in the FMC library.
URL:https://fmc-cu.org/event/racial-justice-working-group-2-2-2-2-2-2-2-2/2026-10-06/
LOCATION:Hybrid
CATEGORIES:FMC Meetings
ORGANIZER;CN="Pastor Michael Crosby":MAILTO:michael.crosby@fmc-cu.org
END:VEVENT
BEGIN:VEVENT
DTSTART;TZID=America/Chicago:20261016T150000
DTEND;TZID=America/Chicago:20261016T170000
DTSTAMP:20260419T184046
CREATED:20240327T145533Z
LAST-MODIFIED:20260305T184548Z
UID:10003774-1792162800-1792170000@fmc-cu.org
SUMMARY:Service & Outreach Committee-Hybrid
DESCRIPTION:The Service and Outreach Committee reaches out to and welcomes people who wish to know more about the church. The committee also coordinates FMC service projects in the community and beyond.
URL:https://fmc-cu.org/event/service-outreach-committee-2021-11-18-2022-09-22-2-2/2026-10-16/
LOCATION:First Mennonite Church\, 902 W Springfield Ave\, Urbana\, IL\, 61801\, United States
CATEGORIES:FMC Meetings
ORGANIZER;CN="Pastor Michael Crosby":MAILTO:michael.crosby@fmc-cu.org
END:VEVENT
BEGIN:VEVENT
DTSTART;TZID=America/Chicago:20261016T163000
DTEND;TZID=America/Chicago:20261016T180000
DTSTAMP:20260419T184046
CREATED:20250430T173744Z
LAST-MODIFIED:20260325T163150Z
UID:10003824-1792168200-1792173600@fmc-cu.org
SUMMARY:Facilities Committee (Hybrid)
DESCRIPTION:This FMC committee is responsible for the general supervision of the church’s physical property and financial affairs.
URL:https://fmc-cu.org/event/facilities-committee-hybrid-4/2026-10-16/
LOCATION:First Mennonite Church\, 902 W Springfield Ave\, Urbana\, IL\, 61801\, United States
CATEGORIES:FMC Meetings
ORGANIZER;CN="Pastor Michael Crosby":MAILTO:michael.crosby@fmc-cu.org
END:VEVENT
BEGIN:VEVENT
DTSTART;TZID=America/Chicago:20261028T120000
DTEND;TZID=America/Chicago:20261028T130000
DTSTAMP:20260419T184046
CREATED:20250305T181622Z
LAST-MODIFIED:20260305T184801Z
UID:10003792-1793188800-1793192400@fmc-cu.org
SUMMARY:Interfaith Alliance
DESCRIPTION:The Interfaith Alliance is a network of faith leaders and houses of worship who gather together to seek the common good.\nMeetings are open to all and are held monthly in different locations on the 4th Wednesday  at Noon.\nFor details about the location of a meeting in a particular month\, email Pastor Michael Crosby\, Chair of the Interfaith Alliance.
URL:https://fmc-cu.org/event/interfaith-alliance-2-3/2026-10-28/
CATEGORIES:Co-Sponsored Events
ORGANIZER;CN="Pastor Michael Crosby":MAILTO:michael.crosby@fmc-cu.org
END:VEVENT
BEGIN:VEVENT
DTSTART;TZID=America/Chicago:20261030T150000
DTEND;TZID=America/Chicago:20261030T160000
DTSTAMP:20260419T184046
CREATED:20250729T191601Z
LAST-MODIFIED:20250729T191601Z
UID:10003240-1793372400-1793376000@fmc-cu.org
SUMMARY:Decolonial Worship-Zoom
DESCRIPTION:FMC is part of a Dismantling the Doctrine of Discovery Coalition of congregations that supports church communities in education\, solidarity and reparative action alongside Indigenous Peoples. The Coalition meets via Zoom each month for worship which focuses on the theme of healing and economic justice. A link is needed to attend.\n \n 
URL:https://fmc-cu.org/event/repair-network-prayer-action-hour-zoom-2-2-2/2026-10-30/
LOCATION:Zoom
CATEGORIES:Bible Study & Prayer
ORGANIZER;CN="Pastor Michael Crosby":MAILTO:michael.crosby@fmc-cu.org
END:VEVENT
BEGIN:VEVENT
DTSTART;TZID=America/Chicago:20261103T130000
DTEND;TZID=America/Chicago:20261103T150000
DTSTAMP:20260419T184046
CREATED:20260104T174506Z
LAST-MODIFIED:20260218T194404Z
UID:10003611-1793710800-1793718000@fmc-cu.org
SUMMARY:Racial Justice Working Group (Hybrid)
DESCRIPTION:This group provides a space for anti-racism education\, advocacy\, and mutual accountability in our church and community. The group meeting is hybrid\, with in person members meeting in the FMC library.
URL:https://fmc-cu.org/event/racial-justice-working-group-2-2-2-2-2-2-2-2/2026-11-03/
LOCATION:Hybrid
CATEGORIES:FMC Meetings
ORGANIZER;CN="Pastor Michael Crosby":MAILTO:michael.crosby@fmc-cu.org
END:VEVENT
BEGIN:VEVENT
DTSTART;TZID=America/Chicago:20261120T150000
DTEND;TZID=America/Chicago:20261120T170000
DTSTAMP:20260419T184046
CREATED:20240327T145533Z
LAST-MODIFIED:20260305T184548Z
UID:10003775-1795186800-1795194000@fmc-cu.org
SUMMARY:Service & Outreach Committee-Hybrid
DESCRIPTION:The Service and Outreach Committee reaches out to and welcomes people who wish to know more about the church. The committee also coordinates FMC service projects in the community and beyond.
URL:https://fmc-cu.org/event/service-outreach-committee-2021-11-18-2022-09-22-2-2/2026-11-20/
LOCATION:First Mennonite Church\, 902 W Springfield Ave\, Urbana\, IL\, 61801\, United States
CATEGORIES:FMC Meetings
ORGANIZER;CN="Pastor Michael Crosby":MAILTO:michael.crosby@fmc-cu.org
END:VEVENT
BEGIN:VEVENT
DTSTART;TZID=America/Chicago:20261120T163000
DTEND;TZID=America/Chicago:20261120T180000
DTSTAMP:20260419T184046
CREATED:20250430T173744Z
LAST-MODIFIED:20260325T163150Z
UID:10003825-1795192200-1795197600@fmc-cu.org
SUMMARY:Facilities Committee (Hybrid)
DESCRIPTION:This FMC committee is responsible for the general supervision of the church’s physical property and financial affairs.
URL:https://fmc-cu.org/event/facilities-committee-hybrid-4/2026-11-20/
LOCATION:First Mennonite Church\, 902 W Springfield Ave\, Urbana\, IL\, 61801\, United States
CATEGORIES:FMC Meetings
ORGANIZER;CN="Pastor Michael Crosby":MAILTO:michael.crosby@fmc-cu.org
END:VEVENT
BEGIN:VEVENT
DTSTART;TZID=America/Chicago:20261125T120000
DTEND;TZID=America/Chicago:20261125T130000
DTSTAMP:20260419T184046
CREATED:20250305T181622Z
LAST-MODIFIED:20260305T184801Z
UID:10003793-1795608000-1795611600@fmc-cu.org
SUMMARY:Interfaith Alliance
DESCRIPTION:The Interfaith Alliance is a network of faith leaders and houses of worship who gather together to seek the common good.\nMeetings are open to all and are held monthly in different locations on the 4th Wednesday  at Noon.\nFor details about the location of a meeting in a particular month\, email Pastor Michael Crosby\, Chair of the Interfaith Alliance.
URL:https://fmc-cu.org/event/interfaith-alliance-2-3/2026-11-25/
CATEGORIES:Co-Sponsored Events
ORGANIZER;CN="Pastor Michael Crosby":MAILTO:michael.crosby@fmc-cu.org
END:VEVENT
BEGIN:VEVENT
DTSTART;TZID=America/Chicago:20261201T130000
DTEND;TZID=America/Chicago:20261201T150000
DTSTAMP:20260419T184046
CREATED:20260104T174506Z
LAST-MODIFIED:20260218T194404Z
UID:10003612-1796130000-1796137200@fmc-cu.org
SUMMARY:Racial Justice Working Group (Hybrid)
DESCRIPTION:This group provides a space for anti-racism education\, advocacy\, and mutual accountability in our church and community. The group meeting is hybrid\, with in person members meeting in the FMC library.
URL:https://fmc-cu.org/event/racial-justice-working-group-2-2-2-2-2-2-2-2/2026-12-01/
LOCATION:Hybrid
CATEGORIES:FMC Meetings
ORGANIZER;CN="Pastor Michael Crosby":MAILTO:michael.crosby@fmc-cu.org
END:VEVENT
BEGIN:VEVENT
DTSTART;TZID=America/Chicago:20261218T150000
DTEND;TZID=America/Chicago:20261218T170000
DTSTAMP:20260419T184046
CREATED:20240327T145533Z
LAST-MODIFIED:20260305T184548Z
UID:10003776-1797606000-1797613200@fmc-cu.org
SUMMARY:Service & Outreach Committee-Hybrid
DESCRIPTION:The Service and Outreach Committee reaches out to and welcomes people who wish to know more about the church. The committee also coordinates FMC service projects in the community and beyond.
URL:https://fmc-cu.org/event/service-outreach-committee-2021-11-18-2022-09-22-2-2/2026-12-18/
LOCATION:First Mennonite Church\, 902 W Springfield Ave\, Urbana\, IL\, 61801\, United States
CATEGORIES:FMC Meetings
ORGANIZER;CN="Pastor Michael Crosby":MAILTO:michael.crosby@fmc-cu.org
END:VEVENT
BEGIN:VEVENT
DTSTART;TZID=America/Chicago:20261218T163000
DTEND;TZID=America/Chicago:20261218T180000
DTSTAMP:20260419T184046
CREATED:20250430T173744Z
LAST-MODIFIED:20260325T163150Z
UID:10003826-1797611400-1797616800@fmc-cu.org
SUMMARY:Facilities Committee (Hybrid)
DESCRIPTION:This FMC committee is responsible for the general supervision of the church’s physical property and financial affairs.
URL:https://fmc-cu.org/event/facilities-committee-hybrid-4/2026-12-18/
LOCATION:First Mennonite Church\, 902 W Springfield Ave\, Urbana\, IL\, 61801\, United States
CATEGORIES:FMC Meetings
ORGANIZER;CN="Pastor Michael Crosby":MAILTO:michael.crosby@fmc-cu.org
END:VEVENT
BEGIN:VEVENT
DTSTART;TZID=America/Chicago:20261223T120000
DTEND;TZID=America/Chicago:20261223T130000
DTSTAMP:20260419T184046
CREATED:20250305T181622Z
LAST-MODIFIED:20260305T184801Z
UID:10003794-1798027200-1798030800@fmc-cu.org
SUMMARY:Interfaith Alliance
DESCRIPTION:The Interfaith Alliance is a network of faith leaders and houses of worship who gather together to seek the common good.\nMeetings are open to all and are held monthly in different locations on the 4th Wednesday  at Noon.\nFor details about the location of a meeting in a particular month\, email Pastor Michael Crosby\, Chair of the Interfaith Alliance.
URL:https://fmc-cu.org/event/interfaith-alliance-2-3/2026-12-23/
CATEGORIES:Co-Sponsored Events
ORGANIZER;CN="Pastor Michael Crosby":MAILTO:michael.crosby@fmc-cu.org
END:VEVENT
BEGIN:VEVENT
DTSTART;TZID=America/Chicago:20270129T150000
DTEND;TZID=America/Chicago:20270129T160000
DTSTAMP:20260419T184046
CREATED:20250729T191601Z
LAST-MODIFIED:20250729T191601Z
UID:10003241-1801234800-1801238400@fmc-cu.org
SUMMARY:Decolonial Worship-Zoom
DESCRIPTION:FMC is part of a Dismantling the Doctrine of Discovery Coalition of congregations that supports church communities in education\, solidarity and reparative action alongside Indigenous Peoples. The Coalition meets via Zoom each month for worship which focuses on the theme of healing and economic justice. A link is needed to attend.\n \n 
URL:https://fmc-cu.org/event/repair-network-prayer-action-hour-zoom-2-2-2/2027-01-29/
LOCATION:Zoom
CATEGORIES:Bible Study & Prayer
ORGANIZER;CN="Pastor Michael Crosby":MAILTO:michael.crosby@fmc-cu.org
END:VEVENT
BEGIN:VEVENT
DTSTART;TZID=America/Chicago:20270430T150000
DTEND;TZID=America/Chicago:20270430T160000
DTSTAMP:20260419T184046
CREATED:20250729T191601Z
LAST-MODIFIED:20250729T191601Z
UID:10003242-1809097200-1809100800@fmc-cu.org
SUMMARY:Decolonial Worship-Zoom
DESCRIPTION:FMC is part of a Dismantling the Doctrine of Discovery Coalition of congregations that supports church communities in education\, solidarity and reparative action alongside Indigenous Peoples. The Coalition meets via Zoom each month for worship which focuses on the theme of healing and economic justice. A link is needed to attend.\n \n 
URL:https://fmc-cu.org/event/repair-network-prayer-action-hour-zoom-2-2-2/2027-04-30/
LOCATION:Zoom
CATEGORIES:Bible Study & Prayer
ORGANIZER;CN="Pastor Michael Crosby":MAILTO:michael.crosby@fmc-cu.org
END:VEVENT
BEGIN:VEVENT
DTSTART;TZID=America/Chicago:20270730T150000
DTEND;TZID=America/Chicago:20270730T160000
DTSTAMP:20260419T184046
CREATED:20250729T191601Z
LAST-MODIFIED:20250729T191601Z
UID:10003243-1816959600-1816963200@fmc-cu.org
SUMMARY:Decolonial Worship-Zoom
DESCRIPTION:FMC is part of a Dismantling the Doctrine of Discovery Coalition of congregations that supports church communities in education\, solidarity and reparative action alongside Indigenous Peoples. The Coalition meets via Zoom each month for worship which focuses on the theme of healing and economic justice. A link is needed to attend.\n \n 
URL:https://fmc-cu.org/event/repair-network-prayer-action-hour-zoom-2-2-2/2027-07-30/
LOCATION:Zoom
CATEGORIES:Bible Study & Prayer
ORGANIZER;CN="Pastor Michael Crosby":MAILTO:michael.crosby@fmc-cu.org
END:VEVENT
BEGIN:VEVENT
DTSTART;TZID=America/Chicago:20271029T150000
DTEND;TZID=America/Chicago:20271029T160000
DTSTAMP:20260419T184046
CREATED:20250729T191601Z
LAST-MODIFIED:20250729T191601Z
UID:10003244-1824822000-1824825600@fmc-cu.org
SUMMARY:Decolonial Worship-Zoom
DESCRIPTION:FMC is part of a Dismantling the Doctrine of Discovery Coalition of congregations that supports church communities in education\, solidarity and reparative action alongside Indigenous Peoples. The Coalition meets via Zoom each month for worship which focuses on the theme of healing and economic justice. A link is needed to attend.\n \n 
URL:https://fmc-cu.org/event/repair-network-prayer-action-hour-zoom-2-2-2/2027-10-29/
LOCATION:Zoom
CATEGORIES:Bible Study & Prayer
ORGANIZER;CN="Pastor Michael Crosby":MAILTO:michael.crosby@fmc-cu.org
END:VEVENT
BEGIN:VEVENT
DTSTART;TZID=America/Chicago:20271231T150000
DTEND;TZID=America/Chicago:20271231T160000
DTSTAMP:20260419T184046
CREATED:20250729T191601Z
LAST-MODIFIED:20250729T191601Z
UID:10003245-1830265200-1830268800@fmc-cu.org
SUMMARY:Decolonial Worship-Zoom
DESCRIPTION:FMC is part of a Dismantling the Doctrine of Discovery Coalition of congregations that supports church communities in education\, solidarity and reparative action alongside Indigenous Peoples. The Coalition meets via Zoom each month for worship which focuses on the theme of healing and economic justice. A link is needed to attend.\n \n 
URL:https://fmc-cu.org/event/repair-network-prayer-action-hour-zoom-2-2-2/2027-12-31/
LOCATION:Zoom
CATEGORIES:Bible Study & Prayer
ORGANIZER;CN="Pastor Michael Crosby":MAILTO:michael.crosby@fmc-cu.org
END:VEVENT
BEGIN:VEVENT
DTSTART;TZID=America/Chicago:20280331T150000
DTEND;TZID=America/Chicago:20280331T160000
DTSTAMP:20260419T184046
CREATED:20250729T191601Z
LAST-MODIFIED:20250729T191601Z
UID:10003246-1838127600-1838131200@fmc-cu.org
SUMMARY:Decolonial Worship-Zoom
DESCRIPTION:FMC is part of a Dismantling the Doctrine of Discovery Coalition of congregations that supports church communities in education\, solidarity and reparative action alongside Indigenous Peoples. The Coalition meets via Zoom each month for worship which focuses on the theme of healing and economic justice. A link is needed to attend.\n \n 
URL:https://fmc-cu.org/event/repair-network-prayer-action-hour-zoom-2-2-2/2028-03-31/
LOCATION:Zoom
CATEGORIES:Bible Study & Prayer
ORGANIZER;CN="Pastor Michael Crosby":MAILTO:michael.crosby@fmc-cu.org
END:VEVENT
BEGIN:VEVENT
DTSTART;TZID=America/Chicago:20280630T150000
DTEND;TZID=America/Chicago:20280630T160000
DTSTAMP:20260419T184046
CREATED:20250729T191601Z
LAST-MODIFIED:20250729T191601Z
UID:10003247-1845990000-1845993600@fmc-cu.org
SUMMARY:Decolonial Worship-Zoom
DESCRIPTION:FMC is part of a Dismantling the Doctrine of Discovery Coalition of congregations that supports church communities in education\, solidarity and reparative action alongside Indigenous Peoples. The Coalition meets via Zoom each month for worship which focuses on the theme of healing and economic justice. A link is needed to attend.\n \n 
URL:https://fmc-cu.org/event/repair-network-prayer-action-hour-zoom-2-2-2/2028-06-30/
LOCATION:Zoom
CATEGORIES:Bible Study & Prayer
ORGANIZER;CN="Pastor Michael Crosby":MAILTO:michael.crosby@fmc-cu.org
END:VEVENT
BEGIN:VEVENT
DTSTART;TZID=America/Chicago:20280929T150000
DTEND;TZID=America/Chicago:20280929T160000
DTSTAMP:20260419T184046
CREATED:20250729T191601Z
LAST-MODIFIED:20250729T191601Z
UID:10003248-1853852400-1853856000@fmc-cu.org
SUMMARY:Decolonial Worship-Zoom
DESCRIPTION:FMC is part of a Dismantling the Doctrine of Discovery Coalition of congregations that supports church communities in education\, solidarity and reparative action alongside Indigenous Peoples. The Coalition meets via Zoom each month for worship which focuses on the theme of healing and economic justice. A link is needed to attend.\n \n 
URL:https://fmc-cu.org/event/repair-network-prayer-action-hour-zoom-2-2-2/2028-09-29/
LOCATION:Zoom
CATEGORIES:Bible Study & Prayer
ORGANIZER;CN="Pastor Michael Crosby":MAILTO:michael.crosby@fmc-cu.org
END:VEVENT
BEGIN:VEVENT
DTSTART;TZID=America/Chicago:20281229T150000
DTEND;TZID=America/Chicago:20281229T160000
DTSTAMP:20260419T184046
CREATED:20250729T191601Z
LAST-MODIFIED:20250729T191601Z
UID:10003249-1861714800-1861718400@fmc-cu.org
SUMMARY:Decolonial Worship-Zoom
DESCRIPTION:FMC is part of a Dismantling the Doctrine of Discovery Coalition of congregations that supports church communities in education\, solidarity and reparative action alongside Indigenous Peoples. The Coalition meets via Zoom each month for worship which focuses on the theme of healing and economic justice. A link is needed to attend.\n \n 
URL:https://fmc-cu.org/event/repair-network-prayer-action-hour-zoom-2-2-2/2028-12-29/
LOCATION:Zoom
CATEGORIES:Bible Study & Prayer
ORGANIZER;CN="Pastor Michael Crosby":MAILTO:michael.crosby@fmc-cu.org
END:VEVENT
BEGIN:VEVENT
DTSTART;TZID=America/Chicago:20290330T150000
DTEND;TZID=America/Chicago:20290330T160000
DTSTAMP:20260419T184046
CREATED:20250729T191601Z
LAST-MODIFIED:20250729T191601Z
UID:10003250-1869577200-1869580800@fmc-cu.org
SUMMARY:Decolonial Worship-Zoom
DESCRIPTION:FMC is part of a Dismantling the Doctrine of Discovery Coalition of congregations that supports church communities in education\, solidarity and reparative action alongside Indigenous Peoples. The Coalition meets via Zoom each month for worship which focuses on the theme of healing and economic justice. A link is needed to attend.\n \n 
URL:https://fmc-cu.org/event/repair-network-prayer-action-hour-zoom-2-2-2/2029-03-30/
LOCATION:Zoom
CATEGORIES:Bible Study & Prayer
ORGANIZER;CN="Pastor Michael Crosby":MAILTO:michael.crosby@fmc-cu.org
END:VEVENT
END:VCALENDAR