BEGIN:VCALENDAR
VERSION:2.0
PRODID:-//First Mennonite Church of Champaign-Urbana - ECPv6.15.20//NONSGML v1.0//EN
CALSCALE:GREGORIAN
METHOD:PUBLISH
X-WR-CALNAME:First Mennonite Church of Champaign-Urbana
X-ORIGINAL-URL:https://fmc-cu.org
X-WR-CALDESC:Events for First Mennonite Church of Champaign-Urbana
REFRESH-INTERVAL;VALUE=DURATION:PT1H
X-Robots-Tag:noindex
X-PUBLISHED-TTL:PT1H
BEGIN:VTIMEZONE
TZID:America/Chicago
BEGIN:DAYLIGHT
TZOFFSETFROM:-0600
TZOFFSETTO:-0500
TZNAME:CDT
DTSTART:20240310T080000
END:DAYLIGHT
BEGIN:STANDARD
TZOFFSETFROM:-0500
TZOFFSETTO:-0600
TZNAME:CST
DTSTART:20241103T070000
END:STANDARD
BEGIN:DAYLIGHT
TZOFFSETFROM:-0600
TZOFFSETTO:-0500
TZNAME:CDT
DTSTART:20250309T080000
END:DAYLIGHT
BEGIN:STANDARD
TZOFFSETFROM:-0500
TZOFFSETTO:-0600
TZNAME:CST
DTSTART:20251102T070000
END:STANDARD
BEGIN:DAYLIGHT
TZOFFSETFROM:-0600
TZOFFSETTO:-0500
TZNAME:CDT
DTSTART:20260308T080000
END:DAYLIGHT
BEGIN:STANDARD
TZOFFSETFROM:-0500
TZOFFSETTO:-0600
TZNAME:CST
DTSTART:20261101T070000
END:STANDARD
END:VTIMEZONE
BEGIN:VEVENT
DTSTART;TZID=America/Chicago:20250821T011500
DTEND;TZID=America/Chicago:20250821T151500
DTSTAMP:20260420T044333
CREATED:20250128T195958Z
LAST-MODIFIED:20250827T164920Z
UID:10002972-1755738900-1755789300@fmc-cu.org
SUMMARY:Christian Education Committee Meeting
DESCRIPTION:This committee oversees the Christian Education (Spiritual Formation) needs of the congregation and for planning programming to meet them. \n 
URL:https://fmc-cu.org/event/christian-education-committee-meeting-3-2/2025-08-21/
LOCATION:First Mennonite Church\, 902 W Springfield Ave\, Urbana\, IL\, 61801\, United States
CATEGORIES:FMC Meetings
ORGANIZER;CN="FMC Office":MAILTO:office@fmc-cu.org
END:VEVENT
BEGIN:VEVENT
DTSTART;TZID=America/Chicago:20250813T180000
DTEND;TZID=America/Chicago:20250813T200000
DTSTAMP:20260420T044333
CREATED:20231220T190406Z
LAST-MODIFIED:20250411T192604Z
UID:10003164-1755108000-1755115200@fmc-cu.org
SUMMARY:FMC Council meeting
DESCRIPTION:
URL:https://fmc-cu.org/event/fmc-council-meeting-2/2025-08-13/
LOCATION:First Mennonite Church\, 902 W Springfield Ave\, Urbana\, IL\, 61801\, United States
CATEGORIES:FMC Meetings
ORGANIZER;CN="FMC Office":MAILTO:office@fmc-cu.org
END:VEVENT
BEGIN:VEVENT
DTSTART;VALUE=DATE:20250727
DTEND;VALUE=DATE:20250728
DTSTAMP:20260420T044333
CREATED:20230613T193931Z
LAST-MODIFIED:20250806T151019Z
UID:10001807-1753574400-1753660799@fmc-cu.org
SUMMARY:Vine Newsletter - submission deadline
DESCRIPTION:The Vine is the newsletter of First Mennonite Church. Submissions should be emailed to the current editor\, Cindi Schieber.
URL:https://fmc-cu.org/event/vine-newsletter-submission-deadline-2/2025-07-27/
CATEGORIES:FMC Events
ORGANIZER;CN="FMC Office":MAILTO:office@fmc-cu.org
END:VEVENT
BEGIN:VEVENT
DTSTART;TZID=America/Chicago:20250722T100000
DTEND;TZID=America/Chicago:20250722T113000
DTSTAMP:20260420T044333
CREATED:20230328T162249Z
LAST-MODIFIED:20250625T163509Z
UID:10001582-1753178400-1753183800@fmc-cu.org
SUMMARY:FMC Retreat Committee
DESCRIPTION:This committee is planning our All-Church retreat\, which will take place at Menno Haven Camp from August 29-31\, 2025.
URL:https://fmc-cu.org/event/fmc-retreat-committee/
LOCATION:First Mennonite Church\, 902 W Springfield Ave\, Urbana\, IL\, 61801\, United States
CATEGORIES:FMC Meetings
ORGANIZER;CN="FMC Office":MAILTO:office@fmc-cu.org
END:VEVENT
BEGIN:VEVENT
DTSTART;TZID=America/Chicago:20250719T103000
DTEND;TZID=America/Chicago:20250719T113000
DTSTAMP:20260420T044333
CREATED:20240904T171729Z
LAST-MODIFIED:20250715T190505Z
UID:10002941-1752921000-1752924600@fmc-cu.org
SUMMARY:Prayer Service for Oak Flat
DESCRIPTION:FMC will host a short prayer gathering in the church sanctuary to support Apache Stronghold’s effort to save Oak Flat.
URL:https://fmc-cu.org/event/prayer-service-for-oak-flat/
LOCATION:First Mennonite Church\, 902 W Springfield Ave\, Urbana\, IL\, 61801\, United States
CATEGORIES:FMC Events
ORGANIZER;CN="FMC Office":MAILTO:office@fmc-cu.org
END:VEVENT
BEGIN:VEVENT
DTSTART;VALUE=DATE:20250704
DTEND;VALUE=DATE:20250706
DTSTAMP:20260420T044333
CREATED:20230117T202822Z
LAST-MODIFIED:20250605T200002Z
UID:10002518-1751587200-1751759999@fmc-cu.org
SUMMARY:FMC office closed
DESCRIPTION:The office is closed July 4.
URL:https://fmc-cu.org/event/fmc-office-closed/
LOCATION:First Mennonite Church\, 902 W Springfield Ave\, Urbana\, IL\, 61801\, United States
ORGANIZER;CN="FMC Office":MAILTO:office@fmc-cu.org
END:VEVENT
BEGIN:VEVENT
DTSTART;VALUE=DATE:20250629
DTEND;VALUE=DATE:20250630
DTSTAMP:20260420T044333
CREATED:20230613T193931Z
LAST-MODIFIED:20250806T151019Z
UID:10001806-1751155200-1751241599@fmc-cu.org
SUMMARY:Vine Newsletter - submission deadline
DESCRIPTION:The Vine is the newsletter of First Mennonite Church. Submissions should be emailed to the current editor\, Cindi Schieber.
URL:https://fmc-cu.org/event/vine-newsletter-submission-deadline-2/2025-06-29/
CATEGORIES:FMC Events
ORGANIZER;CN="FMC Office":MAILTO:office@fmc-cu.org
END:VEVENT
BEGIN:VEVENT
DTSTART;TZID=America/Chicago:20250628T100000
DTEND;TZID=America/Chicago:20250628T120000
DTSTAMP:20260420T044333
CREATED:20250513T170650Z
LAST-MODIFIED:20250523T160221Z
UID:10003204-1751104800-1751112000@fmc-cu.org
SUMMARY:Less Lawn\, Going Native: Viewing  FMC Alternative Lawns
DESCRIPTION:FMC attendees are invited to view the properties of several people who have planted native gardens.
URL:https://fmc-cu.org/event/native-garden-tour/
CATEGORIES:FMC Events
ORGANIZER;CN="FMC Office":MAILTO:office@fmc-cu.org
END:VEVENT
BEGIN:VEVENT
DTSTART;TZID=America/Chicago:20250625T180000
DTEND;TZID=America/Chicago:20250625T200000
DTSTAMP:20260420T044333
CREATED:20250411T192735Z
LAST-MODIFIED:20250411T192735Z
UID:10003169-1750874400-1750881600@fmc-cu.org
SUMMARY:FMC Council meeting
DESCRIPTION:
URL:https://fmc-cu.org/event/fmc-council-meeting-3/
LOCATION:FMC Library\, 902 W Springfield Ave\, Urbana\, 61801
CATEGORIES:FMC Meetings
ORGANIZER;CN="FMC Office":MAILTO:office@fmc-cu.org
END:VEVENT
BEGIN:VEVENT
DTSTART;TZID=America/Chicago:20250615T123000
DTEND;TZID=America/Chicago:20250615T143000
DTSTAMP:20260420T044333
CREATED:20220602T182506Z
LAST-MODIFIED:20250430T174041Z
UID:10000228-1749990600-1749997800@fmc-cu.org
SUMMARY:Father's Day Picnic
DESCRIPTION:Join us for a potluck picnic at Hessel Park in celebration of Father’s Day. Bring a nut-free dish to share\, your table service\, lawn chairs\, and games. Drinks will be provided. Look for us in one of the small shelters. The picnic will be in the FMC fellowship hall in the event of rain.
URL:https://fmc-cu.org/event/fathers-day-picnic/
LOCATION:Hessel Park\, Champaign\, IL\, 1400 Grandview Dr\, Champaign\, IL\, 61820\, United States
CATEGORIES:FMC Events
ORGANIZER;CN="FMC Office":MAILTO:office@fmc-cu.org
END:VEVENT
BEGIN:VEVENT
DTSTART;TZID=America/Chicago:20250608T091500
DTEND;TZID=America/Chicago:20250608T120000
DTSTAMP:20260420T044334
CREATED:20240925T185754Z
LAST-MODIFIED:20250513T170036Z
UID:10002953-1749374100-1749384000@fmc-cu.org
SUMMARY:Sunday Mornings at FMC
DESCRIPTION:PENTECOST\n \nJoin us for worship at 9:15 am live in the sanctuary or online.  We welcome\, without exclusion all who seek God’s love and grace! \nOur current children’s offering benefits the local Immigrant Services of CU. \nAfter worship\, stay for fellowship and refreshments (please keep your mask on when not drinking or eating).  In-person Sunday school classes for all ages (11:15 am-12 pm) follow fellowship time. \nAfter worship\, stay for fellowship and refreshments and Sunday school. Our summer Sunday school is intergenerational and the theme is Caregiving. People of various ages will share creative ways they care for others and that others have cared for them.
URL:https://fmc-cu.org/event/sunday-mornings-at-fmc-27/
LOCATION:First Mennonite Church\, 902 W Springfield Ave\, Urbana\, IL\, 61801\, United States
CATEGORIES:Sunday Mornings
ORGANIZER;CN="FMC Office":MAILTO:office@fmc-cu.org
END:VEVENT
BEGIN:VEVENT
DTSTART;VALUE=DATE:20250525
DTEND;VALUE=DATE:20250526
DTSTAMP:20260420T044334
CREATED:20230613T193931Z
LAST-MODIFIED:20250806T151019Z
UID:10001805-1748131200-1748217599@fmc-cu.org
SUMMARY:Vine Newsletter - submission deadline
DESCRIPTION:The Vine is the newsletter of First Mennonite Church. Submissions should be emailed to the current editor\, Cindi Schieber.
URL:https://fmc-cu.org/event/vine-newsletter-submission-deadline-2/2025-05-25/
CATEGORIES:FMC Events
ORGANIZER;CN="FMC Office":MAILTO:office@fmc-cu.org
END:VEVENT
BEGIN:VEVENT
DTSTART;TZID=America/Chicago:20250514T180000
DTEND;TZID=America/Chicago:20250514T200000
DTSTAMP:20260420T044334
CREATED:20231220T190406Z
LAST-MODIFIED:20250411T192604Z
UID:10003163-1747245600-1747252800@fmc-cu.org
SUMMARY:FMC Council meeting
DESCRIPTION:
URL:https://fmc-cu.org/event/fmc-council-meeting-2/2025-05-14/
LOCATION:First Mennonite Church\, 902 W Springfield Ave\, Urbana\, IL\, 61801\, United States
CATEGORIES:FMC Meetings
ORGANIZER;CN="FMC Office":MAILTO:office@fmc-cu.org
END:VEVENT
BEGIN:VEVENT
DTSTART;TZID=America/Chicago:20250427T120000
DTEND;TZID=America/Chicago:20250427T140000
DTSTAMP:20260420T044334
CREATED:20250228T200154Z
LAST-MODIFIED:20250320T145845Z
UID:10002543-1745755200-1745762400@fmc-cu.org
SUMMARY:Facilities Committee Meeting (Hybrid)
DESCRIPTION:This FMC committee is responsible for the general supervision of the church’s physical property and financial affairs.
URL:https://fmc-cu.org/event/property-and-finance-committee-meeting-zoom-2022-12-21-2-2-2-2-3/
LOCATION:Hybrid
CATEGORIES:FMC Meetings
ORGANIZER;CN="FMC Office":MAILTO:office@fmc-cu.org
END:VEVENT
BEGIN:VEVENT
DTSTART;VALUE=DATE:20250427
DTEND;VALUE=DATE:20250428
DTSTAMP:20260420T044334
CREATED:20230613T193931Z
LAST-MODIFIED:20250806T151019Z
UID:10001804-1745712000-1745798399@fmc-cu.org
SUMMARY:Vine Newsletter - submission deadline
DESCRIPTION:The Vine is the newsletter of First Mennonite Church. Submissions should be emailed to the current editor\, Cindi Schieber.
URL:https://fmc-cu.org/event/vine-newsletter-submission-deadline-2/2025-04-27/
CATEGORIES:FMC Events
ORGANIZER;CN="FMC Office":MAILTO:office@fmc-cu.org
END:VEVENT
BEGIN:VEVENT
DTSTART;TZID=America/Chicago:20250409T180000
DTEND;TZID=America/Chicago:20250409T200000
DTSTAMP:20260420T044334
CREATED:20231220T190406Z
LAST-MODIFIED:20250411T192604Z
UID:10002286-1744221600-1744228800@fmc-cu.org
SUMMARY:FMC Council meeting
DESCRIPTION:
URL:https://fmc-cu.org/event/fmc-council-meeting-2/2025-04-09/
LOCATION:First Mennonite Church\, 902 W Springfield Ave\, Urbana\, IL\, 61801\, United States
CATEGORIES:FMC Meetings
ORGANIZER;CN="FMC Office":MAILTO:office@fmc-cu.org
END:VEVENT
BEGIN:VEVENT
DTSTART;TZID=America/Chicago:20250406T091500
DTEND;TZID=America/Chicago:20250406T120000
DTSTAMP:20260420T044334
CREATED:20250305T175517Z
LAST-MODIFIED:20250311T184142Z
UID:10003059-1743930900-1743940800@fmc-cu.org
SUMMARY:Lent Sunday Morning Worship
DESCRIPTION:Join us for worship at 9:15 am live in the sanctuary or online.  We welcome\, without exclusion all who seek God’s love and grace! \nOur current children’s offering benefits the local Immigrant Services of CU. \nAfter worship\, stay for fellowship and refreshments (please keep your mask on when not drinking or eating).  In-person Sunday school classes for all ages (11:15 am-12 pm) follow fellowship time. \nLent Theme: Christ Challenges…\nMarch 9: Christ Challenges our Bias\nMarch 16: Christ Challenges Our Condemnation\nMarch 23: Christ Challenges Our Priorities\nMarch 30: Christ Challenges Our Selfishness\nApril 6: TBD\nApril 13 (Palm Sunday): Christ Defies Our Expectations\nApril 20 (Easter): WORSHIP AT 10:15 AM – Christ Overcomes Death
URL:https://fmc-cu.org/event/lent-sunday-morning-worship/2025-04-06/
LOCATION:First Mennonite Church\, 902 W Springfield Ave\, Urbana\, IL\, 61801\, United States
CATEGORIES:Sunday Mornings
ORGANIZER;CN="FMC Office":MAILTO:office@fmc-cu.org
END:VEVENT
BEGIN:VEVENT
DTSTART;TZID=America/Chicago:20250330T091500
DTEND;TZID=America/Chicago:20250330T120000
DTSTAMP:20260420T044334
CREATED:20250305T175517Z
LAST-MODIFIED:20250311T184142Z
UID:10003058-1743326100-1743336000@fmc-cu.org
SUMMARY:Lent Sunday Morning Worship
DESCRIPTION:Join us for worship at 9:15 am live in the sanctuary or online.  We welcome\, without exclusion all who seek God’s love and grace! \nOur current children’s offering benefits the local Immigrant Services of CU. \nAfter worship\, stay for fellowship and refreshments (please keep your mask on when not drinking or eating).  In-person Sunday school classes for all ages (11:15 am-12 pm) follow fellowship time. \nLent Theme: Christ Challenges…\nMarch 9: Christ Challenges our Bias\nMarch 16: Christ Challenges Our Condemnation\nMarch 23: Christ Challenges Our Priorities\nMarch 30: Christ Challenges Our Selfishness\nApril 6: TBD\nApril 13 (Palm Sunday): Christ Defies Our Expectations\nApril 20 (Easter): WORSHIP AT 10:15 AM – Christ Overcomes Death
URL:https://fmc-cu.org/event/lent-sunday-morning-worship/2025-03-30/
LOCATION:First Mennonite Church\, 902 W Springfield Ave\, Urbana\, IL\, 61801\, United States
CATEGORIES:Sunday Mornings
ORGANIZER;CN="FMC Office":MAILTO:office@fmc-cu.org
END:VEVENT
BEGIN:VEVENT
DTSTART;VALUE=DATE:20250330
DTEND;VALUE=DATE:20250331
DTSTAMP:20260420T044334
CREATED:20230613T193931Z
LAST-MODIFIED:20250806T151019Z
UID:10001803-1743292800-1743379199@fmc-cu.org
SUMMARY:Vine Newsletter - submission deadline
DESCRIPTION:The Vine is the newsletter of First Mennonite Church. Submissions should be emailed to the current editor\, Cindi Schieber.
URL:https://fmc-cu.org/event/vine-newsletter-submission-deadline-2/2025-03-30/
CATEGORIES:FMC Events
ORGANIZER;CN="FMC Office":MAILTO:office@fmc-cu.org
END:VEVENT
BEGIN:VEVENT
DTSTART;TZID=America/Chicago:20250323T091500
DTEND;TZID=America/Chicago:20250323T120000
DTSTAMP:20260420T044334
CREATED:20250305T175517Z
LAST-MODIFIED:20250311T184142Z
UID:10003057-1742721300-1742731200@fmc-cu.org
SUMMARY:Lent Sunday Morning Worship
DESCRIPTION:Join us for worship at 9:15 am live in the sanctuary or online.  We welcome\, without exclusion all who seek God’s love and grace! \nOur current children’s offering benefits the local Immigrant Services of CU. \nAfter worship\, stay for fellowship and refreshments (please keep your mask on when not drinking or eating).  In-person Sunday school classes for all ages (11:15 am-12 pm) follow fellowship time. \nLent Theme: Christ Challenges…\nMarch 9: Christ Challenges our Bias\nMarch 16: Christ Challenges Our Condemnation\nMarch 23: Christ Challenges Our Priorities\nMarch 30: Christ Challenges Our Selfishness\nApril 6: TBD\nApril 13 (Palm Sunday): Christ Defies Our Expectations\nApril 20 (Easter): WORSHIP AT 10:15 AM – Christ Overcomes Death
URL:https://fmc-cu.org/event/lent-sunday-morning-worship/2025-03-23/
LOCATION:First Mennonite Church\, 902 W Springfield Ave\, Urbana\, IL\, 61801\, United States
CATEGORIES:Sunday Mornings
ORGANIZER;CN="FMC Office":MAILTO:office@fmc-cu.org
END:VEVENT
BEGIN:VEVENT
DTSTART;TZID=America/Chicago:20250321T160000
DTEND;TZID=America/Chicago:20250321T180000
DTSTAMP:20260420T044334
CREATED:20250228T195616Z
LAST-MODIFIED:20250228T195928Z
UID:10002544-1742572800-1742580000@fmc-cu.org
SUMMARY:Facilities Committee Meeting (Zoom)
DESCRIPTION:This FMC committee is responsible for the general supervision of the church’s physical property and financial affairs.
URL:https://fmc-cu.org/event/property-and-finance-committee-meeting-zoom-2022-12-21-2-2-2-2-2/
LOCATION:Zoom
CATEGORIES:FMC Meetings
ORGANIZER;CN="FMC Office":MAILTO:office@fmc-cu.org
END:VEVENT
BEGIN:VEVENT
DTSTART;TZID=America/Chicago:20250316T091500
DTEND;TZID=America/Chicago:20250316T120000
DTSTAMP:20260420T044334
CREATED:20250305T175517Z
LAST-MODIFIED:20250311T184142Z
UID:10003056-1742116500-1742126400@fmc-cu.org
SUMMARY:Lent Sunday Morning Worship
DESCRIPTION:Join us for worship at 9:15 am live in the sanctuary or online.  We welcome\, without exclusion all who seek God’s love and grace! \nOur current children’s offering benefits the local Immigrant Services of CU. \nAfter worship\, stay for fellowship and refreshments (please keep your mask on when not drinking or eating).  In-person Sunday school classes for all ages (11:15 am-12 pm) follow fellowship time. \nLent Theme: Christ Challenges…\nMarch 9: Christ Challenges our Bias\nMarch 16: Christ Challenges Our Condemnation\nMarch 23: Christ Challenges Our Priorities\nMarch 30: Christ Challenges Our Selfishness\nApril 6: TBD\nApril 13 (Palm Sunday): Christ Defies Our Expectations\nApril 20 (Easter): WORSHIP AT 10:15 AM – Christ Overcomes Death
URL:https://fmc-cu.org/event/lent-sunday-morning-worship/2025-03-16/
LOCATION:First Mennonite Church\, 902 W Springfield Ave\, Urbana\, IL\, 61801\, United States
CATEGORIES:Sunday Mornings
ORGANIZER;CN="FMC Office":MAILTO:office@fmc-cu.org
END:VEVENT
BEGIN:VEVENT
DTSTART;TZID=America/Chicago:20250309T091500
DTEND;TZID=America/Chicago:20250309T120000
DTSTAMP:20260420T044334
CREATED:20250305T175517Z
LAST-MODIFIED:20250311T184142Z
UID:10003055-1741511700-1741521600@fmc-cu.org
SUMMARY:Lent Sunday Morning Worship
DESCRIPTION:Join us for worship at 9:15 am live in the sanctuary or online.  We welcome\, without exclusion all who seek God’s love and grace! \nOur current children’s offering benefits the local Immigrant Services of CU. \nAfter worship\, stay for fellowship and refreshments (please keep your mask on when not drinking or eating).  In-person Sunday school classes for all ages (11:15 am-12 pm) follow fellowship time. \nLent Theme: Christ Challenges…\nMarch 9: Christ Challenges our Bias\nMarch 16: Christ Challenges Our Condemnation\nMarch 23: Christ Challenges Our Priorities\nMarch 30: Christ Challenges Our Selfishness\nApril 6: TBD\nApril 13 (Palm Sunday): Christ Defies Our Expectations\nApril 20 (Easter): WORSHIP AT 10:15 AM – Christ Overcomes Death
URL:https://fmc-cu.org/event/lent-sunday-morning-worship/2025-03-09/
LOCATION:First Mennonite Church\, 902 W Springfield Ave\, Urbana\, IL\, 61801\, United States
CATEGORIES:Sunday Mornings
ORGANIZER;CN="FMC Office":MAILTO:office@fmc-cu.org
END:VEVENT
BEGIN:VEVENT
DTSTART;TZID=America/Chicago:20250223T120000
DTEND;TZID=America/Chicago:20250223T140000
DTSTAMP:20260420T044334
CREATED:20250109T195847Z
LAST-MODIFIED:20250109T200024Z
UID:10003008-1740312000-1740319200@fmc-cu.org
SUMMARY:FMC potluck and Medical Debt Relief Auction
DESCRIPTION:The auction will follow a church potluck.
URL:https://fmc-cu.org/event/fmc-medical-debt-relief-auction/
LOCATION:First Mennonite Church\, 902 W Springfield Ave\, Urbana\, IL\, 61801\, United States
CATEGORIES:FMC Events
ORGANIZER;CN="FMC Office":MAILTO:office@fmc-cu.org
END:VEVENT
BEGIN:VEVENT
DTSTART;TZID=America/Chicago:20250223T091500
DTEND;TZID=America/Chicago:20250223T120000
DTSTAMP:20260420T044334
CREATED:20240925T185923Z
LAST-MODIFIED:20250128T192559Z
UID:10003013-1740302100-1740312000@fmc-cu.org
SUMMARY:Sunday Mornings at FMC
DESCRIPTION:Jubilee Living series January 26 – February 23\, 2025\n \nJoin us for worship at 9:15 am live in the sanctuary or online.  We welcome\, without exclusion all who seek God’s love and grace! \nOur current children’s offering benefits SIM Bangladesh Arsenic Poisoning Prevention Program (www.simbd.org/appp). \nAfter worship\, stay for fellowship and refreshments and Sunday school. All ages are invited to attend Sunday school. Click here to view our current Sunday school Classes.
URL:https://fmc-cu.org/event/sunday-mornings-at-fmc-28/2025-02-23/
LOCATION:First Mennonite Church\, 902 W Springfield Ave\, Urbana\, IL\, 61801\, United States
CATEGORIES:Sunday Mornings
ORGANIZER;CN="FMC Office":MAILTO:office@fmc-cu.org
END:VEVENT
BEGIN:VEVENT
DTSTART;VALUE=DATE:20250223
DTEND;VALUE=DATE:20250224
DTSTAMP:20260420T044334
CREATED:20230613T193931Z
LAST-MODIFIED:20250806T151019Z
UID:10001802-1740268800-1740355199@fmc-cu.org
SUMMARY:Vine Newsletter - submission deadline
DESCRIPTION:The Vine is the newsletter of First Mennonite Church. Submissions should be emailed to the current editor\, Cindi Schieber.
URL:https://fmc-cu.org/event/vine-newsletter-submission-deadline-2/2025-02-23/
CATEGORIES:FMC Events
ORGANIZER;CN="FMC Office":MAILTO:office@fmc-cu.org
END:VEVENT
BEGIN:VEVENT
DTSTART;TZID=America/Chicago:20250216T091500
DTEND;TZID=America/Chicago:20250216T120000
DTSTAMP:20260420T044334
CREATED:20240925T185923Z
LAST-MODIFIED:20250128T192559Z
UID:10003012-1739697300-1739707200@fmc-cu.org
SUMMARY:Sunday Mornings at FMC
DESCRIPTION:Jubilee Living series January 26 – February 23\, 2025\n \nJoin us for worship at 9:15 am live in the sanctuary or online.  We welcome\, without exclusion all who seek God’s love and grace! \nOur current children’s offering benefits SIM Bangladesh Arsenic Poisoning Prevention Program (www.simbd.org/appp). \nAfter worship\, stay for fellowship and refreshments and Sunday school. All ages are invited to attend Sunday school. Click here to view our current Sunday school Classes.
URL:https://fmc-cu.org/event/sunday-mornings-at-fmc-28/2025-02-16/
LOCATION:First Mennonite Church\, 902 W Springfield Ave\, Urbana\, IL\, 61801\, United States
CATEGORIES:Sunday Mornings
ORGANIZER;CN="FMC Office":MAILTO:office@fmc-cu.org
END:VEVENT
BEGIN:VEVENT
DTSTART;TZID=America/Chicago:20250209T091500
DTEND;TZID=America/Chicago:20250209T120000
DTSTAMP:20260420T044334
CREATED:20240925T185923Z
LAST-MODIFIED:20250128T192559Z
UID:10003011-1739092500-1739102400@fmc-cu.org
SUMMARY:Sunday Mornings at FMC
DESCRIPTION:Jubilee Living series January 26 – February 23\, 2025\n \nJoin us for worship at 9:15 am live in the sanctuary or online.  We welcome\, without exclusion all who seek God’s love and grace! \nOur current children’s offering benefits SIM Bangladesh Arsenic Poisoning Prevention Program (www.simbd.org/appp). \nAfter worship\, stay for fellowship and refreshments and Sunday school. All ages are invited to attend Sunday school. Click here to view our current Sunday school Classes.
URL:https://fmc-cu.org/event/sunday-mornings-at-fmc-28/2025-02-09/
LOCATION:First Mennonite Church\, 902 W Springfield Ave\, Urbana\, IL\, 61801\, United States
CATEGORIES:Sunday Mornings
ORGANIZER;CN="FMC Office":MAILTO:office@fmc-cu.org
END:VEVENT
BEGIN:VEVENT
DTSTART;TZID=America/Chicago:20250207T180000
DTEND;TZID=America/Chicago:20250208T060000
DTSTAMP:20260420T044334
CREATED:20220120T184318Z
LAST-MODIFIED:20250128T192753Z
UID:10001025-1738951200-1738994400@fmc-cu.org
SUMMARY:One Winter Night
DESCRIPTION:CU at Home’s One Winter Night event to raise awareness and funds to help the homeless in our community.  Rea Koehn and Rebecca Bare will participate in the event on behalf of FMC.  They will sleep in their car in downtown Champaign. Links to their donation pages can be found on the CU at Home event page.
URL:https://fmc-cu.org/event/one-winter-night/
LOCATION:downtown Champaign
CATEGORIES:Co-Sponsored Events
ORGANIZER;CN="FMC Office":MAILTO:office@fmc-cu.org
END:VEVENT
BEGIN:VEVENT
DTSTART;TZID=America/Chicago:20250202T091500
DTEND;TZID=America/Chicago:20250202T120000
DTSTAMP:20260420T044334
CREATED:20240925T185923Z
LAST-MODIFIED:20250128T192559Z
UID:10003010-1738487700-1738497600@fmc-cu.org
SUMMARY:Sunday Mornings at FMC
DESCRIPTION:Jubilee Living series January 26 – February 23\, 2025\n \nJoin us for worship at 9:15 am live in the sanctuary or online.  We welcome\, without exclusion all who seek God’s love and grace! \nOur current children’s offering benefits SIM Bangladesh Arsenic Poisoning Prevention Program (www.simbd.org/appp). \nAfter worship\, stay for fellowship and refreshments and Sunday school. All ages are invited to attend Sunday school. Click here to view our current Sunday school Classes.
URL:https://fmc-cu.org/event/sunday-mornings-at-fmc-28/2025-02-02/
LOCATION:First Mennonite Church\, 902 W Springfield Ave\, Urbana\, IL\, 61801\, United States
CATEGORIES:Sunday Mornings
ORGANIZER;CN="FMC Office":MAILTO:office@fmc-cu.org
END:VEVENT
END:VCALENDAR