BEGIN:VCALENDAR
VERSION:2.0
PRODID:-//First Mennonite Church of Champaign-Urbana - ECPv6.15.20//NONSGML v1.0//EN
CALSCALE:GREGORIAN
METHOD:PUBLISH
X-WR-CALNAME:First Mennonite Church of Champaign-Urbana
X-ORIGINAL-URL:https://fmc-cu.org
X-WR-CALDESC:Events for First Mennonite Church of Champaign-Urbana
REFRESH-INTERVAL;VALUE=DURATION:PT1H
X-Robots-Tag:noindex
X-PUBLISHED-TTL:PT1H
BEGIN:VTIMEZONE
TZID:America/Chicago
BEGIN:DAYLIGHT
TZOFFSETFROM:-0600
TZOFFSETTO:-0500
TZNAME:CDT
DTSTART:20230312T080000
END:DAYLIGHT
BEGIN:STANDARD
TZOFFSETFROM:-0500
TZOFFSETTO:-0600
TZNAME:CST
DTSTART:20231105T070000
END:STANDARD
BEGIN:DAYLIGHT
TZOFFSETFROM:-0600
TZOFFSETTO:-0500
TZNAME:CDT
DTSTART:20240310T080000
END:DAYLIGHT
BEGIN:STANDARD
TZOFFSETFROM:-0500
TZOFFSETTO:-0600
TZNAME:CST
DTSTART:20241103T070000
END:STANDARD
BEGIN:DAYLIGHT
TZOFFSETFROM:-0600
TZOFFSETTO:-0500
TZNAME:CDT
DTSTART:20250309T080000
END:DAYLIGHT
BEGIN:STANDARD
TZOFFSETFROM:-0500
TZOFFSETTO:-0600
TZNAME:CST
DTSTART:20251102T070000
END:STANDARD
END:VTIMEZONE
BEGIN:VEVENT
DTSTART;TZID=America/Chicago:20241224T173000
DTEND;TZID=America/Chicago:20241224T180000
DTSTAMP:20260420T204606
CREATED:20231122T195422Z
LAST-MODIFIED:20241220T165441Z
UID:10002010-1735061400-1735063200@fmc-cu.org
SUMMARY:Christmas Eve Drama Rehearsal
DESCRIPTION:
URL:https://fmc-cu.org/event/grades-3-6-drama-rehearsal-of-mary-play/
LOCATION:First Mennonite Church\, 902 W Springfield Ave\, Urbana\, IL\, 61801\, United States
CATEGORIES:FMC Meetings
ORGANIZER;CN="FMC Office":MAILTO:office@fmc-cu.org
END:VEVENT
BEGIN:VEVENT
DTSTART;TZID=America/Chicago:20241222T091500
DTEND;TZID=America/Chicago:20241222T120000
DTSTAMP:20260420T204606
CREATED:20231025T173219Z
LAST-MODIFIED:20241112T193120Z
UID:10002970-1734858900-1734868800@fmc-cu.org
SUMMARY:Sunday Mornings at FMC
DESCRIPTION:OUR ADVENT SERIES: WAITING IN…\nDec. 1: Hope\nDec. 8: Peace\nDec. 15: Joy\nDec. 22: Love \nJoin us for worship at 9:15 am live in the sanctuary or online.  We welcome\, without exclusion all who seek God’s love and grace! \nOur current children’s offering benefits SIM Bangladesh Arsenic Poisoning Prevention Program-www.simbd.org/appp \nAfter worship\, stay for fellowship and refreshments.  In-person Sunday school classes for all ages (11:15 am-12 pm) follow fellowship time.
URL:https://fmc-cu.org/event/sunday-mornings-at-fmc-14/2024-12-22/
LOCATION:First Mennonite Church\, 902 W Springfield Ave\, Urbana\, IL\, 61801\, United States
CATEGORIES:Sunday Mornings
ORGANIZER;CN="FMC Office":MAILTO:office@fmc-cu.org
END:VEVENT
BEGIN:VEVENT
DTSTART;TZID=America/Chicago:20241215T091500
DTEND;TZID=America/Chicago:20241215T120000
DTSTAMP:20260420T204606
CREATED:20231025T173219Z
LAST-MODIFIED:20241112T193120Z
UID:10002969-1734254100-1734264000@fmc-cu.org
SUMMARY:Sunday Mornings at FMC
DESCRIPTION:OUR ADVENT SERIES: WAITING IN…\nDec. 1: Hope\nDec. 8: Peace\nDec. 15: Joy\nDec. 22: Love \nJoin us for worship at 9:15 am live in the sanctuary or online.  We welcome\, without exclusion all who seek God’s love and grace! \nOur current children’s offering benefits SIM Bangladesh Arsenic Poisoning Prevention Program-www.simbd.org/appp \nAfter worship\, stay for fellowship and refreshments.  In-person Sunday school classes for all ages (11:15 am-12 pm) follow fellowship time.
URL:https://fmc-cu.org/event/sunday-mornings-at-fmc-14/2024-12-15/
LOCATION:First Mennonite Church\, 902 W Springfield Ave\, Urbana\, IL\, 61801\, United States
CATEGORIES:Sunday Mornings
ORGANIZER;CN="FMC Office":MAILTO:office@fmc-cu.org
END:VEVENT
BEGIN:VEVENT
DTSTART;TZID=America/Chicago:20241211T180000
DTEND;TZID=America/Chicago:20241211T200000
DTSTAMP:20260420T204606
CREATED:20240306T175526Z
LAST-MODIFIED:20240306T175724Z
UID:10002381-1733940000-1733947200@fmc-cu.org
SUMMARY:FMC Council
DESCRIPTION:FMC Council acts on behalf of the congregation in addition to general administrative duties.
URL:https://fmc-cu.org/event/fmc-council-3-2/2024-12-11/
LOCATION:FMC Library\, 902 W Springfield Ave\, Urbana\, 61801
CATEGORIES:FMC Meetings
ORGANIZER;CN="FMC Office":MAILTO:office@fmc-cu.org
END:VEVENT
BEGIN:VEVENT
DTSTART;TZID=America/Chicago:20241208T091500
DTEND;TZID=America/Chicago:20241208T120000
DTSTAMP:20260420T204606
CREATED:20231025T173219Z
LAST-MODIFIED:20241112T193120Z
UID:10002968-1733649300-1733659200@fmc-cu.org
SUMMARY:Sunday Mornings at FMC
DESCRIPTION:OUR ADVENT SERIES: WAITING IN…\nDec. 1: Hope\nDec. 8: Peace\nDec. 15: Joy\nDec. 22: Love \nJoin us for worship at 9:15 am live in the sanctuary or online.  We welcome\, without exclusion all who seek God’s love and grace! \nOur current children’s offering benefits SIM Bangladesh Arsenic Poisoning Prevention Program-www.simbd.org/appp \nAfter worship\, stay for fellowship and refreshments.  In-person Sunday school classes for all ages (11:15 am-12 pm) follow fellowship time.
URL:https://fmc-cu.org/event/sunday-mornings-at-fmc-14/2024-12-08/
LOCATION:First Mennonite Church\, 902 W Springfield Ave\, Urbana\, IL\, 61801\, United States
CATEGORIES:Sunday Mornings
ORGANIZER;CN="FMC Office":MAILTO:office@fmc-cu.org
END:VEVENT
BEGIN:VEVENT
DTSTART;TZID=America/Chicago:20241201T091500
DTEND;TZID=America/Chicago:20241201T120000
DTSTAMP:20260420T204606
CREATED:20231025T173219Z
LAST-MODIFIED:20241112T193120Z
UID:10002967-1733044500-1733054400@fmc-cu.org
SUMMARY:Sunday Mornings at FMC
DESCRIPTION:OUR ADVENT SERIES: WAITING IN…\nDec. 1: Hope\nDec. 8: Peace\nDec. 15: Joy\nDec. 22: Love \nJoin us for worship at 9:15 am live in the sanctuary or online.  We welcome\, without exclusion all who seek God’s love and grace! \nOur current children’s offering benefits SIM Bangladesh Arsenic Poisoning Prevention Program-www.simbd.org/appp \nAfter worship\, stay for fellowship and refreshments.  In-person Sunday school classes for all ages (11:15 am-12 pm) follow fellowship time.
URL:https://fmc-cu.org/event/sunday-mornings-at-fmc-14/2024-12-01/
LOCATION:First Mennonite Church\, 902 W Springfield Ave\, Urbana\, IL\, 61801\, United States
CATEGORIES:Sunday Mornings
ORGANIZER;CN="FMC Office":MAILTO:office@fmc-cu.org
END:VEVENT
BEGIN:VEVENT
DTSTART;TZID=America/Chicago:20241124T120000
DTEND;TZID=America/Chicago:20241124T133000
DTSTAMP:20260420T204606
CREATED:20221019T192343Z
LAST-MODIFIED:20241009T163307Z
UID:10000245-1732449600-1732455000@fmc-cu.org
SUMMARY:Thanksgiving Potluck
DESCRIPTION:Thanksgiving Potluck after Sunday school. Bring a nut-free dish to share.
URL:https://fmc-cu.org/event/thanksgiving-potluck/
LOCATION:First Mennonite Church\, 902 W Springfield Ave\, Urbana\, IL\, 61801\, United States
CATEGORIES:FMC Events
ORGANIZER;CN="FMC Office":MAILTO:office@fmc-cu.org
END:VEVENT
BEGIN:VEVENT
DTSTART;TZID=America/Chicago:20241124T091500
DTEND;TZID=America/Chicago:20241124T120000
DTSTAMP:20260420T204606
CREATED:20240925T190429Z
LAST-MODIFIED:20240925T190429Z
UID:10002958-1732439700-1732449600@fmc-cu.org
SUMMARY:Sunday Mornings at FMC
DESCRIPTION:THANKSGIVING SUNDAY\n \nJoin us for worship at 9:15 am live in the sanctuary or online.  We welcome\, without exclusion all who seek God’s love and grace! \nOur current children’s offering benefits SIM Bangladesh Arsenic Poisoning Prevention Program (www.simbd.org/appp). \nAfter worship\, stay for fellowship and refreshments and Sunday school. All ages are invited to attend Sunday school. Click here to view our Fall Classes.
URL:https://fmc-cu.org/event/sunday-mornings-at-fmc-31/
LOCATION:First Mennonite Church\, 902 W Springfield Ave\, Urbana\, IL\, 61801\, United States
CATEGORIES:Sunday Mornings
ORGANIZER;CN="FMC Office":MAILTO:office@fmc-cu.org
END:VEVENT
BEGIN:VEVENT
DTSTART;VALUE=DATE:20241124
DTEND;VALUE=DATE:20241125
DTSTAMP:20260420T204606
CREATED:20230613T193931Z
LAST-MODIFIED:20250806T151019Z
UID:10001799-1732406400-1732492799@fmc-cu.org
SUMMARY:Vine Newsletter - submission deadline
DESCRIPTION:The Vine is the newsletter of First Mennonite Church. Submissions should be emailed to the current editor\, Cindi Schieber.
URL:https://fmc-cu.org/event/vine-newsletter-submission-deadline-2/2024-11-24/
CATEGORIES:FMC Events
ORGANIZER;CN="FMC Office":MAILTO:office@fmc-cu.org
END:VEVENT
BEGIN:VEVENT
DTSTART;TZID=America/Chicago:20241113T180000
DTEND;TZID=America/Chicago:20241113T200000
DTSTAMP:20260420T204606
CREATED:20240306T175526Z
LAST-MODIFIED:20240306T175724Z
UID:10002380-1731520800-1731528000@fmc-cu.org
SUMMARY:FMC Council
DESCRIPTION:FMC Council acts on behalf of the congregation in addition to general administrative duties.
URL:https://fmc-cu.org/event/fmc-council-3-2/2024-11-13/
LOCATION:FMC Library\, 902 W Springfield Ave\, Urbana\, 61801
CATEGORIES:FMC Meetings
ORGANIZER;CN="FMC Office":MAILTO:office@fmc-cu.org
END:VEVENT
BEGIN:VEVENT
DTSTART;TZID=America/Chicago:20241102T183000
DTEND;TZID=America/Chicago:20241102T203000
DTSTAMP:20260420T204606
CREATED:20240531T135934Z
LAST-MODIFIED:20240926T153048Z
UID:10002525-1730572200-1730579400@fmc-cu.org
SUMMARY:Alice Di Micele Benefit Concert at FMC
DESCRIPTION:Alice Di Micele is a folk musician and environmental singer and songwriter from Ashland\, Oregon. Her voice is rich and soulful\, with a five-octave range. Local musician Kevin Elliott will open the concert. We are fortunate to host Alice’s first concert in Illinois.  Invite your family\, friends and neighbors to this family-friendly event! \nParking is available in the lot on the north side of the church. Overflow parking is available in the University of Illinois lot at the corner of Springfield and Gregory\, one block west of the church. \n\n\n\nTickets are $20/adult and $10/child. Purchase tickets or make donations to the “Dome House Project” at: https://tinyurl.com/ADiMiceleNov2Concert. \n  \n\n\n\nThe concert benefits Red Cloud Renewable’s Lakota Thiyuha “Dome House” project\, which is building affordable housing on Pine Ridge Reservation\, located in South Dakota. Pine Ridge has had a severe housing crisis for many years. The current situation is dire\, with overcrowding and substandard living conditions being the norm. The “Dome House” project is changing that by creating innovative housing that is affordable\, sustainable and easy to heat. Direct donations to “Dome House” project can be given through the concert ticket link. \n\n\n\nSponsors: First Mennonite ChurchFaith in PlaceNew Prairie SolarWEFT 90.1 FM (community owned and operated)\nDelight Flower Farm\nUrbana Acupunture
URL:https://fmc-cu.org/event/fmc-reserved-tentative/
LOCATION:First Mennonite Church\, 902 W Springfield Ave\, Urbana\, IL\, 61801\, United States
CATEGORIES:Co-Sponsored Events
ORGANIZER;CN="FMC Office":MAILTO:office@fmc-cu.org
END:VEVENT
BEGIN:VEVENT
DTSTART;TZID=America/Chicago:20241027T120000
DTEND;TZID=America/Chicago:20241027T160000
DTSTAMP:20260420T204606
CREATED:20220602T182620Z
LAST-MODIFIED:20240906T181255Z
UID:10002944-1730030400-1730044800@fmc-cu.org
SUMMARY:Fellowship Meals
DESCRIPTION:Fellowship meals. FMC attendees sign up to host a meal or to be a guest on Saturday evening (Oct 26) or Sunday lunch (Oct 27). Times are TBD by host and guests.
URL:https://fmc-cu.org/event/fellowship-picnic-lunches/2024-10-27/
CATEGORIES:FMC Events
ORGANIZER;CN="FMC Office":MAILTO:office@fmc-cu.org
END:VEVENT
BEGIN:VEVENT
DTSTART;VALUE=DATE:20241027
DTEND;VALUE=DATE:20241028
DTSTAMP:20260420T204606
CREATED:20230613T193931Z
LAST-MODIFIED:20250806T151019Z
UID:10001798-1729987200-1730073599@fmc-cu.org
SUMMARY:Vine Newsletter - submission deadline
DESCRIPTION:The Vine is the newsletter of First Mennonite Church. Submissions should be emailed to the current editor\, Cindi Schieber.
URL:https://fmc-cu.org/event/vine-newsletter-submission-deadline-2/2024-10-27/
CATEGORIES:FMC Events
ORGANIZER;CN="FMC Office":MAILTO:office@fmc-cu.org
END:VEVENT
BEGIN:VEVENT
DTSTART;TZID=America/Chicago:20241026T170000
DTEND;TZID=America/Chicago:20241026T220000
DTSTAMP:20260420T204606
CREATED:20220602T182620Z
LAST-MODIFIED:20240906T181255Z
UID:10002943-1729962000-1729980000@fmc-cu.org
SUMMARY:Fellowship Meals
DESCRIPTION:Fellowship meals. FMC attendees sign up to host a meal or to be a guest on Saturday evening (Oct 26) or Sunday lunch (Oct 27). Times are TBD by host and guests.
URL:https://fmc-cu.org/event/fellowship-picnic-lunches/2024-10-26/
CATEGORIES:FMC Events
ORGANIZER;CN="FMC Office":MAILTO:office@fmc-cu.org
END:VEVENT
BEGIN:VEVENT
DTSTART;TZID=America/Chicago:20241009T180000
DTEND;TZID=America/Chicago:20241009T200000
DTSTAMP:20260420T204606
CREATED:20240306T175526Z
LAST-MODIFIED:20240306T175724Z
UID:10002379-1728496800-1728504000@fmc-cu.org
SUMMARY:FMC Council
DESCRIPTION:FMC Council acts on behalf of the congregation in addition to general administrative duties.
URL:https://fmc-cu.org/event/fmc-council-3-2/2024-10-09/
LOCATION:FMC Library\, 902 W Springfield Ave\, Urbana\, 61801
CATEGORIES:FMC Meetings
ORGANIZER;CN="FMC Office":MAILTO:office@fmc-cu.org
END:VEVENT
BEGIN:VEVENT
DTSTART;TZID=America/Chicago:20241006T091500
DTEND;TZID=America/Chicago:20241006T120000
DTSTAMP:20260420T204606
CREATED:20240925T185339Z
LAST-MODIFIED:20240925T185411Z
UID:10002951-1728206100-1728216000@fmc-cu.org
SUMMARY:Sunday Mornings at FMC
DESCRIPTION:WORLD COMMUNION SUNDAY & RECEPTION OF NEW MEMBERS \nJoin us for worship at 9:15 am live in the sanctuary or online.  We welcome\, without exclusion all who seek God’s love and grace! \nOur current children’s offering benefits SIM Bangladesh Arsenic Poisoning Prevention Program (www.simbd.org/appp). \nAfter worship\, stay for fellowship and refreshments and Sunday school. All ages are invited to attend Sunday school. Click here to view our Fall Classes.
URL:https://fmc-cu.org/event/12029/
LOCATION:First Mennonite Church\, 902 W Springfield Ave\, Urbana\, IL\, 61801\, United States
CATEGORIES:Sunday Mornings
ORGANIZER;CN="FMC Office":MAILTO:office@fmc-cu.org
END:VEVENT
BEGIN:VEVENT
DTSTART;TZID=America/Chicago:20241004T170000
DTEND;TZID=America/Chicago:20241004T190000
DTSTAMP:20260420T204606
CREATED:20240911T145935Z
LAST-MODIFIED:20240911T161205Z
UID:10002945-1728061200-1728068400@fmc-cu.org
SUMMARY:FMC reserved for a visitation
DESCRIPTION:A visitation for Tom Anderson will be held at First Mennonite Church from 5-7 pm.
URL:https://fmc-cu.org/event/fmc-reserved-for-a-visitation-time-tbd/
LOCATION:First Mennonite Church\, 902 W Springfield Ave\, Urbana\, IL\, 61801\, United States
CATEGORIES:Private Events (reserved)
ORGANIZER;CN="FMC Office":MAILTO:office@fmc-cu.org
END:VEVENT
BEGIN:VEVENT
DTSTART;TZID=America/Chicago:20240929T091500
DTEND;TZID=America/Chicago:20240929T120000
DTSTAMP:20260420T204606
CREATED:20240524T182057Z
LAST-MODIFIED:20240925T185157Z
UID:10002435-1727601300-1727611200@fmc-cu.org
SUMMARY:Sunday Mornings at FMC
DESCRIPTION:Join us for worship at 9:15 am live in the sanctuary or online.  We welcome\, without exclusion all who seek God’s love and grace! \nOur current children’s offering benefits SIM Bangladesh Arsenic Poisoning Prevention Program (www.simbd.org/appp). \nAfter worship\, stay for fellowship and refreshments and Sunday school. All ages are invited to attend Sunday school. Click here to view our Fall Classes.\n \n  \n 
URL:https://fmc-cu.org/event/sunday-mornings-at-fmc-25/
LOCATION:First Mennonite Church\, 902 W Springfield Ave\, Urbana\, IL\, 61801\, United States
CATEGORIES:Sunday Mornings
ORGANIZER;CN="FMC Office":MAILTO:office@fmc-cu.org
END:VEVENT
BEGIN:VEVENT
DTSTART;VALUE=DATE:20240929
DTEND;VALUE=DATE:20240930
DTSTAMP:20260420T204606
CREATED:20230613T193931Z
LAST-MODIFIED:20250806T151019Z
UID:10001797-1727568000-1727654399@fmc-cu.org
SUMMARY:Vine Newsletter - submission deadline
DESCRIPTION:The Vine is the newsletter of First Mennonite Church. Submissions should be emailed to the current editor\, Cindi Schieber.
URL:https://fmc-cu.org/event/vine-newsletter-submission-deadline-2/2024-09-29/
CATEGORIES:FMC Events
ORGANIZER;CN="FMC Office":MAILTO:office@fmc-cu.org
END:VEVENT
BEGIN:VEVENT
DTSTART;TZID=America/Chicago:20240919T163000
DTEND;TZID=America/Chicago:20240919T183000
DTSTAMP:20260420T204606
CREATED:20240718T163733Z
LAST-MODIFIED:20240718T163733Z
UID:10002542-1726763400-1726770600@fmc-cu.org
SUMMARY:Facilities Committee Meeting (Hybrid-In Person & Zoom)
DESCRIPTION:This FMC committee is responsible for the general supervision of the church’s physical property and financial affairs.
URL:https://fmc-cu.org/event/property-and-finance-committee-meeting-zoom-2022-12-21-2-2-2-2/2024-09-19/
LOCATION:FMC Library\, 902 W Springfield Ave\, Urbana\, 61801
CATEGORIES:FMC Meetings
ORGANIZER;CN="FMC Office":MAILTO:office@fmc-cu.org
END:VEVENT
BEGIN:VEVENT
DTSTART;TZID=America/Chicago:20240911T180000
DTEND;TZID=America/Chicago:20240911T200000
DTSTAMP:20260420T204606
CREATED:20240306T175526Z
LAST-MODIFIED:20240306T175724Z
UID:10002378-1726077600-1726084800@fmc-cu.org
SUMMARY:FMC Council
DESCRIPTION:FMC Council acts on behalf of the congregation in addition to general administrative duties.
URL:https://fmc-cu.org/event/fmc-council-3-2/2024-09-11/
LOCATION:FMC Library\, 902 W Springfield Ave\, Urbana\, 61801
CATEGORIES:FMC Meetings
ORGANIZER;CN="FMC Office":MAILTO:office@fmc-cu.org
END:VEVENT
BEGIN:VEVENT
DTSTART;VALUE=DATE:20240825
DTEND;VALUE=DATE:20240826
DTSTAMP:20260420T204606
CREATED:20230613T193931Z
LAST-MODIFIED:20250806T151019Z
UID:10001796-1724544000-1724630399@fmc-cu.org
SUMMARY:Vine Newsletter - submission deadline
DESCRIPTION:The Vine is the newsletter of First Mennonite Church. Submissions should be emailed to the current editor\, Cindi Schieber.
URL:https://fmc-cu.org/event/vine-newsletter-submission-deadline-2/2024-08-25/
CATEGORIES:FMC Events
ORGANIZER;CN="FMC Office":MAILTO:office@fmc-cu.org
END:VEVENT
BEGIN:VEVENT
DTSTART;TZID=America/Chicago:20240822T190000
DTEND;TZID=America/Chicago:20240822T220000
DTSTAMP:20260420T204606
CREATED:20221011T192537Z
LAST-MODIFIED:20240806T195403Z
UID:10002519-1724353200-1724364000@fmc-cu.org
SUMMARY:FMC Sanctuary reserved for theater rehearsal (private event)
DESCRIPTION:This rehearsal is for Twin City Theater Company (Doug M. – Director)
URL:https://fmc-cu.org/event/fmc-sanctuary-reserved-for-studio-recital-private-event/
LOCATION:First Mennonite Church\, 902 W Springfield Ave\, Urbana\, IL\, 61801\, United States
CATEGORIES:Private Events (reserved)
ORGANIZER;CN="FMC Office":MAILTO:office@fmc-cu.org
END:VEVENT
BEGIN:VEVENT
DTSTART;TZID=America/Chicago:20240815T163000
DTEND;TZID=America/Chicago:20240815T183000
DTSTAMP:20260420T204606
CREATED:20240718T163733Z
LAST-MODIFIED:20240718T163733Z
UID:10002387-1723739400-1723746600@fmc-cu.org
SUMMARY:Facilities Committee Meeting (Hybrid-In Person & Zoom)
DESCRIPTION:This FMC committee is responsible for the general supervision of the church’s physical property and financial affairs.
URL:https://fmc-cu.org/event/property-and-finance-committee-meeting-zoom-2022-12-21-2-2-2-2/2024-08-15/
LOCATION:FMC Library\, 902 W Springfield Ave\, Urbana\, 61801
CATEGORIES:FMC Meetings
ORGANIZER;CN="FMC Office":MAILTO:office@fmc-cu.org
END:VEVENT
BEGIN:VEVENT
DTSTART;TZID=America/Chicago:20240814T180000
DTEND;TZID=America/Chicago:20240814T200000
DTSTAMP:20260420T204606
CREATED:20240306T175526Z
LAST-MODIFIED:20240306T175724Z
UID:10002377-1723658400-1723665600@fmc-cu.org
SUMMARY:FMC Council
DESCRIPTION:FMC Council acts on behalf of the congregation in addition to general administrative duties.
URL:https://fmc-cu.org/event/fmc-council-3-2/2024-08-14/
LOCATION:FMC Library\, 902 W Springfield Ave\, Urbana\, 61801
CATEGORIES:FMC Meetings
ORGANIZER;CN="FMC Office":MAILTO:office@fmc-cu.org
END:VEVENT
BEGIN:VEVENT
DTSTART;TZID=America/Chicago:20240805T170000
DTEND;TZID=America/Chicago:20240805T200000
DTSTAMP:20260420T204606
CREATED:20240606T175350Z
LAST-MODIFIED:20240606T175350Z
UID:10002527-1722877200-1722888000@fmc-cu.org
SUMMARY:Arthur Mennonite Relief Sale Ice Cream Social
DESCRIPTION:LOCATION: Arthur Community Building (120 E Progress St\, Arthur\, IL). \nThe unofficial kick-off event features cake\, cobblers and ice cream. The dinner menu and ice cream flavors will be announced in the coming weeks.
URL:https://fmc-cu.org/event/arthur-mennonite-relief-sale-ice-cream-social/
CATEGORIES:Mennonite Church-affiliated
ORGANIZER;CN="FMC Office":MAILTO:office@fmc-cu.org
END:VEVENT
BEGIN:VEVENT
DTSTART;VALUE=DATE:20240728
DTEND;VALUE=DATE:20240729
DTSTAMP:20260420T204606
CREATED:20230613T193931Z
LAST-MODIFIED:20250806T151019Z
UID:10001795-1722124800-1722211199@fmc-cu.org
SUMMARY:Vine Newsletter - submission deadline
DESCRIPTION:The Vine is the newsletter of First Mennonite Church. Submissions should be emailed to the current editor\, Cindi Schieber.
URL:https://fmc-cu.org/event/vine-newsletter-submission-deadline-2/2024-07-28/
CATEGORIES:FMC Events
ORGANIZER;CN="FMC Office":MAILTO:office@fmc-cu.org
END:VEVENT
BEGIN:VEVENT
DTSTART;TZID=America/Chicago:20240718T210000
DTEND;TZID=America/Chicago:20240718T220000
DTSTAMP:20260420T204606
CREATED:20220316T182023Z
LAST-MODIFIED:20240503T160435Z
UID:10001101-1721336400-1721340000@fmc-cu.org
SUMMARY:FMC Softball
DESCRIPTION:First Mennonite vs. Master Batters\, Field 7 at Dodds. \nCome cheer on the co-rec FMC Martyrs as they play softball in the Champaign Park District leagues. \nGames are held on Thursdays\, May 2 – July 18 at the softball 7-Plex at Dodds Park\, 1501 N Mattis Ave. in Champaign. \nThere is no game on June 27th or July 4.
URL:https://fmc-cu.org/event/fmc-softball-co-rec-league-2022-05-02-2022-07-18/
LOCATION:dodds park (1501 N Mattis Ave\, C)\, 1501 N Mattis Ave\, Champaign
CATEGORIES:FMC Events
ORGANIZER;CN="FMC Office":MAILTO:office@fmc-cu.org
END:VEVENT
BEGIN:VEVENT
DTSTART;TZID=America/Chicago:20240718T120000
DTEND;TZID=America/Chicago:20240718T133000
DTSTAMP:20260420T204606
CREATED:20240628T205708Z
LAST-MODIFIED:20240703T161240Z
UID:10000015-1721304000-1721309400@fmc-cu.org
SUMMARY:Racial Justice Working Group Retreat at Janet E. Guthrie's home
DESCRIPTION:Open to all interested FMCers:  Racial Justice Working Group lunch retreat\, Hosted by Janet Elaine Guthrie at her Urbana home. Contact Janet by July 16th if you plan to attend.\n \nThis group provides a space for anti-racism education\, advocacy\, and mutual accountability in our church and community. \n 
URL:https://fmc-cu.org/event/racial-justice-working-group-3/
CATEGORIES:FMC Meetings
ORGANIZER;CN="FMC Office":MAILTO:office@fmc-cu.org
END:VEVENT
BEGIN:VEVENT
DTSTART;TZID=America/Chicago:20240717T173000
DTEND;TZID=America/Chicago:20240717T193000
DTSTAMP:20260420T204606
CREATED:20240124T203202Z
LAST-MODIFIED:20240306T193659Z
UID:10002386-1721237400-1721244600@fmc-cu.org
SUMMARY:Facilities Committee Meeting (Hybrid-In Person & Zoom)
DESCRIPTION:This FMC committee is responsible for the general supervision of the church’s physical property and financial affairs.
URL:https://fmc-cu.org/event/property-and-finance-committee-meeting-zoom-2022-12-21-2-2-2/2024-07-17/
LOCATION:FMC Library\, 902 W Springfield Ave\, Urbana\, 61801
CATEGORIES:FMC Meetings
ORGANIZER;CN="FMC Office":MAILTO:office@fmc-cu.org
END:VEVENT
END:VCALENDAR