BEGIN:VCALENDAR
VERSION:2.0
PRODID:-//First Mennonite Church of Champaign-Urbana - ECPv6.15.20//NONSGML v1.0//EN
CALSCALE:GREGORIAN
METHOD:PUBLISH
X-ORIGINAL-URL:https://fmc-cu.org
X-WR-CALDESC:Events for First Mennonite Church of Champaign-Urbana
REFRESH-INTERVAL;VALUE=DURATION:PT1H
X-Robots-Tag:noindex
X-PUBLISHED-TTL:PT1H
BEGIN:VTIMEZONE
TZID:America/Chicago
BEGIN:DAYLIGHT
TZOFFSETFROM:-0600
TZOFFSETTO:-0500
TZNAME:CDT
DTSTART:20210314T080000
END:DAYLIGHT
BEGIN:STANDARD
TZOFFSETFROM:-0500
TZOFFSETTO:-0600
TZNAME:CST
DTSTART:20211107T070000
END:STANDARD
BEGIN:DAYLIGHT
TZOFFSETFROM:-0600
TZOFFSETTO:-0500
TZNAME:CDT
DTSTART:20220313T080000
END:DAYLIGHT
BEGIN:STANDARD
TZOFFSETFROM:-0500
TZOFFSETTO:-0600
TZNAME:CST
DTSTART:20221106T070000
END:STANDARD
BEGIN:DAYLIGHT
TZOFFSETFROM:-0600
TZOFFSETTO:-0500
TZNAME:CDT
DTSTART:20230312T080000
END:DAYLIGHT
BEGIN:STANDARD
TZOFFSETFROM:-0500
TZOFFSETTO:-0600
TZNAME:CST
DTSTART:20231105T070000
END:STANDARD
END:VTIMEZONE
BEGIN:VEVENT
DTSTART;TZID=America/Chicago:20221114T110000
DTEND;TZID=America/Chicago:20221114T130000
DTSTAMP:20260425T145831
CREATED:20211119T192820Z
LAST-MODIFIED:20220112T164530Z
UID:10000113-1668423600-1668430800@fmc-cu.org
SUMMARY:Worship Committee meeting
DESCRIPTION:This committee is responsible for nurturing the worship life of the congregation.
URL:https://fmc-cu.org/event/worship-committee-meeting/2022-11-14/
LOCATION:FMC Library\, 902 W Springfield Ave\, Urbana\, 61801
CATEGORIES:FMC Meetings
ORGANIZER;CN="Associate Pastor Deb Sutter":MAILTO:debra.sutter@fmc-cu.org
END:VEVENT
BEGIN:VEVENT
DTSTART;TZID=America/Chicago:20221110T093000
DTEND;TZID=America/Chicago:20221110T113000
DTSTAMP:20260425T145831
CREATED:20221229T194121Z
LAST-MODIFIED:20221229T194121Z
UID:10000377-1668072600-1668079800@fmc-cu.org
SUMMARY:Thursday Morning Bible Study
DESCRIPTION:Join us for a time of study\, sharing and prayer. This Fall we are studying the book\, “To Be Made Well” by Amy Julia Becker  All are welcome to attend.
URL:https://fmc-cu.org/event/thursday-morning-bible-study-2022-01-20/2022-11-10/
LOCATION:FMC Library\, 902 W Springfield Ave\, Urbana\, 61801
CATEGORIES:Bible Study & Prayer
ORGANIZER;CN="Associate Pastor Deb Sutter":MAILTO:debra.sutter@fmc-cu.org
END:VEVENT
BEGIN:VEVENT
DTSTART;TZID=America/Chicago:20221110T093000
DTEND;TZID=America/Chicago:20221110T113000
DTSTAMP:20260425T145831
CREATED:20210402T235417Z
LAST-MODIFIED:20221123T202517Z
UID:10000365-1668072600-1668079800@fmc-cu.org
SUMMARY:Thursday Morning Bible Study
DESCRIPTION:Join us for a time of study\, sharing and prayer. This Fall we are studying the book\, “To Be Made Well” by Amy Julia Becker  All are welcome to attend.
URL:https://fmc-cu.org/event/thursday-morning-bible-study-2022-01-20/2022-11-10/
LOCATION:FMC Library\, 902 W Springfield Ave\, Urbana\, 61801
CATEGORIES:Bible Study & Prayer
ORGANIZER;CN="Associate Pastor Deb Sutter":MAILTO:debra.sutter@fmc-cu.org
END:VEVENT
BEGIN:VEVENT
DTSTART;TZID=America/Chicago:20221105T153000
DTEND;TZID=America/Chicago:20221105T170000
DTSTAMP:20260425T145831
CREATED:20221005T192954Z
LAST-MODIFIED:20221028T155825Z
UID:10000242-1667662200-1667667600@fmc-cu.org
SUMMARY:Couples Relationship Building Event
DESCRIPTION:The Spiritual Leadership Team is hosting a panel presentation and Q & A on relationship building for couples of all ages. People who aren’t currently in a relationship are also welcome to attend.\nRegistration deadline: November 1. Child care will be provided. \nPanelists: Abby Crosby (LCSW at Carle)\, Dr. Janet Liechty (Associate Professor\, UI School of Social Work)\, and Pastor Debra Sutter (First Mennonite Church).
URL:https://fmc-cu.org/event/couples-relationship-building-event/
LOCATION:First Mennonite Church\, 902 W Springfield Ave\, Urbana\, IL\, 61801\, United States
CATEGORIES:FMC Events
ORGANIZER;CN="Associate Pastor Deb Sutter":MAILTO:debra.sutter@fmc-cu.org
END:VEVENT
BEGIN:VEVENT
DTSTART;TZID=America/Chicago:20221103T093000
DTEND;TZID=America/Chicago:20221103T113000
DTSTAMP:20260425T145831
CREATED:20221229T194121Z
LAST-MODIFIED:20221229T194121Z
UID:10000376-1667467800-1667475000@fmc-cu.org
SUMMARY:Thursday Morning Bible Study
DESCRIPTION:Join us for a time of study\, sharing and prayer. This Fall we are studying the book\, “To Be Made Well” by Amy Julia Becker  All are welcome to attend.
URL:https://fmc-cu.org/event/thursday-morning-bible-study-2022-01-20/2022-11-03/
LOCATION:FMC Library\, 902 W Springfield Ave\, Urbana\, 61801
CATEGORIES:Bible Study & Prayer
ORGANIZER;CN="Associate Pastor Deb Sutter":MAILTO:debra.sutter@fmc-cu.org
END:VEVENT
BEGIN:VEVENT
DTSTART;TZID=America/Chicago:20221103T093000
DTEND;TZID=America/Chicago:20221103T113000
DTSTAMP:20260425T145831
CREATED:20210402T235417Z
LAST-MODIFIED:20221123T202517Z
UID:10000364-1667467800-1667475000@fmc-cu.org
SUMMARY:Thursday Morning Bible Study
DESCRIPTION:Join us for a time of study\, sharing and prayer. This Fall we are studying the book\, “To Be Made Well” by Amy Julia Becker  All are welcome to attend.
URL:https://fmc-cu.org/event/thursday-morning-bible-study-2022-01-20/2022-11-03/
LOCATION:FMC Library\, 902 W Springfield Ave\, Urbana\, 61801
CATEGORIES:Bible Study & Prayer
ORGANIZER;CN="Associate Pastor Deb Sutter":MAILTO:debra.sutter@fmc-cu.org
END:VEVENT
BEGIN:VEVENT
DTSTART;TZID=America/Chicago:20221027T093000
DTEND;TZID=America/Chicago:20221027T113000
DTSTAMP:20260425T145831
CREATED:20221229T194121Z
LAST-MODIFIED:20221229T194121Z
UID:10000375-1666863000-1666870200@fmc-cu.org
SUMMARY:Thursday Morning Bible Study
DESCRIPTION:Join us for a time of study\, sharing and prayer. This Fall we are studying the book\, “To Be Made Well” by Amy Julia Becker  All are welcome to attend.
URL:https://fmc-cu.org/event/thursday-morning-bible-study-2022-01-20/2022-10-27/
LOCATION:FMC Library\, 902 W Springfield Ave\, Urbana\, 61801
CATEGORIES:Bible Study & Prayer
ORGANIZER;CN="Associate Pastor Deb Sutter":MAILTO:debra.sutter@fmc-cu.org
END:VEVENT
BEGIN:VEVENT
DTSTART;TZID=America/Chicago:20221027T093000
DTEND;TZID=America/Chicago:20221027T113000
DTSTAMP:20260425T145831
CREATED:20210402T235417Z
LAST-MODIFIED:20221123T202517Z
UID:10000363-1666863000-1666870200@fmc-cu.org
SUMMARY:Thursday Morning Bible Study
DESCRIPTION:Join us for a time of study\, sharing and prayer. This Fall we are studying the book\, “To Be Made Well” by Amy Julia Becker  All are welcome to attend.
URL:https://fmc-cu.org/event/thursday-morning-bible-study-2022-01-20/2022-10-27/
LOCATION:FMC Library\, 902 W Springfield Ave\, Urbana\, 61801
CATEGORIES:Bible Study & Prayer
ORGANIZER;CN="Associate Pastor Deb Sutter":MAILTO:debra.sutter@fmc-cu.org
END:VEVENT
BEGIN:VEVENT
DTSTART;TZID=America/Chicago:20221020T093000
DTEND;TZID=America/Chicago:20221020T113000
DTSTAMP:20260425T145831
CREATED:20221229T194121Z
LAST-MODIFIED:20221229T194121Z
UID:10000374-1666258200-1666265400@fmc-cu.org
SUMMARY:Thursday Morning Bible Study
DESCRIPTION:Join us for a time of study\, sharing and prayer. This Fall we are studying the book\, “To Be Made Well” by Amy Julia Becker  All are welcome to attend.
URL:https://fmc-cu.org/event/thursday-morning-bible-study-2022-01-20/2022-10-20/
LOCATION:FMC Library\, 902 W Springfield Ave\, Urbana\, 61801
CATEGORIES:Bible Study & Prayer
ORGANIZER;CN="Associate Pastor Deb Sutter":MAILTO:debra.sutter@fmc-cu.org
END:VEVENT
BEGIN:VEVENT
DTSTART;TZID=America/Chicago:20221020T093000
DTEND;TZID=America/Chicago:20221020T113000
DTSTAMP:20260425T145831
CREATED:20210402T235417Z
LAST-MODIFIED:20221123T202517Z
UID:10000362-1666258200-1666265400@fmc-cu.org
SUMMARY:Thursday Morning Bible Study
DESCRIPTION:Join us for a time of study\, sharing and prayer. This Fall we are studying the book\, “To Be Made Well” by Amy Julia Becker  All are welcome to attend.
URL:https://fmc-cu.org/event/thursday-morning-bible-study-2022-01-20/2022-10-20/
LOCATION:FMC Library\, 902 W Springfield Ave\, Urbana\, 61801
CATEGORIES:Bible Study & Prayer
ORGANIZER;CN="Associate Pastor Deb Sutter":MAILTO:debra.sutter@fmc-cu.org
END:VEVENT
BEGIN:VEVENT
DTSTART;TZID=America/Chicago:20221013T093000
DTEND;TZID=America/Chicago:20221013T113000
DTSTAMP:20260425T145831
CREATED:20221229T194121Z
LAST-MODIFIED:20221229T194121Z
UID:10000373-1665653400-1665660600@fmc-cu.org
SUMMARY:Thursday Morning Bible Study
DESCRIPTION:Join us for a time of study\, sharing and prayer. This Fall we are studying the book\, “To Be Made Well” by Amy Julia Becker  All are welcome to attend.
URL:https://fmc-cu.org/event/thursday-morning-bible-study-2022-01-20/2022-10-13/
LOCATION:FMC Library\, 902 W Springfield Ave\, Urbana\, 61801
CATEGORIES:Bible Study & Prayer
ORGANIZER;CN="Associate Pastor Deb Sutter":MAILTO:debra.sutter@fmc-cu.org
END:VEVENT
BEGIN:VEVENT
DTSTART;TZID=America/Chicago:20221013T093000
DTEND;TZID=America/Chicago:20221013T113000
DTSTAMP:20260425T145831
CREATED:20210402T235417Z
LAST-MODIFIED:20221123T202517Z
UID:10000361-1665653400-1665660600@fmc-cu.org
SUMMARY:Thursday Morning Bible Study
DESCRIPTION:Join us for a time of study\, sharing and prayer. This Fall we are studying the book\, “To Be Made Well” by Amy Julia Becker  All are welcome to attend.
URL:https://fmc-cu.org/event/thursday-morning-bible-study-2022-01-20/2022-10-13/
LOCATION:FMC Library\, 902 W Springfield Ave\, Urbana\, 61801
CATEGORIES:Bible Study & Prayer
ORGANIZER;CN="Associate Pastor Deb Sutter":MAILTO:debra.sutter@fmc-cu.org
END:VEVENT
BEGIN:VEVENT
DTSTART;TZID=America/Chicago:20221006T093000
DTEND;TZID=America/Chicago:20221006T113000
DTSTAMP:20260425T145831
CREATED:20221229T194121Z
LAST-MODIFIED:20221229T194121Z
UID:10000372-1665048600-1665055800@fmc-cu.org
SUMMARY:Thursday Morning Bible Study
DESCRIPTION:Join us for a time of study\, sharing and prayer. This Fall we are studying the book\, “To Be Made Well” by Amy Julia Becker  All are welcome to attend.
URL:https://fmc-cu.org/event/thursday-morning-bible-study-2022-01-20/2022-10-06/
LOCATION:FMC Library\, 902 W Springfield Ave\, Urbana\, 61801
CATEGORIES:Bible Study & Prayer
ORGANIZER;CN="Associate Pastor Deb Sutter":MAILTO:debra.sutter@fmc-cu.org
END:VEVENT
BEGIN:VEVENT
DTSTART;TZID=America/Chicago:20221006T093000
DTEND;TZID=America/Chicago:20221006T113000
DTSTAMP:20260425T145831
CREATED:20210402T235417Z
LAST-MODIFIED:20221123T202517Z
UID:10000360-1665048600-1665055800@fmc-cu.org
SUMMARY:Thursday Morning Bible Study
DESCRIPTION:Join us for a time of study\, sharing and prayer. This Fall we are studying the book\, “To Be Made Well” by Amy Julia Becker  All are welcome to attend.
URL:https://fmc-cu.org/event/thursday-morning-bible-study-2022-01-20/2022-10-06/
LOCATION:FMC Library\, 902 W Springfield Ave\, Urbana\, 61801
CATEGORIES:Bible Study & Prayer
ORGANIZER;CN="Associate Pastor Deb Sutter":MAILTO:debra.sutter@fmc-cu.org
END:VEVENT
BEGIN:VEVENT
DTSTART;TZID=America/Chicago:20220929T093000
DTEND;TZID=America/Chicago:20220929T113000
DTSTAMP:20260425T145831
CREATED:20221229T194121Z
LAST-MODIFIED:20221229T194121Z
UID:10000371-1664443800-1664451000@fmc-cu.org
SUMMARY:Thursday Morning Bible Study
DESCRIPTION:Join us for a time of study\, sharing and prayer. This Fall we are studying the book\, “To Be Made Well” by Amy Julia Becker  All are welcome to attend.
URL:https://fmc-cu.org/event/thursday-morning-bible-study-2022-01-20/2022-09-29/
LOCATION:FMC Library\, 902 W Springfield Ave\, Urbana\, 61801
CATEGORIES:Bible Study & Prayer
ORGANIZER;CN="Associate Pastor Deb Sutter":MAILTO:debra.sutter@fmc-cu.org
END:VEVENT
BEGIN:VEVENT
DTSTART;TZID=America/Chicago:20220929T093000
DTEND;TZID=America/Chicago:20220929T113000
DTSTAMP:20260425T145831
CREATED:20210402T235417Z
LAST-MODIFIED:20221123T202517Z
UID:10000359-1664443800-1664451000@fmc-cu.org
SUMMARY:Thursday Morning Bible Study
DESCRIPTION:Join us for a time of study\, sharing and prayer. This Fall we are studying the book\, “To Be Made Well” by Amy Julia Becker  All are welcome to attend.
URL:https://fmc-cu.org/event/thursday-morning-bible-study-2022-01-20/2022-09-29/
LOCATION:FMC Library\, 902 W Springfield Ave\, Urbana\, 61801
CATEGORIES:Bible Study & Prayer
ORGANIZER;CN="Associate Pastor Deb Sutter":MAILTO:debra.sutter@fmc-cu.org
END:VEVENT
BEGIN:VEVENT
DTSTART;TZID=America/Chicago:20220922T093000
DTEND;TZID=America/Chicago:20220922T113000
DTSTAMP:20260425T145831
CREATED:20221229T194121Z
LAST-MODIFIED:20221229T194121Z
UID:10000370-1663839000-1663846200@fmc-cu.org
SUMMARY:Thursday Morning Bible Study
DESCRIPTION:Join us for a time of study\, sharing and prayer. This Fall we are studying the book\, “To Be Made Well” by Amy Julia Becker  All are welcome to attend.
URL:https://fmc-cu.org/event/thursday-morning-bible-study-2022-01-20/2022-09-22/
LOCATION:FMC Library\, 902 W Springfield Ave\, Urbana\, 61801
CATEGORIES:Bible Study & Prayer
ORGANIZER;CN="Associate Pastor Deb Sutter":MAILTO:debra.sutter@fmc-cu.org
END:VEVENT
BEGIN:VEVENT
DTSTART;TZID=America/Chicago:20220922T093000
DTEND;TZID=America/Chicago:20220922T113000
DTSTAMP:20260425T145831
CREATED:20210402T235417Z
LAST-MODIFIED:20221123T202517Z
UID:10000358-1663839000-1663846200@fmc-cu.org
SUMMARY:Thursday Morning Bible Study
DESCRIPTION:Join us for a time of study\, sharing and prayer. This Fall we are studying the book\, “To Be Made Well” by Amy Julia Becker  All are welcome to attend.
URL:https://fmc-cu.org/event/thursday-morning-bible-study-2022-01-20/2022-09-22/
LOCATION:FMC Library\, 902 W Springfield Ave\, Urbana\, 61801
CATEGORIES:Bible Study & Prayer
ORGANIZER;CN="Associate Pastor Deb Sutter":MAILTO:debra.sutter@fmc-cu.org
END:VEVENT
BEGIN:VEVENT
DTSTART;TZID=America/Chicago:20220915T093000
DTEND;TZID=America/Chicago:20220915T113000
DTSTAMP:20260425T145831
CREATED:20221229T194121Z
LAST-MODIFIED:20221229T194121Z
UID:10000369-1663234200-1663241400@fmc-cu.org
SUMMARY:Thursday Morning Bible Study
DESCRIPTION:Join us for a time of study\, sharing and prayer. This Fall we are studying the book\, “To Be Made Well” by Amy Julia Becker  All are welcome to attend.
URL:https://fmc-cu.org/event/thursday-morning-bible-study-2022-01-20/2022-09-15/
LOCATION:FMC Library\, 902 W Springfield Ave\, Urbana\, 61801
CATEGORIES:Bible Study & Prayer
ORGANIZER;CN="Associate Pastor Deb Sutter":MAILTO:debra.sutter@fmc-cu.org
END:VEVENT
BEGIN:VEVENT
DTSTART;TZID=America/Chicago:20220915T093000
DTEND;TZID=America/Chicago:20220915T113000
DTSTAMP:20260425T145831
CREATED:20210402T235417Z
LAST-MODIFIED:20221123T202517Z
UID:10000357-1663234200-1663241400@fmc-cu.org
SUMMARY:Thursday Morning Bible Study
DESCRIPTION:Join us for a time of study\, sharing and prayer. This Fall we are studying the book\, “To Be Made Well” by Amy Julia Becker  All are welcome to attend.
URL:https://fmc-cu.org/event/thursday-morning-bible-study-2022-01-20/2022-09-15/
LOCATION:FMC Library\, 902 W Springfield Ave\, Urbana\, 61801
CATEGORIES:Bible Study & Prayer
ORGANIZER;CN="Associate Pastor Deb Sutter":MAILTO:debra.sutter@fmc-cu.org
END:VEVENT
BEGIN:VEVENT
DTSTART;TZID=America/Chicago:20220912T110000
DTEND;TZID=America/Chicago:20220912T130000
DTSTAMP:20260425T145831
CREATED:20211119T192820Z
LAST-MODIFIED:20220112T164530Z
UID:10000112-1662980400-1662987600@fmc-cu.org
SUMMARY:Worship Committee meeting
DESCRIPTION:This committee is responsible for nurturing the worship life of the congregation.
URL:https://fmc-cu.org/event/worship-committee-meeting/2022-09-12/
LOCATION:FMC Library\, 902 W Springfield Ave\, Urbana\, 61801
CATEGORIES:FMC Meetings
ORGANIZER;CN="Associate Pastor Deb Sutter":MAILTO:debra.sutter@fmc-cu.org
END:VEVENT
BEGIN:VEVENT
DTSTART;TZID=America/Chicago:20220908T093000
DTEND;TZID=America/Chicago:20220908T113000
DTSTAMP:20260425T145831
CREATED:20210402T235417Z
LAST-MODIFIED:20221123T202517Z
UID:10000356-1662629400-1662636600@fmc-cu.org
SUMMARY:Thursday Morning Bible Study
DESCRIPTION:Join us for a time of study\, sharing and prayer. This Fall we are studying the book\, “To Be Made Well” by Amy Julia Becker  All are welcome to attend.
URL:https://fmc-cu.org/event/thursday-morning-bible-study-2022-01-20/2022-09-08/
LOCATION:FMC Library\, 902 W Springfield Ave\, Urbana\, 61801
CATEGORIES:Bible Study & Prayer
ORGANIZER;CN="Associate Pastor Deb Sutter":MAILTO:debra.sutter@fmc-cu.org
END:VEVENT
BEGIN:VEVENT
DTSTART;TZID=America/Chicago:20220808T110000
DTEND;TZID=America/Chicago:20220808T130000
DTSTAMP:20260425T145831
CREATED:20211119T192820Z
LAST-MODIFIED:20220112T164530Z
UID:10000111-1659956400-1659963600@fmc-cu.org
SUMMARY:Worship Committee meeting
DESCRIPTION:This committee is responsible for nurturing the worship life of the congregation.
URL:https://fmc-cu.org/event/worship-committee-meeting/2022-08-08/
LOCATION:FMC Library\, 902 W Springfield Ave\, Urbana\, 61801
CATEGORIES:FMC Meetings
ORGANIZER;CN="Associate Pastor Deb Sutter":MAILTO:debra.sutter@fmc-cu.org
END:VEVENT
BEGIN:VEVENT
DTSTART;TZID=America/Chicago:20220711T110000
DTEND;TZID=America/Chicago:20220711T130000
DTSTAMP:20260425T145831
CREATED:20211119T192820Z
LAST-MODIFIED:20220112T164530Z
UID:10000110-1657537200-1657544400@fmc-cu.org
SUMMARY:Worship Committee meeting
DESCRIPTION:This committee is responsible for nurturing the worship life of the congregation.
URL:https://fmc-cu.org/event/worship-committee-meeting/2022-07-11/
LOCATION:FMC Library\, 902 W Springfield Ave\, Urbana\, 61801
CATEGORIES:FMC Meetings
ORGANIZER;CN="Associate Pastor Deb Sutter":MAILTO:debra.sutter@fmc-cu.org
END:VEVENT
BEGIN:VEVENT
DTSTART;TZID=America/Chicago:20220613T110000
DTEND;TZID=America/Chicago:20220613T130000
DTSTAMP:20260425T145831
CREATED:20211119T192820Z
LAST-MODIFIED:20220112T164530Z
UID:10000109-1655118000-1655125200@fmc-cu.org
SUMMARY:Worship Committee meeting
DESCRIPTION:This committee is responsible for nurturing the worship life of the congregation.
URL:https://fmc-cu.org/event/worship-committee-meeting/2022-06-13/
LOCATION:FMC Library\, 902 W Springfield Ave\, Urbana\, 61801
CATEGORIES:FMC Meetings
ORGANIZER;CN="Associate Pastor Deb Sutter":MAILTO:debra.sutter@fmc-cu.org
END:VEVENT
BEGIN:VEVENT
DTSTART;TZID=America/Chicago:20220509T110000
DTEND;TZID=America/Chicago:20220509T130000
DTSTAMP:20260425T145831
CREATED:20211119T192820Z
LAST-MODIFIED:20220112T164530Z
UID:10000108-1652094000-1652101200@fmc-cu.org
SUMMARY:Worship Committee meeting
DESCRIPTION:This committee is responsible for nurturing the worship life of the congregation.
URL:https://fmc-cu.org/event/worship-committee-meeting/2022-05-09/
LOCATION:FMC Library\, 902 W Springfield Ave\, Urbana\, 61801
CATEGORIES:FMC Meetings
ORGANIZER;CN="Associate Pastor Deb Sutter":MAILTO:debra.sutter@fmc-cu.org
END:VEVENT
BEGIN:VEVENT
DTSTART;TZID=America/Chicago:20220407T113000
DTEND;TZID=America/Chicago:20220407T133000
DTSTAMP:20260425T145831
CREATED:20211119T192820Z
LAST-MODIFIED:20220406T200543Z
UID:10000115-1649331000-1649338200@fmc-cu.org
SUMMARY:Worship Committee meeting
DESCRIPTION:This committee is responsible for nurturing the worship life of the congregation.
URL:https://fmc-cu.org/event/worship-committee-meeting-2022-04-11/
LOCATION:FMC Library\, 902 W Springfield Ave\, Urbana\, 61801
CATEGORIES:FMC Meetings
ORGANIZER;CN="Associate Pastor Deb Sutter":MAILTO:debra.sutter@fmc-cu.org
END:VEVENT
BEGIN:VEVENT
DTSTART;TZID=America/Chicago:20220314T110000
DTEND;TZID=America/Chicago:20220314T130000
DTSTAMP:20260425T145831
CREATED:20211119T192820Z
LAST-MODIFIED:20220112T164530Z
UID:10000107-1647255600-1647262800@fmc-cu.org
SUMMARY:Worship Committee meeting
DESCRIPTION:This committee is responsible for nurturing the worship life of the congregation.
URL:https://fmc-cu.org/event/worship-committee-meeting/2022-03-14/
LOCATION:FMC Library\, 902 W Springfield Ave\, Urbana\, 61801
CATEGORIES:FMC Meetings
ORGANIZER;CN="Associate Pastor Deb Sutter":MAILTO:debra.sutter@fmc-cu.org
END:VEVENT
BEGIN:VEVENT
DTSTART;TZID=America/Chicago:20220129T163000
DTEND;TZID=America/Chicago:20220129T180000
DTSTAMP:20260425T145831
CREATED:20220120T183949Z
LAST-MODIFIED:20220120T183949Z
UID:10001024-1643473800-1643479200@fmc-cu.org
SUMMARY:Lent Planning Committee (Zoom)
DESCRIPTION:
URL:https://fmc-cu.org/event/lent-planning-committee-zoom/
LOCATION:Zoom
CATEGORIES:FMC Meetings
ORGANIZER;CN="Associate Pastor Deb Sutter":MAILTO:debra.sutter@fmc-cu.org
END:VEVENT
BEGIN:VEVENT
DTSTART;TZID=America/Chicago:20220113T093000
DTEND;TZID=America/Chicago:20220113T113000
DTSTAMP:20260425T145831
CREATED:20210402T235417Z
LAST-MODIFIED:20220107T170735Z
UID:10000379-1642066200-1642073400@fmc-cu.org
SUMMARY:Thursday Morning Bible Study
DESCRIPTION:Join us for a time of study\, sharing and prayer. \nIn the spring of 2022\, we will read and discuss  “Wholehearted Faith” by Rachel Held Evans.  This book can be purchased for about $14/kindle or $23/hardback (no paperback available). If you aren’t able to purchase it\, contact Pastor Deb. Please read the foreword\, the note about reading the introduction\, the introduction and the prologue.  All are welcome to attend.
URL:https://fmc-cu.org/event/thursday-morning-bible-study/
LOCATION:Zoom
CATEGORIES:Bible Study & Prayer
ORGANIZER;CN="Associate Pastor Deb Sutter":MAILTO:debra.sutter@fmc-cu.org
END:VEVENT
END:VCALENDAR