BEGIN:VCALENDAR
VERSION:2.0
PRODID:-//First Mennonite Church of Champaign-Urbana - ECPv6.15.20//NONSGML v1.0//EN
CALSCALE:GREGORIAN
METHOD:PUBLISH
X-WR-CALNAME:First Mennonite Church of Champaign-Urbana
X-ORIGINAL-URL:https://fmc-cu.org
X-WR-CALDESC:Events for First Mennonite Church of Champaign-Urbana
REFRESH-INTERVAL;VALUE=DURATION:PT1H
X-Robots-Tag:noindex
X-PUBLISHED-TTL:PT1H
BEGIN:VTIMEZONE
TZID:America/Chicago
BEGIN:DAYLIGHT
TZOFFSETFROM:-0600
TZOFFSETTO:-0500
TZNAME:CDT
DTSTART:20220313T080000
END:DAYLIGHT
BEGIN:STANDARD
TZOFFSETFROM:-0500
TZOFFSETTO:-0600
TZNAME:CST
DTSTART:20221106T070000
END:STANDARD
BEGIN:DAYLIGHT
TZOFFSETFROM:-0600
TZOFFSETTO:-0500
TZNAME:CDT
DTSTART:20230312T080000
END:DAYLIGHT
BEGIN:STANDARD
TZOFFSETFROM:-0500
TZOFFSETTO:-0600
TZNAME:CST
DTSTART:20231105T070000
END:STANDARD
BEGIN:DAYLIGHT
TZOFFSETFROM:-0600
TZOFFSETTO:-0500
TZNAME:CDT
DTSTART:20240310T080000
END:DAYLIGHT
BEGIN:STANDARD
TZOFFSETFROM:-0500
TZOFFSETTO:-0600
TZNAME:CST
DTSTART:20241103T070000
END:STANDARD
BEGIN:DAYLIGHT
TZOFFSETFROM:-0600
TZOFFSETTO:-0500
TZNAME:CDT
DTSTART:20250309T080000
END:DAYLIGHT
BEGIN:STANDARD
TZOFFSETFROM:-0500
TZOFFSETTO:-0600
TZNAME:CST
DTSTART:20251102T070000
END:STANDARD
END:VTIMEZONE
BEGIN:VEVENT
DTSTART;TZID=America/Chicago:20240902T113000
DTEND;TZID=America/Chicago:20240902T130000
DTSTAMP:20260421T101859
CREATED:20211119T192820Z
LAST-MODIFIED:20240626T182104Z
UID:10002417-1725276600-1725282000@fmc-cu.org
SUMMARY:Worship Committee meeting
DESCRIPTION:This committee is responsible for nurturing the worship life of the congregation.
URL:https://fmc-cu.org/event/worship-committee-meeting-2022-10-10/2024-09-02/
LOCATION:FMC Library\, 902 W Springfield Ave\, Urbana\, 61801
CATEGORIES:FMC Meetings
ORGANIZER;CN="Associate Pastor Deb Sutter":MAILTO:debra.sutter@fmc-cu.org
END:VEVENT
BEGIN:VEVENT
DTSTART;TZID=America/Chicago:20240805T113000
DTEND;TZID=America/Chicago:20240805T130000
DTSTAMP:20260421T101859
CREATED:20211119T192820Z
LAST-MODIFIED:20240626T182104Z
UID:10002416-1722857400-1722862800@fmc-cu.org
SUMMARY:Worship Committee meeting
DESCRIPTION:This committee is responsible for nurturing the worship life of the congregation.
URL:https://fmc-cu.org/event/worship-committee-meeting-2022-10-10/2024-08-05/
LOCATION:FMC Library\, 902 W Springfield Ave\, Urbana\, 61801
CATEGORIES:FMC Meetings
ORGANIZER;CN="Associate Pastor Deb Sutter":MAILTO:debra.sutter@fmc-cu.org
END:VEVENT
BEGIN:VEVENT
DTSTART;TZID=America/Chicago:20240603T113000
DTEND;TZID=America/Chicago:20240603T130000
DTSTAMP:20260421T101859
CREATED:20211119T192820Z
LAST-MODIFIED:20240626T182104Z
UID:10002414-1717414200-1717419600@fmc-cu.org
SUMMARY:Worship Committee meeting
DESCRIPTION:This committee is responsible for nurturing the worship life of the congregation.
URL:https://fmc-cu.org/event/worship-committee-meeting-2022-10-10/2024-06-03/
LOCATION:FMC Library\, 902 W Springfield Ave\, Urbana\, 61801
CATEGORIES:FMC Meetings
ORGANIZER;CN="Associate Pastor Deb Sutter":MAILTO:debra.sutter@fmc-cu.org
END:VEVENT
BEGIN:VEVENT
DTSTART;TZID=America/Chicago:20240506T113000
DTEND;TZID=America/Chicago:20240506T130000
DTSTAMP:20260421T101859
CREATED:20211119T192820Z
LAST-MODIFIED:20240626T182104Z
UID:10002413-1714995000-1715000400@fmc-cu.org
SUMMARY:Worship Committee meeting
DESCRIPTION:This committee is responsible for nurturing the worship life of the congregation.
URL:https://fmc-cu.org/event/worship-committee-meeting-2022-10-10/2024-05-06/
LOCATION:FMC Library\, 902 W Springfield Ave\, Urbana\, 61801
CATEGORIES:FMC Meetings
ORGANIZER;CN="Associate Pastor Deb Sutter":MAILTO:debra.sutter@fmc-cu.org
END:VEVENT
BEGIN:VEVENT
DTSTART;TZID=America/Chicago:20240430T090000
DTEND;TZID=America/Chicago:20240430T110000
DTSTAMP:20260421T101859
CREATED:20210720T154544Z
LAST-MODIFIED:20240417T181348Z
UID:10000077-1714467600-1714474800@fmc-cu.org
SUMMARY:Tuesday Morning Music Club Board Meeting
DESCRIPTION:This community music club board has reserved use of our library for their meeting.\nThe event is not open to the public.
URL:https://fmc-cu.org/event/tuesday-morning-music-club-private-event/
LOCATION:First Mennonite Church\, 902 W Springfield Ave\, Urbana\, IL\, 61801\, United States
CATEGORIES:Private Events (reserved)
ORGANIZER;CN="Associate Pastor Deb Sutter":MAILTO:debra.sutter@fmc-cu.org
END:VEVENT
BEGIN:VEVENT
DTSTART;TZID=America/Chicago:20240401T113000
DTEND;TZID=America/Chicago:20240401T130000
DTSTAMP:20260421T101859
CREATED:20211119T192820Z
LAST-MODIFIED:20240626T182104Z
UID:10002541-1711971000-1711976400@fmc-cu.org
SUMMARY:Worship Committee meeting
DESCRIPTION:This committee is responsible for nurturing the worship life of the congregation.
URL:https://fmc-cu.org/event/worship-committee-meeting-2022-10-10/2024-04-01/
LOCATION:FMC Library\, 902 W Springfield Ave\, Urbana\, 61801
CATEGORIES:FMC Meetings
ORGANIZER;CN="Associate Pastor Deb Sutter":MAILTO:debra.sutter@fmc-cu.org
END:VEVENT
BEGIN:VEVENT
DTSTART;TZID=America/Chicago:20240304T113000
DTEND;TZID=America/Chicago:20240304T130000
DTSTAMP:20260421T101859
CREATED:20211119T192820Z
LAST-MODIFIED:20240626T182104Z
UID:10002412-1709551800-1709557200@fmc-cu.org
SUMMARY:Worship Committee meeting
DESCRIPTION:This committee is responsible for nurturing the worship life of the congregation.
URL:https://fmc-cu.org/event/worship-committee-meeting-2022-10-10/2024-03-04/
LOCATION:FMC Library\, 902 W Springfield Ave\, Urbana\, 61801
CATEGORIES:FMC Meetings
ORGANIZER;CN="Associate Pastor Deb Sutter":MAILTO:debra.sutter@fmc-cu.org
END:VEVENT
BEGIN:VEVENT
DTSTART;TZID=America/Chicago:20240205T113000
DTEND;TZID=America/Chicago:20240205T130000
DTSTAMP:20260421T101859
CREATED:20211119T192820Z
LAST-MODIFIED:20240626T182104Z
UID:10002411-1707132600-1707138000@fmc-cu.org
SUMMARY:Worship Committee meeting
DESCRIPTION:This committee is responsible for nurturing the worship life of the congregation.
URL:https://fmc-cu.org/event/worship-committee-meeting-2022-10-10/2024-02-05/
LOCATION:FMC Library\, 902 W Springfield Ave\, Urbana\, 61801
CATEGORIES:FMC Meetings
ORGANIZER;CN="Associate Pastor Deb Sutter":MAILTO:debra.sutter@fmc-cu.org
END:VEVENT
BEGIN:VEVENT
DTSTART;TZID=America/Chicago:20231230T093000
DTEND;TZID=America/Chicago:20231230T113000
DTSTAMP:20260421T101859
CREATED:20230719T162546Z
LAST-MODIFIED:20231213T174232Z
UID:10002018-1703928600-1703935800@fmc-cu.org
SUMMARY:Embodied Scripture rehearsal
DESCRIPTION:
URL:https://fmc-cu.org/event/embodied-scripture-rehearsal/2023-12-30/
LOCATION:First Mennonite Church\, 902 W Springfield Ave\, Urbana\, IL\, 61801\, United States
CATEGORIES:FMC Meetings
ORGANIZER;CN="Associate Pastor Deb Sutter":MAILTO:debra.sutter@fmc-cu.org
END:VEVENT
BEGIN:VEVENT
DTSTART;TZID=America/Chicago:20231216T140000
DTEND;TZID=America/Chicago:20231216T160000
DTSTAMP:20260421T101859
CREATED:20230719T162546Z
LAST-MODIFIED:20231213T174232Z
UID:10001880-1702735200-1702742400@fmc-cu.org
SUMMARY:Embodied Scripture rehearsal
DESCRIPTION:
URL:https://fmc-cu.org/event/embodied-scripture-rehearsal/2023-12-16/
LOCATION:First Mennonite Church\, 902 W Springfield Ave\, Urbana\, IL\, 61801\, United States
CATEGORIES:FMC Meetings
ORGANIZER;CN="Associate Pastor Deb Sutter":MAILTO:debra.sutter@fmc-cu.org
END:VEVENT
BEGIN:VEVENT
DTSTART;TZID=America/Chicago:20231203T123000
DTEND;TZID=America/Chicago:20231203T140000
DTSTAMP:20260421T101859
CREATED:20221123T202854Z
LAST-MODIFIED:20231122T195109Z
UID:10002008-1701606600-1701612000@fmc-cu.org
SUMMARY:Choir rehearsal
DESCRIPTION:Choir will rehears on December 3 from 12:30-2 pm and on December 9 at 11 am  in preparation for singing during the service on December 10.
URL:https://fmc-cu.org/event/choir-rehearsal-2022-12-10/
LOCATION:First Mennonite Church\, 902 W Springfield Ave\, Urbana\, IL\, 61801\, United States
ORGANIZER;CN="Associate Pastor Deb Sutter":MAILTO:debra.sutter@fmc-cu.org
END:VEVENT
BEGIN:VEVENT
DTSTART;TZID=America/Chicago:20231109T093000
DTEND;TZID=America/Chicago:20231109T113000
DTSTAMP:20260421T101859
CREATED:20230831T192523Z
LAST-MODIFIED:20230831T192721Z
UID:10001894-1699522200-1699529400@fmc-cu.org
SUMMARY:Thursday Morning Bible Study
DESCRIPTION:Join us for a time of study\, sharing and prayer.  All are welcome to attend.
URL:https://fmc-cu.org/event/thursday-morning-bible-study-2022-01-20-2/2023-11-09/
LOCATION:FMC Library\, 902 W Springfield Ave\, Urbana\, 61801
CATEGORIES:Bible Study & Prayer
ORGANIZER;CN="Associate Pastor Deb Sutter":MAILTO:debra.sutter@fmc-cu.org
END:VEVENT
BEGIN:VEVENT
DTSTART;TZID=America/Chicago:20231102T093000
DTEND;TZID=America/Chicago:20231102T113000
DTSTAMP:20260421T101859
CREATED:20230831T192523Z
LAST-MODIFIED:20230831T192721Z
UID:10001893-1698917400-1698924600@fmc-cu.org
SUMMARY:Thursday Morning Bible Study
DESCRIPTION:Join us for a time of study\, sharing and prayer.  All are welcome to attend.
URL:https://fmc-cu.org/event/thursday-morning-bible-study-2022-01-20-2/2023-11-02/
LOCATION:FMC Library\, 902 W Springfield Ave\, Urbana\, 61801
CATEGORIES:Bible Study & Prayer
ORGANIZER;CN="Associate Pastor Deb Sutter":MAILTO:debra.sutter@fmc-cu.org
END:VEVENT
BEGIN:VEVENT
DTSTART;TZID=America/Chicago:20231026T093000
DTEND;TZID=America/Chicago:20231026T113000
DTSTAMP:20260421T101859
CREATED:20230831T192523Z
LAST-MODIFIED:20230831T192721Z
UID:10001892-1698312600-1698319800@fmc-cu.org
SUMMARY:Thursday Morning Bible Study
DESCRIPTION:Join us for a time of study\, sharing and prayer.  All are welcome to attend.
URL:https://fmc-cu.org/event/thursday-morning-bible-study-2022-01-20-2/2023-10-26/
LOCATION:FMC Library\, 902 W Springfield Ave\, Urbana\, 61801
CATEGORIES:Bible Study & Prayer
ORGANIZER;CN="Associate Pastor Deb Sutter":MAILTO:debra.sutter@fmc-cu.org
END:VEVENT
BEGIN:VEVENT
DTSTART;TZID=America/Chicago:20231019T093000
DTEND;TZID=America/Chicago:20231019T113000
DTSTAMP:20260421T101859
CREATED:20230831T192523Z
LAST-MODIFIED:20230831T192721Z
UID:10001891-1697707800-1697715000@fmc-cu.org
SUMMARY:Thursday Morning Bible Study
DESCRIPTION:Join us for a time of study\, sharing and prayer.  All are welcome to attend.
URL:https://fmc-cu.org/event/thursday-morning-bible-study-2022-01-20-2/2023-10-19/
LOCATION:FMC Library\, 902 W Springfield Ave\, Urbana\, 61801
CATEGORIES:Bible Study & Prayer
ORGANIZER;CN="Associate Pastor Deb Sutter":MAILTO:debra.sutter@fmc-cu.org
END:VEVENT
BEGIN:VEVENT
DTSTART;TZID=America/Chicago:20231012T093000
DTEND;TZID=America/Chicago:20231012T113000
DTSTAMP:20260421T101859
CREATED:20230831T192523Z
LAST-MODIFIED:20230831T192721Z
UID:10001890-1697103000-1697110200@fmc-cu.org
SUMMARY:Thursday Morning Bible Study
DESCRIPTION:Join us for a time of study\, sharing and prayer.  All are welcome to attend.
URL:https://fmc-cu.org/event/thursday-morning-bible-study-2022-01-20-2/2023-10-12/
LOCATION:FMC Library\, 902 W Springfield Ave\, Urbana\, 61801
CATEGORIES:Bible Study & Prayer
ORGANIZER;CN="Associate Pastor Deb Sutter":MAILTO:debra.sutter@fmc-cu.org
END:VEVENT
BEGIN:VEVENT
DTSTART;TZID=America/Chicago:20231005T093000
DTEND;TZID=America/Chicago:20231005T113000
DTSTAMP:20260421T101859
CREATED:20230831T192523Z
LAST-MODIFIED:20230831T192721Z
UID:10001889-1696498200-1696505400@fmc-cu.org
SUMMARY:Thursday Morning Bible Study
DESCRIPTION:Join us for a time of study\, sharing and prayer.  All are welcome to attend.
URL:https://fmc-cu.org/event/thursday-morning-bible-study-2022-01-20-2/2023-10-05/
LOCATION:FMC Library\, 902 W Springfield Ave\, Urbana\, 61801
CATEGORIES:Bible Study & Prayer
ORGANIZER;CN="Associate Pastor Deb Sutter":MAILTO:debra.sutter@fmc-cu.org
END:VEVENT
BEGIN:VEVENT
DTSTART;TZID=America/Chicago:20230928T093000
DTEND;TZID=America/Chicago:20230928T113000
DTSTAMP:20260421T101859
CREATED:20230831T192523Z
LAST-MODIFIED:20230831T192721Z
UID:10001888-1695893400-1695900600@fmc-cu.org
SUMMARY:Thursday Morning Bible Study
DESCRIPTION:Join us for a time of study\, sharing and prayer.  All are welcome to attend.
URL:https://fmc-cu.org/event/thursday-morning-bible-study-2022-01-20-2/2023-09-28/
LOCATION:FMC Library\, 902 W Springfield Ave\, Urbana\, 61801
CATEGORIES:Bible Study & Prayer
ORGANIZER;CN="Associate Pastor Deb Sutter":MAILTO:debra.sutter@fmc-cu.org
END:VEVENT
BEGIN:VEVENT
DTSTART;TZID=America/Chicago:20230921T093000
DTEND;TZID=America/Chicago:20230921T113000
DTSTAMP:20260421T101859
CREATED:20230831T192523Z
LAST-MODIFIED:20230831T192721Z
UID:10001887-1695288600-1695295800@fmc-cu.org
SUMMARY:Thursday Morning Bible Study
DESCRIPTION:Join us for a time of study\, sharing and prayer.  All are welcome to attend.
URL:https://fmc-cu.org/event/thursday-morning-bible-study-2022-01-20-2/2023-09-21/
LOCATION:FMC Library\, 902 W Springfield Ave\, Urbana\, 61801
CATEGORIES:Bible Study & Prayer
ORGANIZER;CN="Associate Pastor Deb Sutter":MAILTO:debra.sutter@fmc-cu.org
END:VEVENT
BEGIN:VEVENT
DTSTART;TZID=America/Chicago:20230914T093000
DTEND;TZID=America/Chicago:20230914T113000
DTSTAMP:20260421T101859
CREATED:20230831T192523Z
LAST-MODIFIED:20230831T192721Z
UID:10000378-1694683800-1694691000@fmc-cu.org
SUMMARY:Thursday Morning Bible Study
DESCRIPTION:Join us for a time of study\, sharing and prayer.  All are welcome to attend.
URL:https://fmc-cu.org/event/thursday-morning-bible-study-2022-01-20-2/2023-09-14/
LOCATION:FMC Library\, 902 W Springfield Ave\, Urbana\, 61801
CATEGORIES:Bible Study & Prayer
ORGANIZER;CN="Associate Pastor Deb Sutter":MAILTO:debra.sutter@fmc-cu.org
END:VEVENT
BEGIN:VEVENT
DTSTART;TZID=America/Chicago:20230910T120000
DTEND;TZID=America/Chicago:20230910T133000
DTSTAMP:20260421T101859
CREATED:20230809T211017Z
LAST-MODIFIED:20230809T211017Z
UID:10001885-1694347200-1694352600@fmc-cu.org
SUMMARY:FMC Worship Leader Workshop
DESCRIPTION:After Sunday school \, those who currently serve as FMC worship leaders and people who are curious/interested in becoming FMC worship leaders are invited to the fellowship hall for a workshop. Please bring your own lunch.
URL:https://fmc-cu.org/event/fmc-worship-leader-workshop/
LOCATION:First Mennonite Church\, 902 W Springfield Ave\, Urbana\, IL\, 61801\, United States
CATEGORIES:FMC Meetings
ORGANIZER;CN="Associate Pastor Deb Sutter":MAILTO:debra.sutter@fmc-cu.org
END:VEVENT
BEGIN:VEVENT
DTSTART;TZID=America/Chicago:20230827T110000
DTEND;TZID=America/Chicago:20230827T120000
DTSTAMP:20260421T101859
CREATED:20230712T192401Z
LAST-MODIFIED:20230809T211135Z
UID:10001871-1693134000-1693137600@fmc-cu.org
SUMMARY:Children's Worship Storyteller Workshop
DESCRIPTION:After worship\, those who currently serve as FMC children’s storytellers and people who are curious/interested in becoming FMC worship storytellers are invited to the fellowship hall for a workshop. A light lunch will be served to participants.
URL:https://fmc-cu.org/event/childrens-worship-storyteller-workshop/
LOCATION:First Mennonite Church\, 902 W Springfield Ave\, Urbana\, IL\, 61801\, United States
CATEGORIES:FMC Meetings
ORGANIZER;CN="Associate Pastor Deb Sutter":MAILTO:debra.sutter@fmc-cu.org
END:VEVENT
BEGIN:VEVENT
DTSTART;TZID=America/Chicago:20230617T100000
DTEND;TZID=America/Chicago:20230617T150000
DTSTAMP:20260421T101859
CREATED:20230414T202543Z
LAST-MODIFIED:20230502T185628Z
UID:10001583-1686996000-1687014000@fmc-cu.org
SUMMARY:Meditative Retreat at FMC
DESCRIPTION:Meditative Retreat led by Nicole Anderson-Cobb. By way of gathering\, prayer\, silence\, movement\, reflection\, creative exercises and group sharing\, this guided retreat will offer participants an opportunity to pray and reflect on the year so far and set their intentions for spiritual renewal during the Summer of 2023. Space will be limited. Look for additional information and a registration link in the next few weeks.
URL:https://fmc-cu.org/event/spiritual-retreat/
LOCATION:First Mennonite Church\, 902 W Springfield Ave\, Urbana\, IL\, 61801\, United States
CATEGORIES:FMC Events
ORGANIZER;CN="Associate Pastor Deb Sutter":MAILTO:debra.sutter@fmc-cu.org
END:VEVENT
BEGIN:VEVENT
DTSTART;TZID=America/Chicago:20230525T093000
DTEND;TZID=America/Chicago:20230525T110000
DTSTAMP:20260421T101859
CREATED:20230117T202730Z
LAST-MODIFIED:20230502T184822Z
UID:10001664-1685007000-1685012400@fmc-cu.org
SUMMARY:Anabaptist 500 Bible Study Group
DESCRIPTION:
URL:https://fmc-cu.org/event/anabaptist-scripture-project/2023-05-25/2/
LOCATION:FMC Library\, 902 W Springfield Ave\, Urbana\, 61801
CATEGORIES:Bible Study & Prayer
ORGANIZER;CN="Associate Pastor Deb Sutter":MAILTO:debra.sutter@fmc-cu.org
END:VEVENT
BEGIN:VEVENT
DTSTART;TZID=America/Chicago:20230525T080000
DTEND;TZID=America/Chicago:20230525T170000
DTSTAMP:20260421T101859
CREATED:20230117T202730Z
LAST-MODIFIED:20230502T184822Z
UID:10001665-1685001600-1685034000@fmc-cu.org
SUMMARY:Anabaptist 500 Bible Study Group
DESCRIPTION:
URL:https://fmc-cu.org/event/anabaptist-scripture-project/2023-05-25/1/
LOCATION:FMC Library\, 902 W Springfield Ave\, Urbana\, 61801
CATEGORIES:Bible Study & Prayer
ORGANIZER;CN="Associate Pastor Deb Sutter":MAILTO:debra.sutter@fmc-cu.org
END:VEVENT
BEGIN:VEVENT
DTSTART;TZID=America/Chicago:20230521T160000
DTEND;TZID=America/Chicago:20230521T180000
DTSTAMP:20260421T101859
CREATED:20230110T200738Z
LAST-MODIFIED:20230301T181421Z
UID:10001514-1684684800-1684692000@fmc-cu.org
SUMMARY:Spiritual Direction Group-Hybrid
DESCRIPTION:4-6 people meet every other week for prayer\, sharing\, Lectio Divina and a short silence. Meeting times and days are decided by the group. New groups are formed each September. \nThe group meets in person & on Zoom.
URL:https://fmc-cu.org/event/spiritual-direction-groups-2021-08-03-2/2023-05-21/
LOCATION:FMC Library\, 902 W Springfield Ave\, Urbana\, 61801
CATEGORIES:Spiritual Direction Groups
ORGANIZER;CN="Associate Pastor Deb Sutter":MAILTO:debra.sutter@fmc-cu.org
END:VEVENT
BEGIN:VEVENT
DTSTART;TZID=America/Chicago:20230518T093000
DTEND;TZID=America/Chicago:20230518T110000
DTSTAMP:20260421T101859
CREATED:20230117T202730Z
LAST-MODIFIED:20230502T184822Z
UID:10001663-1684402200-1684407600@fmc-cu.org
SUMMARY:Anabaptist 500 Bible Study Group
DESCRIPTION:
URL:https://fmc-cu.org/event/anabaptist-scripture-project/2023-05-18/
LOCATION:FMC Library\, 902 W Springfield Ave\, Urbana\, 61801
CATEGORIES:Bible Study & Prayer
ORGANIZER;CN="Associate Pastor Deb Sutter":MAILTO:debra.sutter@fmc-cu.org
END:VEVENT
BEGIN:VEVENT
DTSTART;TZID=America/Chicago:20230511T093000
DTEND;TZID=America/Chicago:20230511T110000
DTSTAMP:20260421T101859
CREATED:20230117T202730Z
LAST-MODIFIED:20230502T184822Z
UID:10001662-1683797400-1683802800@fmc-cu.org
SUMMARY:Anabaptist 500 Bible Study Group
DESCRIPTION:
URL:https://fmc-cu.org/event/anabaptist-scripture-project/2023-05-11/
LOCATION:FMC Library\, 902 W Springfield Ave\, Urbana\, 61801
CATEGORIES:Bible Study & Prayer
ORGANIZER;CN="Associate Pastor Deb Sutter":MAILTO:debra.sutter@fmc-cu.org
END:VEVENT
BEGIN:VEVENT
DTSTART;TZID=America/Chicago:20230509T133000
DTEND;TZID=America/Chicago:20230509T153000
DTSTAMP:20260421T101859
CREATED:20210922T151438Z
LAST-MODIFIED:20230110T192748Z
UID:10001424-1683639000-1683646200@fmc-cu.org
SUMMARY:Tuesday Spiritual Direction Group
DESCRIPTION:4-6 people meet the second and fourth Tuesdays of each month for prayer\, sharing\, Lectio Divina and a short silence. Meeting times and days are decided by the group. New groups are formed each September. \nIn person & on Zoom.
URL:https://fmc-cu.org/event/tuesday-spiritual-direction-group/2023-05-09/
CATEGORIES:Spiritual Direction Groups
ORGANIZER;CN="Associate Pastor Deb Sutter":MAILTO:debra.sutter@fmc-cu.org
END:VEVENT
BEGIN:VEVENT
DTSTART;TZID=America/Chicago:20230504T183000
DTEND;TZID=America/Chicago:20230504T203000
DTSTAMP:20260421T101859
CREATED:20230110T200738Z
LAST-MODIFIED:20230301T181421Z
UID:10001513-1683225000-1683232200@fmc-cu.org
SUMMARY:Spiritual Direction Group-Hybrid
DESCRIPTION:4-6 people meet every other week for prayer\, sharing\, Lectio Divina and a short silence. Meeting times and days are decided by the group. New groups are formed each September. \nThe group meets in person & on Zoom.
URL:https://fmc-cu.org/event/spiritual-direction-groups-2021-08-03-2/2023-05-04/
LOCATION:FMC Library\, 902 W Springfield Ave\, Urbana\, 61801
CATEGORIES:Spiritual Direction Groups
ORGANIZER;CN="Associate Pastor Deb Sutter":MAILTO:debra.sutter@fmc-cu.org
END:VEVENT
END:VCALENDAR