BEGIN:VCALENDAR
VERSION:2.0
PRODID:-//First Mennonite Church of Champaign-Urbana - ECPv6.15.20//NONSGML v1.0//EN
CALSCALE:GREGORIAN
METHOD:PUBLISH
X-WR-CALNAME:First Mennonite Church of Champaign-Urbana
X-ORIGINAL-URL:https://fmc-cu.org
X-WR-CALDESC:Events for First Mennonite Church of Champaign-Urbana
REFRESH-INTERVAL;VALUE=DURATION:PT1H
X-Robots-Tag:noindex
X-PUBLISHED-TTL:PT1H
BEGIN:VTIMEZONE
TZID:America/Chicago
BEGIN:DAYLIGHT
TZOFFSETFROM:-0600
TZOFFSETTO:-0500
TZNAME:CDT
DTSTART:20240310T080000
END:DAYLIGHT
BEGIN:STANDARD
TZOFFSETFROM:-0500
TZOFFSETTO:-0600
TZNAME:CST
DTSTART:20241103T070000
END:STANDARD
BEGIN:DAYLIGHT
TZOFFSETFROM:-0600
TZOFFSETTO:-0500
TZNAME:CDT
DTSTART:20250309T080000
END:DAYLIGHT
BEGIN:STANDARD
TZOFFSETFROM:-0500
TZOFFSETTO:-0600
TZNAME:CST
DTSTART:20251102T070000
END:STANDARD
BEGIN:DAYLIGHT
TZOFFSETFROM:-0600
TZOFFSETTO:-0500
TZNAME:CDT
DTSTART:20260308T080000
END:DAYLIGHT
BEGIN:STANDARD
TZOFFSETFROM:-0500
TZOFFSETTO:-0600
TZNAME:CST
DTSTART:20261101T070000
END:STANDARD
END:VTIMEZONE
BEGIN:VEVENT
DTSTART;TZID=America/Chicago:20250719T103000
DTEND;TZID=America/Chicago:20250719T113000
DTSTAMP:20260425T060645
CREATED:20240904T171729Z
LAST-MODIFIED:20250715T190505Z
UID:10002941-1752921000-1752924600@fmc-cu.org
SUMMARY:Prayer Service for Oak Flat
DESCRIPTION:FMC will host a short prayer gathering in the church sanctuary to support Apache Stronghold’s effort to save Oak Flat.
URL:https://fmc-cu.org/event/prayer-service-for-oak-flat/
LOCATION:First Mennonite Church\, 902 W Springfield Ave\, Urbana\, IL\, 61801\, United States
CATEGORIES:FMC Events
ORGANIZER;CN="FMC Office":MAILTO:office@fmc-cu.org
END:VEVENT
BEGIN:VEVENT
DTSTART;TZID=America/Chicago:20250716T080000
DTEND;TZID=America/Chicago:20250716T093000
DTSTAMP:20260425T060645
CREATED:20250128T195323Z
LAST-MODIFIED:20250729T191913Z
UID:10002665-1752652800-1752658200@fmc-cu.org
SUMMARY:Wednesday Morning Zoom Bible Study (meets over Zoom)
DESCRIPTION:Early risers – join us online for a time of study and discussion. Email Pastor Michael for the Zoom link.
URL:https://fmc-cu.org/event/early-morning-bible-study-meets-over-zoom-2-2-2/2025-07-16/
LOCATION:Zoom
CATEGORIES:Bible Study & Prayer
ORGANIZER;CN="Pastor Michael Crosby":MAILTO:michael.crosby@fmc-cu.org
END:VEVENT
BEGIN:VEVENT
DTSTART;TZID=America/Chicago:20250715T173000
DTEND;TZID=America/Chicago:20250715T193000
DTSTAMP:20260425T060645
CREATED:20240529T180214Z
LAST-MODIFIED:20250103T163528Z
UID:10002512-1752600600-1752607800@fmc-cu.org
SUMMARY:Taco Tuesday (3rd Tuesday of each month)
DESCRIPTION:Attendees meet for fellowship and a taco dinner. People sign up to help bring main items. Those not helping bring a main meal item are invited\, though not required\, to bring a topping to share. \n 
URL:https://fmc-cu.org/event/3rd-taco-thursday-2-2/2025-07-15/
LOCATION:First Mennonite Church\, 902 W Springfield Ave\, Urbana\, IL\, 61801\, United States
CATEGORIES:FMC Events
ORGANIZER;CN="Pastor Michael Crosby":MAILTO:michael.crosby@fmc-cu.org
END:VEVENT
BEGIN:VEVENT
DTSTART;TZID=America/Chicago:20250715T170000
DTEND;TZID=America/Chicago:20250715T200000
DTSTAMP:20260425T060645
CREATED:20250626T191302Z
LAST-MODIFIED:20250626T191302Z
UID:10003228-1752598800-1752609600@fmc-cu.org
SUMMARY:Palestinian Learning Opportunity
DESCRIPTION:Tuesday\, July 15 before and after Taco Tuesday:\n▪ 5pm: Prayer and banner unfurling on the FMC lawn\n▪ 6:30pm: Panel discussion featuring local speakers Al Mytty\, who recently visited Hebron\, West Bank with Community Peacemaker Teams\, and Dua Aldasouqi\, director\, CU Muslim Action Cmte.
URL:https://fmc-cu.org/event/palestinian-learning-opportunity/
LOCATION:First Mennonite Church\, 902 W Springfield Ave\, Urbana\, IL\, 61801\, United States
CATEGORIES:FMC Events
ORGANIZER;CN="Pastor Michael Crosby":MAILTO:michael.crosby@fmc-cu.org
END:VEVENT
BEGIN:VEVENT
DTSTART;TZID=America/Chicago:20250713T091500
DTEND;TZID=America/Chicago:20250713T120000
DTSTAMP:20260425T060645
CREATED:20250513T165322Z
LAST-MODIFIED:20250513T165322Z
UID:10003193-1752398100-1752408000@fmc-cu.org
SUMMARY:Sunday Mornings at FMC
DESCRIPTION:Join us for worship at 9:15 am live in the sanctuary or online.  We welcome\, without exclusion all who seek God’s love and grace! \nOur current children’s offering benefits the local Immigrant Services of CU. \nAfter worship\, stay for fellowship and refreshments (please keep your mask on when not drinking or eating).  In-person Sunday school classes for all ages (11:15 am-12 pm) follow fellowship time. \nAfter worship\, stay for fellowship and refreshments and Sunday school. Our summer Sunday school is intergenerational and the theme is Caregiving. People of various ages will share creative ways they care for others and that others have cared for them.
URL:https://fmc-cu.org/event/sunday-mornings-at-fmc-32/2025-07-13/
LOCATION:First Mennonite Church\, 902 W Springfield Ave\, Urbana\, IL\, 61801\, United States
CATEGORIES:Sunday Mornings
END:VEVENT
BEGIN:VEVENT
DTSTART;TZID=America/Chicago:20250706T151500
DTEND;TZID=America/Chicago:20250706T170000
DTSTAMP:20260425T060645
CREATED:20240426T155052Z
LAST-MODIFIED:20250625T163337Z
UID:10003220-1751814900-1751821200@fmc-cu.org
SUMMARY:Sunday Afternoon Spiritual Direction Group
DESCRIPTION:4-6 people meet several times each month for prayer\, sharing\, Lectio Divina and a short silence. Meeting times and days are decided by the group. New groups are formed each September. \nThe group meets in person & on Zoom.
URL:https://fmc-cu.org/event/spiritual-direction-groups-2021-08-03-3/
LOCATION:FMC Library\, 902 W Springfield Ave\, Urbana\, 61801
CATEGORIES:Spiritual Direction Groups
ORGANIZER;CN="Associate Pastor Deb Sutter":MAILTO:debra.sutter@fmc-cu.org
END:VEVENT
BEGIN:VEVENT
DTSTART;TZID=America/Chicago:20250706T091500
DTEND;TZID=America/Chicago:20250706T120000
DTSTAMP:20260425T060645
CREATED:20250513T165322Z
LAST-MODIFIED:20250513T165322Z
UID:10003192-1751793300-1751803200@fmc-cu.org
SUMMARY:Sunday Mornings at FMC
DESCRIPTION:Join us for worship at 9:15 am live in the sanctuary or online.  We welcome\, without exclusion all who seek God’s love and grace! \nOur current children’s offering benefits the local Immigrant Services of CU. \nAfter worship\, stay for fellowship and refreshments (please keep your mask on when not drinking or eating).  In-person Sunday school classes for all ages (11:15 am-12 pm) follow fellowship time. \nAfter worship\, stay for fellowship and refreshments and Sunday school. Our summer Sunday school is intergenerational and the theme is Caregiving. People of various ages will share creative ways they care for others and that others have cared for them.
URL:https://fmc-cu.org/event/sunday-mornings-at-fmc-32/2025-07-06/
LOCATION:First Mennonite Church\, 902 W Springfield Ave\, Urbana\, IL\, 61801\, United States
CATEGORIES:Sunday Mornings
END:VEVENT
BEGIN:VEVENT
DTSTART;VALUE=DATE:20250704
DTEND;VALUE=DATE:20250706
DTSTAMP:20260425T060645
CREATED:20230117T202822Z
LAST-MODIFIED:20250605T200002Z
UID:10002518-1751587200-1751759999@fmc-cu.org
SUMMARY:FMC office closed
DESCRIPTION:The office is closed July 4.
URL:https://fmc-cu.org/event/fmc-office-closed/
LOCATION:First Mennonite Church\, 902 W Springfield Ave\, Urbana\, IL\, 61801\, United States
ORGANIZER;CN="FMC Office":MAILTO:office@fmc-cu.org
END:VEVENT
BEGIN:VEVENT
DTSTART;TZID=America/Chicago:20250701T130000
DTEND;TZID=America/Chicago:20250701T150000
DTSTAMP:20260425T060645
CREATED:20250204T191402Z
LAST-MODIFIED:20250307T194454Z
UID:10003069-1751374800-1751382000@fmc-cu.org
SUMMARY:Racial Justice Working Group (Hybrid)
DESCRIPTION:This group provides a space for anti-racism education\, advocacy\, and mutual accountability in our church and community. The group meeting is hybrid\, with in person members meeting in the FMC library.
URL:https://fmc-cu.org/event/racial-justice-working-group-2-2-2-2-2-2-2/2025-07-01/
LOCATION:Hybrid
CATEGORIES:FMC Meetings
ORGANIZER;CN="Pastor Michael Crosby":MAILTO:michael.crosby@fmc-cu.org
END:VEVENT
BEGIN:VEVENT
DTSTART;TZID=America/Chicago:20250629T091500
DTEND;TZID=America/Chicago:20250629T120000
DTSTAMP:20260425T060645
CREATED:20250513T165322Z
LAST-MODIFIED:20250513T165322Z
UID:10003191-1751188500-1751198400@fmc-cu.org
SUMMARY:Sunday Mornings at FMC
DESCRIPTION:Join us for worship at 9:15 am live in the sanctuary or online.  We welcome\, without exclusion all who seek God’s love and grace! \nOur current children’s offering benefits the local Immigrant Services of CU. \nAfter worship\, stay for fellowship and refreshments (please keep your mask on when not drinking or eating).  In-person Sunday school classes for all ages (11:15 am-12 pm) follow fellowship time. \nAfter worship\, stay for fellowship and refreshments and Sunday school. Our summer Sunday school is intergenerational and the theme is Caregiving. People of various ages will share creative ways they care for others and that others have cared for them.
URL:https://fmc-cu.org/event/sunday-mornings-at-fmc-32/2025-06-29/
LOCATION:First Mennonite Church\, 902 W Springfield Ave\, Urbana\, IL\, 61801\, United States
CATEGORIES:Sunday Mornings
END:VEVENT
BEGIN:VEVENT
DTSTART;VALUE=DATE:20250629
DTEND;VALUE=DATE:20250630
DTSTAMP:20260425T060645
CREATED:20230613T193931Z
LAST-MODIFIED:20250806T151019Z
UID:10001806-1751155200-1751241599@fmc-cu.org
SUMMARY:Vine Newsletter - submission deadline
DESCRIPTION:The Vine is the newsletter of First Mennonite Church. Submissions should be emailed to the current editor\, Cindi Schieber.
URL:https://fmc-cu.org/event/vine-newsletter-submission-deadline-2/2025-06-29/
CATEGORIES:FMC Events
ORGANIZER;CN="FMC Office":MAILTO:office@fmc-cu.org
END:VEVENT
BEGIN:VEVENT
DTSTART;TZID=America/Chicago:20250628T100000
DTEND;TZID=America/Chicago:20250628T120000
DTSTAMP:20260425T060645
CREATED:20250513T170650Z
LAST-MODIFIED:20250523T160221Z
UID:10003204-1751104800-1751112000@fmc-cu.org
SUMMARY:Less Lawn\, Going Native: Viewing  FMC Alternative Lawns
DESCRIPTION:FMC attendees are invited to view the properties of several people who have planted native gardens.
URL:https://fmc-cu.org/event/native-garden-tour/
CATEGORIES:FMC Events
ORGANIZER;CN="FMC Office":MAILTO:office@fmc-cu.org
END:VEVENT
BEGIN:VEVENT
DTSTART;TZID=America/Chicago:20250627T150000
DTEND;TZID=America/Chicago:20250627T160000
DTSTAMP:20260425T060645
CREATED:20250523T160530Z
LAST-MODIFIED:20250523T160531Z
UID:10001609-1751036400-1751040000@fmc-cu.org
SUMMARY:Decolonial Worship-Zoom
DESCRIPTION:FMC is part of a Dismantling the Doctrine of Discovery Coalition of congregations that supports church communities in education\, solidarity and reparative action alongside Indigenous Peoples. The Coalition meets via Zoom each month for worship which focuses on the theme of healing and economic justice. A link is needed to attend.\n \n 
URL:https://fmc-cu.org/event/repair-network-prayer-action-hour-zoom-2-2/2025-06-27/
LOCATION:Zoom
CATEGORIES:Bible Study & Prayer
ORGANIZER;CN="Pastor Michael Crosby":MAILTO:michael.crosby@fmc-cu.org
END:VEVENT
BEGIN:VEVENT
DTSTART;TZID=America/Chicago:20250625T180000
DTEND;TZID=America/Chicago:20250625T200000
DTSTAMP:20260425T060645
CREATED:20250411T192735Z
LAST-MODIFIED:20250411T192735Z
UID:10003169-1750874400-1750881600@fmc-cu.org
SUMMARY:FMC Council meeting
DESCRIPTION:
URL:https://fmc-cu.org/event/fmc-council-meeting-3/
LOCATION:FMC Library\, 902 W Springfield Ave\, Urbana\, 61801
CATEGORIES:FMC Meetings
ORGANIZER;CN="FMC Office":MAILTO:office@fmc-cu.org
END:VEVENT
BEGIN:VEVENT
DTSTART;TZID=America/Chicago:20250625T080000
DTEND;TZID=America/Chicago:20250625T093000
DTSTAMP:20260425T060645
CREATED:20250128T195323Z
LAST-MODIFIED:20250729T191913Z
UID:10002662-1750838400-1750843800@fmc-cu.org
SUMMARY:Wednesday Morning Zoom Bible Study (meets over Zoom)
DESCRIPTION:Early risers – join us online for a time of study and discussion. Email Pastor Michael for the Zoom link.
URL:https://fmc-cu.org/event/early-morning-bible-study-meets-over-zoom-2-2-2/2025-06-25/
LOCATION:Zoom
CATEGORIES:Bible Study & Prayer
ORGANIZER;CN="Pastor Michael Crosby":MAILTO:michael.crosby@fmc-cu.org
END:VEVENT
BEGIN:VEVENT
DTSTART;TZID=America/Chicago:20250623T183000
DTEND;TZID=America/Chicago:20250623T200000
DTSTAMP:20260425T060645
CREATED:20250521T191828Z
LAST-MODIFIED:20250521T191914Z
UID:10003208-1750703400-1750708800@fmc-cu.org
SUMMARY:Monday Spiritual Direction Group
DESCRIPTION:4-6 people meet the several times each month for prayer\, sharing\, Lectio Divina and a short silence. Meeting times and days are decided by the group. New groups are formed each September. \nIn person & on Zoom.
URL:https://fmc-cu.org/event/sunday-spiritual-direction-group/2025-06-23/
LOCATION:First Mennonite Church\, 902 W Springfield Ave\, Urbana\, IL\, 61801\, United States
CATEGORIES:Spiritual Direction Groups
END:VEVENT
BEGIN:VEVENT
DTSTART;TZID=America/Chicago:20250622T121500
DTEND;TZID=America/Chicago:20250622T141500
DTSTAMP:20260425T060645
CREATED:20250430T173535Z
LAST-MODIFIED:20250430T173535Z
UID:10003170-1750594500-1750601700@fmc-cu.org
SUMMARY:Facilities Committee (Hybrid)
DESCRIPTION:This FMC committee is responsible for the general supervision of the church’s physical property and financial affairs.
URL:https://fmc-cu.org/event/facilities-committee-hybrid-3/
LOCATION:Zoom
CATEGORIES:FMC Meetings
END:VEVENT
BEGIN:VEVENT
DTSTART;TZID=America/Chicago:20250622T091500
DTEND;TZID=America/Chicago:20250622T120000
DTSTAMP:20260425T060645
CREATED:20250513T165322Z
LAST-MODIFIED:20250513T165322Z
UID:10003190-1750583700-1750593600@fmc-cu.org
SUMMARY:Sunday Mornings at FMC
DESCRIPTION:Join us for worship at 9:15 am live in the sanctuary or online.  We welcome\, without exclusion all who seek God’s love and grace! \nOur current children’s offering benefits the local Immigrant Services of CU. \nAfter worship\, stay for fellowship and refreshments (please keep your mask on when not drinking or eating).  In-person Sunday school classes for all ages (11:15 am-12 pm) follow fellowship time. \nAfter worship\, stay for fellowship and refreshments and Sunday school. Our summer Sunday school is intergenerational and the theme is Caregiving. People of various ages will share creative ways they care for others and that others have cared for them.
URL:https://fmc-cu.org/event/sunday-mornings-at-fmc-32/2025-06-22/
LOCATION:First Mennonite Church\, 902 W Springfield Ave\, Urbana\, IL\, 61801\, United States
CATEGORIES:Sunday Mornings
END:VEVENT
BEGIN:VEVENT
DTSTART;TZID=America/Chicago:20250620T100000
DTEND;TZID=America/Chicago:20250620T120000
DTSTAMP:20260425T060645
CREATED:20250326T155227Z
LAST-MODIFIED:20250521T192119Z
UID:10003210-1750413600-1750420800@fmc-cu.org
SUMMARY:Friday Spiritual Direction Group
DESCRIPTION:4-6 people meet several times each month for prayer\, sharing\, Lectio Divina and a short silence. Meeting times and days are decided by the group. New groups are formed each September. \nThe group meets in person & on Zoom.
URL:https://fmc-cu.org/event/friday-spiritual-direction-group/2025-06-20/
LOCATION:First Mennonite Church\, 902 W Springfield Ave\, Urbana\, IL\, 61801\, United States
CATEGORIES:FMC Meetings
ORGANIZER;CN="Associate Pastor Deb Sutter":MAILTO:debra.sutter@fmc-cu.org
END:VEVENT
BEGIN:VEVENT
DTSTART;TZID=America/Chicago:20250619T090000
DTEND;TZID=America/Chicago:20250619T110000
DTSTAMP:20260425T060645
CREATED:20220707T181255Z
LAST-MODIFIED:20250729T191816Z
UID:10003224-1750323600-1750330800@fmc-cu.org
SUMMARY:Thursday AM Bible Study Potluck Brunch
DESCRIPTION:The Thursday Morning Bible study group is invited to meet together at FMC for a potluck brunch.
URL:https://fmc-cu.org/event/thursday-am-bible-study-summer-fellowship/2025-06-19/
LOCATION:First Mennonite Church\, 902 W Springfield Ave\, Urbana\, IL\, 61801\, United States
CATEGORIES:Bible Study & Prayer
ORGANIZER;CN="Associate Pastor Deb Sutter":MAILTO:debra.sutter@fmc-cu.org
END:VEVENT
BEGIN:VEVENT
DTSTART;TZID=America/Chicago:20250618T080000
DTEND;TZID=America/Chicago:20250618T093000
DTSTAMP:20260425T060645
CREATED:20250128T195323Z
LAST-MODIFIED:20250729T191913Z
UID:10002661-1750233600-1750239000@fmc-cu.org
SUMMARY:Wednesday Morning Zoom Bible Study (meets over Zoom)
DESCRIPTION:Early risers – join us online for a time of study and discussion. Email Pastor Michael for the Zoom link.
URL:https://fmc-cu.org/event/early-morning-bible-study-meets-over-zoom-2-2-2/2025-06-18/
LOCATION:Zoom
CATEGORIES:Bible Study & Prayer
ORGANIZER;CN="Pastor Michael Crosby":MAILTO:michael.crosby@fmc-cu.org
END:VEVENT
BEGIN:VEVENT
DTSTART;TZID=America/Chicago:20250617T183000
DTEND;TZID=America/Chicago:20250617T200000
DTSTAMP:20260425T060645
CREATED:20250528T181716Z
LAST-MODIFIED:20250528T181716Z
UID:10003217-1750185000-1750190400@fmc-cu.org
SUMMARY:Presentation on New Philadelphia\, IL
DESCRIPTION:FMC will host Abdul Alkalimat and Kate Williams- McWorter to speak about and answer questions related to the New Philadelphia\, IL historic district. Founded in 1836\, New Philadelphia\, IL was the first community in America started by an African American. Abdul is a descendant of the founder Frank McWorter. Abdul and Kate are professors at the University of Illinois and are leaders of the New Philadelphia Association.
URL:https://fmc-cu.org/event/presentation-on-new-philadelphia-il/
LOCATION:First Mennonite Church\, 902 W Springfield Ave\, Urbana\, IL\, 61801\, United States
CATEGORIES:FMC Events
END:VEVENT
BEGIN:VEVENT
DTSTART;TZID=America/Chicago:20250617T173000
DTEND;TZID=America/Chicago:20250617T193000
DTSTAMP:20260425T060645
CREATED:20240529T180214Z
LAST-MODIFIED:20250103T163528Z
UID:10002511-1750181400-1750188600@fmc-cu.org
SUMMARY:Taco Tuesday (3rd Tuesday of each month)
DESCRIPTION:Attendees meet for fellowship and a taco dinner. People sign up to help bring main items. Those not helping bring a main meal item are invited\, though not required\, to bring a topping to share. \n 
URL:https://fmc-cu.org/event/3rd-taco-thursday-2-2/2025-06-17/
LOCATION:First Mennonite Church\, 902 W Springfield Ave\, Urbana\, IL\, 61801\, United States
CATEGORIES:FMC Events
ORGANIZER;CN="Pastor Michael Crosby":MAILTO:michael.crosby@fmc-cu.org
END:VEVENT
BEGIN:VEVENT
DTSTART;TZID=America/Chicago:20250615T153000
DTEND;TZID=America/Chicago:20250615T170000
DTSTAMP:20260425T060645
CREATED:20240524T181212Z
LAST-MODIFIED:20250521T191632Z
UID:10003206-1750001400-1750006800@fmc-cu.org
SUMMARY:Sunday Afternoon Spiritual Direction Group
DESCRIPTION:4-6 people meet several times each month for prayer\, sharing\, Lectio Divina and a short silence. Meeting times and days are decided by the group. New groups are formed each September. \nThe group meets in person & on Zoom.
URL:https://fmc-cu.org/event/spiritual-direction-groups-2021-08-03-3-2/2025-06-15/
LOCATION:FMC Library\, 902 W Springfield Ave\, Urbana\, 61801
CATEGORIES:Spiritual Direction Groups
ORGANIZER;CN="Associate Pastor Deb Sutter":MAILTO:debra.sutter@fmc-cu.org
END:VEVENT
BEGIN:VEVENT
DTSTART;TZID=America/Chicago:20250615T123000
DTEND;TZID=America/Chicago:20250615T143000
DTSTAMP:20260425T060645
CREATED:20220602T182506Z
LAST-MODIFIED:20250430T174041Z
UID:10000228-1749990600-1749997800@fmc-cu.org
SUMMARY:Father's Day Picnic
DESCRIPTION:Join us for a potluck picnic at Hessel Park in celebration of Father’s Day. Bring a nut-free dish to share\, your table service\, lawn chairs\, and games. Drinks will be provided. Look for us in one of the small shelters. The picnic will be in the FMC fellowship hall in the event of rain.
URL:https://fmc-cu.org/event/fathers-day-picnic/
LOCATION:Hessel Park\, Champaign\, IL\, 1400 Grandview Dr\, Champaign\, IL\, 61820\, United States
CATEGORIES:FMC Events
ORGANIZER;CN="FMC Office":MAILTO:office@fmc-cu.org
END:VEVENT
BEGIN:VEVENT
DTSTART;TZID=America/Chicago:20250615T091500
DTEND;TZID=America/Chicago:20250615T120000
DTSTAMP:20260425T060645
CREATED:20250513T165322Z
LAST-MODIFIED:20250513T165322Z
UID:10003189-1749978900-1749988800@fmc-cu.org
SUMMARY:Sunday Mornings at FMC
DESCRIPTION:Join us for worship at 9:15 am live in the sanctuary or online.  We welcome\, without exclusion all who seek God’s love and grace! \nOur current children’s offering benefits the local Immigrant Services of CU. \nAfter worship\, stay for fellowship and refreshments (please keep your mask on when not drinking or eating).  In-person Sunday school classes for all ages (11:15 am-12 pm) follow fellowship time. \nAfter worship\, stay for fellowship and refreshments and Sunday school. Our summer Sunday school is intergenerational and the theme is Caregiving. People of various ages will share creative ways they care for others and that others have cared for them.
URL:https://fmc-cu.org/event/sunday-mornings-at-fmc-32/2025-06-15/
LOCATION:First Mennonite Church\, 902 W Springfield Ave\, Urbana\, IL\, 61801\, United States
CATEGORIES:Sunday Mornings
END:VEVENT
BEGIN:VEVENT
DTSTART;TZID=America/Chicago:20250611T080000
DTEND;TZID=America/Chicago:20250611T093000
DTSTAMP:20260425T060645
CREATED:20250128T195323Z
LAST-MODIFIED:20250729T191913Z
UID:10002660-1749628800-1749634200@fmc-cu.org
SUMMARY:Wednesday Morning Zoom Bible Study (meets over Zoom)
DESCRIPTION:Early risers – join us online for a time of study and discussion. Email Pastor Michael for the Zoom link.
URL:https://fmc-cu.org/event/early-morning-bible-study-meets-over-zoom-2-2-2/2025-06-11/
LOCATION:Zoom
CATEGORIES:Bible Study & Prayer
ORGANIZER;CN="Pastor Michael Crosby":MAILTO:michael.crosby@fmc-cu.org
END:VEVENT
BEGIN:VEVENT
DTSTART;TZID=America/Chicago:20250609T183000
DTEND;TZID=America/Chicago:20250609T200000
DTSTAMP:20260425T060645
CREATED:20250521T191828Z
LAST-MODIFIED:20250521T191914Z
UID:10003207-1749493800-1749499200@fmc-cu.org
SUMMARY:Monday Spiritual Direction Group
DESCRIPTION:4-6 people meet the several times each month for prayer\, sharing\, Lectio Divina and a short silence. Meeting times and days are decided by the group. New groups are formed each September. \nIn person & on Zoom.
URL:https://fmc-cu.org/event/sunday-spiritual-direction-group/2025-06-09/
LOCATION:First Mennonite Church\, 902 W Springfield Ave\, Urbana\, IL\, 61801\, United States
CATEGORIES:Spiritual Direction Groups
END:VEVENT
BEGIN:VEVENT
DTSTART;TZID=America/Chicago:20250608T091500
DTEND;TZID=America/Chicago:20250608T120000
DTSTAMP:20260425T060645
CREATED:20240925T185754Z
LAST-MODIFIED:20250513T170036Z
UID:10002953-1749374100-1749384000@fmc-cu.org
SUMMARY:Sunday Mornings at FMC
DESCRIPTION:PENTECOST\n \nJoin us for worship at 9:15 am live in the sanctuary or online.  We welcome\, without exclusion all who seek God’s love and grace! \nOur current children’s offering benefits the local Immigrant Services of CU. \nAfter worship\, stay for fellowship and refreshments (please keep your mask on when not drinking or eating).  In-person Sunday school classes for all ages (11:15 am-12 pm) follow fellowship time. \nAfter worship\, stay for fellowship and refreshments and Sunday school. Our summer Sunday school is intergenerational and the theme is Caregiving. People of various ages will share creative ways they care for others and that others have cared for them.
URL:https://fmc-cu.org/event/sunday-mornings-at-fmc-27/
LOCATION:First Mennonite Church\, 902 W Springfield Ave\, Urbana\, IL\, 61801\, United States
CATEGORIES:Sunday Mornings
ORGANIZER;CN="FMC Office":MAILTO:office@fmc-cu.org
END:VEVENT
BEGIN:VEVENT
DTSTART;TZID=America/Chicago:20250607T100000
DTEND;TZID=America/Chicago:20250607T140000
DTSTAMP:20260425T060645
CREATED:20230216T195939Z
LAST-MODIFIED:20250513T170313Z
UID:10001496-1749290400-1749304800@fmc-cu.org
SUMMARY:Worship Committee Retreat
DESCRIPTION:Will be held at the home of Pastor Deb.
URL:https://fmc-cu.org/event/worship-committee-retreat/
LOCATION:First Mennonite Church\, 902 W Springfield Ave\, Urbana\, IL\, 61801\, United States
CATEGORIES:FMC Meetings
ORGANIZER;CN="Associate Pastor Deb Sutter":MAILTO:debra.sutter@fmc-cu.org
END:VEVENT
END:VCALENDAR