BEGIN:VCALENDAR
VERSION:2.0
PRODID:-//First Mennonite Church of Champaign-Urbana - ECPv6.15.20//NONSGML v1.0//EN
CALSCALE:GREGORIAN
METHOD:PUBLISH
X-WR-CALNAME:First Mennonite Church of Champaign-Urbana
X-ORIGINAL-URL:https://fmc-cu.org
X-WR-CALDESC:Events for First Mennonite Church of Champaign-Urbana
REFRESH-INTERVAL;VALUE=DURATION:PT1H
X-Robots-Tag:noindex
X-PUBLISHED-TTL:PT1H
BEGIN:VTIMEZONE
TZID:America/Chicago
BEGIN:DAYLIGHT
TZOFFSETFROM:-0600
TZOFFSETTO:-0500
TZNAME:CDT
DTSTART:20240310T080000
END:DAYLIGHT
BEGIN:STANDARD
TZOFFSETFROM:-0500
TZOFFSETTO:-0600
TZNAME:CST
DTSTART:20241103T070000
END:STANDARD
BEGIN:DAYLIGHT
TZOFFSETFROM:-0600
TZOFFSETTO:-0500
TZNAME:CDT
DTSTART:20250309T080000
END:DAYLIGHT
BEGIN:STANDARD
TZOFFSETFROM:-0500
TZOFFSETTO:-0600
TZNAME:CST
DTSTART:20251102T070000
END:STANDARD
BEGIN:DAYLIGHT
TZOFFSETFROM:-0600
TZOFFSETTO:-0500
TZNAME:CDT
DTSTART:20260308T080000
END:DAYLIGHT
BEGIN:STANDARD
TZOFFSETFROM:-0500
TZOFFSETTO:-0600
TZNAME:CST
DTSTART:20261101T070000
END:STANDARD
END:VTIMEZONE
BEGIN:VEVENT
DTSTART;TZID=America/Chicago:20250909T190000
DTEND;TZID=America/Chicago:20250909T203000
DTSTAMP:20260425T054907
CREATED:20250902T190315Z
LAST-MODIFIED:20250902T190315Z
UID:10003301-1757444400-1757449800@fmc-cu.org
SUMMARY:FMC Library reserved - Courage School
DESCRIPTION:FMC library is reserved for the “Courage School” online training. Our team is organized by D. Evans.
URL:https://fmc-cu.org/event/fmc-library-reserved-courage-school/2025-09-09/
LOCATION:FMC Library\, 902 W Springfield Ave\, Urbana\, 61801
CATEGORIES:Mennonite Church-affiliated
ORGANIZER;CN="FMC Office":MAILTO:office@fmc-cu.org
END:VEVENT
BEGIN:VEVENT
DTSTART;TZID=America/Chicago:20250907T160000
DTEND;TZID=America/Chicago:20250907T180000
DTSTAMP:20260425T054907
CREATED:20240726T174236Z
LAST-MODIFIED:20250820T203815Z
UID:10002546-1757260800-1757268000@fmc-cu.org
SUMMARY:Interfaith Alliance Summer Picnic
DESCRIPTION:Sunday\, September 7\, 4-6 pm at the Crystal Lake Park Large Pavilion – Interfaith End of Summer Picnic. \nGrilled items (meat and vegetarian) and beverages will be provided. Bring a side dish or dessert to share\, or just bring yourself. Come for fellowship and fun (yard games\, bubbles & more). \n 
URL:https://fmc-cu.org/event/interfaith-alliance-summer-picnic/
LOCATION:Crystal Lake Park\, 206 W Park St\, Urbana\, IL\, United States
CATEGORIES:Co-Sponsored Events
ORGANIZER;CN="Pastor Michael Crosby":MAILTO:michael.crosby@fmc-cu.org
END:VEVENT
BEGIN:VEVENT
DTSTART;TZID=America/Chicago:20250907T091500
DTEND;TZID=America/Chicago:20250907T120000
DTSTAMP:20260425T054907
CREATED:20250820T203358Z
LAST-MODIFIED:20250912T145406Z
UID:10001884-1757236500-1757246400@fmc-cu.org
SUMMARY:Sunday Mornings at FMC
DESCRIPTION:SEPTEMBER WORSHIP THEME:\nSeason of Creation\nSeptember 7 – Sky  (3rd Grade Bibles will also be given out)\nSeptember 14 – Humanity (Also our “Work of the Church” Sunday)\nSeptember 21 – Planet Earth\nSeptember 28 – Mountain \nJoin us for worship at 9:15 am in-person or online.  We welcome\, without exclusion all who seek God’s love and grace! \nOur Fall children’s offering will help with MCC’s relief work. \nSunday school classes for all ages begin at 11:15 am.
URL:https://fmc-cu.org/event/sunday-mornings-2021-11-21-2022-09-11-2/2025-09-07/
LOCATION:First Mennonite Church\, 902 W Springfield Ave\, Urbana\, IL\, 61801\, United States
CATEGORIES:Sunday Mornings
ORGANIZER;CN="FMC Office":MAILTO:office@fmc-cu.org
END:VEVENT
BEGIN:VEVENT
DTSTART;VALUE=DATE:20250906
DTEND;VALUE=DATE:20250907
DTSTAMP:20260425T054907
CREATED:20250528T180933Z
LAST-MODIFIED:20250820T195922Z
UID:10003215-1757116800-1757203199@fmc-cu.org
SUMMARY:FMC building saved for Scott & Maggie
DESCRIPTION:
URL:https://fmc-cu.org/event/fmc-building-saved-for-private-event-wedding/
LOCATION:IL
CATEGORIES:Private Events (reserved)
END:VEVENT
BEGIN:VEVENT
DTSTART;TZID=America/Chicago:20250905T133000
DTEND;TZID=America/Chicago:20250905T153000
DTSTAMP:20260425T054907
CREATED:20230210T165718Z
LAST-MODIFIED:20250822T172304Z
UID:10003296-1757079000-1757086200@fmc-cu.org
SUMMARY:Spiritual Leadership Team meeting
DESCRIPTION:The Spiritual Leadership Team (SLT) is responsible for the spiritual nurture of the congregation.
URL:https://fmc-cu.org/event/spiritual-leadership-team-meeting-2/2025-09-05/
LOCATION:First Mennonite Church\, 902 W Springfield Ave\, Urbana\, IL\, 61801\, United States
CATEGORIES:FMC Meetings
ORGANIZER;CN="Pastor Michael Crosby":MAILTO:michael.crosby@fmc-cu.org
END:VEVENT
BEGIN:VEVENT
DTSTART;TZID=America/Chicago:20250903T080000
DTEND;TZID=America/Chicago:20250903T093000
DTSTAMP:20260425T054907
CREATED:20250128T195323Z
LAST-MODIFIED:20250729T191913Z
UID:10002672-1756886400-1756891800@fmc-cu.org
SUMMARY:Wednesday Morning Zoom Bible Study (meets over Zoom)
DESCRIPTION:Early risers – join us online for a time of study and discussion. Email Pastor Michael for the Zoom link.
URL:https://fmc-cu.org/event/early-morning-bible-study-meets-over-zoom-2-2-2/2025-09-03/
LOCATION:Zoom
CATEGORIES:Bible Study & Prayer
ORGANIZER;CN="Pastor Michael Crosby":MAILTO:michael.crosby@fmc-cu.org
END:VEVENT
BEGIN:VEVENT
DTSTART;TZID=America/Chicago:20250902T190000
DTEND;TZID=America/Chicago:20250902T203000
DTSTAMP:20260425T054907
CREATED:20250902T190315Z
LAST-MODIFIED:20250902T190315Z
UID:10003300-1756839600-1756845000@fmc-cu.org
SUMMARY:FMC Library reserved - Courage School
DESCRIPTION:FMC library is reserved for the “Courage School” online training. Our team is organized by D. Evans.
URL:https://fmc-cu.org/event/fmc-library-reserved-courage-school/2025-09-02/
LOCATION:FMC Library\, 902 W Springfield Ave\, Urbana\, 61801
CATEGORIES:Mennonite Church-affiliated
ORGANIZER;CN="FMC Office":MAILTO:office@fmc-cu.org
END:VEVENT
BEGIN:VEVENT
DTSTART;TZID=America/Chicago:20250902T130000
DTEND;TZID=America/Chicago:20250902T150000
DTSTAMP:20260425T054907
CREATED:20250204T191402Z
LAST-MODIFIED:20250307T194454Z
UID:10003071-1756818000-1756825200@fmc-cu.org
SUMMARY:Racial Justice Working Group (Hybrid)
DESCRIPTION:This group provides a space for anti-racism education\, advocacy\, and mutual accountability in our church and community. The group meeting is hybrid\, with in person members meeting in the FMC library.
URL:https://fmc-cu.org/event/racial-justice-working-group-2-2-2-2-2-2-2/2025-09-02/
LOCATION:Hybrid
CATEGORIES:FMC Meetings
ORGANIZER;CN="Pastor Michael Crosby":MAILTO:michael.crosby@fmc-cu.org
END:VEVENT
BEGIN:VEVENT
DTSTART;VALUE=DATE:20250831
DTEND;VALUE=DATE:20250901
DTSTAMP:20260425T054907
CREATED:20230809T211528Z
LAST-MODIFIED:20250806T152517Z
UID:10001886-1756598400-1756684799@fmc-cu.org
SUMMARY:No Worship Service at the FMC Building on August 31\, 2025
DESCRIPTION:There will be no worship service or Sunday morning activities at the church on August 31\, 2025\, due to our All-Church retreat on August 29-31 at Camp Menno Haven (Tiskilwa\, IL).
URL:https://fmc-cu.org/event/no-worship-service-at-the-fmc-building-on-september-3/
LOCATION:IL
CATEGORIES:Sunday Mornings
ORGANIZER;CN="FMC Office":MAILTO:office@fmc-cu.org
END:VEVENT
BEGIN:VEVENT
DTSTART;TZID=America/Chicago:20250829T150000
DTEND;TZID=America/Chicago:20250829T160000
DTSTAMP:20260425T054907
CREATED:20250729T191601Z
LAST-MODIFIED:20250729T191601Z
UID:10001611-1756479600-1756483200@fmc-cu.org
SUMMARY:Decolonial Worship-Zoom
DESCRIPTION:FMC is part of a Dismantling the Doctrine of Discovery Coalition of congregations that supports church communities in education\, solidarity and reparative action alongside Indigenous Peoples. The Coalition meets via Zoom each month for worship which focuses on the theme of healing and economic justice. A link is needed to attend.\n \n 
URL:https://fmc-cu.org/event/repair-network-prayer-action-hour-zoom-2-2-2/2025-08-29/
LOCATION:Zoom
CATEGORIES:Bible Study & Prayer
ORGANIZER;CN="Pastor Michael Crosby":MAILTO:michael.crosby@fmc-cu.org
END:VEVENT
BEGIN:VEVENT
DTSTART;VALUE=DATE:20250829
DTEND;VALUE=DATE:20250901
DTSTAMP:20260425T054907
CREATED:20210716T192927Z
LAST-MODIFIED:20250528T181345Z
UID:10000002-1756425600-1756684799@fmc-cu.org
SUMMARY:FMC All-Church Retreat
DESCRIPTION:Our 2025 retreat theme is “Rooted in Peace” and will be held in Tiskilwa\, IL\, August 29 (7 pm) – August 31 (1 pm). Contact the church office for details. \nNo worship service will be held at the church building on Sunday\, August 31\, 2025.
URL:https://fmc-cu.org/event/fmc-all-church-retreat/
LOCATION:Menno Haven Camp & Retreat Center\, 9301 1575 East St.\, Tiskilwa\, IL\, 61368\, United States
CATEGORIES:FMC Events
ORGANIZER;CN="FMC Office":MAILTO:office@fmc-cu.org
END:VEVENT
BEGIN:VEVENT
DTSTART;TZID=America/Chicago:20250827T080000
DTEND;TZID=America/Chicago:20250827T093000
DTSTAMP:20260425T054907
CREATED:20250128T195323Z
LAST-MODIFIED:20250729T191913Z
UID:10002671-1756281600-1756287000@fmc-cu.org
SUMMARY:Wednesday Morning Zoom Bible Study (meets over Zoom)
DESCRIPTION:Early risers – join us online for a time of study and discussion. Email Pastor Michael for the Zoom link.
URL:https://fmc-cu.org/event/early-morning-bible-study-meets-over-zoom-2-2-2/2025-08-27/
LOCATION:Zoom
CATEGORIES:Bible Study & Prayer
ORGANIZER;CN="Pastor Michael Crosby":MAILTO:michael.crosby@fmc-cu.org
END:VEVENT
BEGIN:VEVENT
DTSTART;TZID=America/Chicago:20250825T183000
DTEND;TZID=America/Chicago:20250825T203000
DTSTAMP:20260425T054907
CREATED:20250326T154537Z
LAST-MODIFIED:20250806T150854Z
UID:10003260-1756146600-1756153800@fmc-cu.org
SUMMARY:Monday Spiritual Direction Group
DESCRIPTION:4-6 people meet the several Tuesdays each month for prayer\, sharing\, Lectio Divina and a short silence. Meeting times and days are decided by the group. New groups are formed each September. \nIn person & on Zoom.
URL:https://fmc-cu.org/event/monday-spiritual-direction-group/2025-08-25/
LOCATION:First Mennonite Church\, 902 W Springfield Ave\, Urbana\, IL\, 61801\, United States
CATEGORIES:Spiritual Direction Groups
ORGANIZER;CN="Associate Pastor Deb Sutter":MAILTO:debra.sutter@fmc-cu.org
END:VEVENT
BEGIN:VEVENT
DTSTART;VALUE=DATE:20250824
DTEND;VALUE=DATE:20250825
DTSTAMP:20260425T054907
CREATED:20240614T155707Z
LAST-MODIFIED:20250806T151055Z
UID:10002540-1755993600-1756079999@fmc-cu.org
SUMMARY:Vine Newsletter Deadline
DESCRIPTION:The Vine is the newsletter of First Mennonite Church. Submissions should be emailed to the current editor\, Cindi Schieber.
URL:https://fmc-cu.org/event/vine-newsletter-deadline-for-july-2024/
LOCATION:IL
ORGANIZER;CN="FMC Office":MAILTO:office@fmc-cu.org
END:VEVENT
BEGIN:VEVENT
DTSTART;TZID=America/Chicago:20250823T060000
DTEND;TZID=America/Chicago:20250823T150000
DTSTAMP:20260425T054907
CREATED:20250806T152246Z
LAST-MODIFIED:20250806T152246Z
UID:10003280-1755928800-1755961200@fmc-cu.org
SUMMARY:63rd Annual Arthur Mennonite MCC Relief Sale
DESCRIPTION:This annual event benefits Mennonite Central Committee (MCC). The event begins on Friday\, August 22\, from 4:30-9 pm and continues on Saturday – August 23 from 6 am – 3 pm. There are food booths\, a BBQ pulled pork dinner on Friday\, pancake and sausage breakfast on Saturday\, and auctions both days. Fun children’s activities include: a children’s auction\, a petting zoo and a train ride. \n80% of the proceeds benefits MCC and 20% will benefit local non-profit organizations. \nVisit www.arthurreliefsale.org for more information.
URL:https://fmc-cu.org/event/63rd-annual-arthur-mennonite-mcc-relief-sale/
LOCATION:Otto Center\, 2058 Cr 1800e\, Arthur\, IL\, 61911\, United States
CATEGORIES:Mennonite Church-affiliated
END:VEVENT
BEGIN:VEVENT
DTSTART;TZID=America/Chicago:20250822T163000
DTEND;TZID=America/Chicago:20250822T210000
DTSTAMP:20260425T054907
CREATED:20230705T181430Z
LAST-MODIFIED:20250806T152356Z
UID:10003278-1755880200-1755896400@fmc-cu.org
SUMMARY:63rd Arthur Mennonite Relief Sale
DESCRIPTION:This annual event benefits Mennonite Central Committee (MCC). The event begins on Friday\, August 22\, from 4:30-9 pm and continues on Saturday – August 23 from 6 am – 3 pm. There are food booths\, a BBQ pulled pork dinner on Friday\, pancake and sausage breakfast on Saturday\, and auctions both days. Fun children’s activities include: a children’s auction\, a petting zoo and a train ride. \n80% of the proceeds benefits MCC and 20% will benefit local non-profit organizations. \nVisit www.arthurreliefsale.org for more information.
URL:https://fmc-cu.org/event/61st-arthur-mennonite-relief-sale/
LOCATION:Otto Center\, 2058 Cr 1800e\, Arthur\, IL\, 61911\, United States
CATEGORIES:Mennonite Church-affiliated
ORGANIZER;CN="FMC Office":MAILTO:office@fmc-cu.org
END:VEVENT
BEGIN:VEVENT
DTSTART;TZID=America/Chicago:20250821T011500
DTEND;TZID=America/Chicago:20250821T151500
DTSTAMP:20260425T054907
CREATED:20250128T195958Z
LAST-MODIFIED:20250827T164920Z
UID:10002972-1755738900-1755789300@fmc-cu.org
SUMMARY:Christian Education Committee Meeting
DESCRIPTION:This committee oversees the Christian Education (Spiritual Formation) needs of the congregation and for planning programming to meet them. \n 
URL:https://fmc-cu.org/event/christian-education-committee-meeting-3-2/2025-08-21/
LOCATION:First Mennonite Church\, 902 W Springfield Ave\, Urbana\, IL\, 61801\, United States
CATEGORIES:FMC Meetings
ORGANIZER;CN="FMC Office":MAILTO:office@fmc-cu.org
END:VEVENT
BEGIN:VEVENT
DTSTART;TZID=America/Chicago:20250820T080000
DTEND;TZID=America/Chicago:20250820T093000
DTSTAMP:20260425T054907
CREATED:20250128T195323Z
LAST-MODIFIED:20250729T191913Z
UID:10002670-1755676800-1755682200@fmc-cu.org
SUMMARY:Wednesday Morning Zoom Bible Study (meets over Zoom)
DESCRIPTION:Early risers – join us online for a time of study and discussion. Email Pastor Michael for the Zoom link.
URL:https://fmc-cu.org/event/early-morning-bible-study-meets-over-zoom-2-2-2/2025-08-20/
LOCATION:Zoom
CATEGORIES:Bible Study & Prayer
ORGANIZER;CN="Pastor Michael Crosby":MAILTO:michael.crosby@fmc-cu.org
END:VEVENT
BEGIN:VEVENT
DTSTART;TZID=America/Chicago:20250819T173000
DTEND;TZID=America/Chicago:20250819T193000
DTSTAMP:20260425T054907
CREATED:20240529T180214Z
LAST-MODIFIED:20250103T163528Z
UID:10002513-1755624600-1755631800@fmc-cu.org
SUMMARY:Taco Tuesday (3rd Tuesday of each month)
DESCRIPTION:Attendees meet for fellowship and a taco dinner. People sign up to help bring main items. Those not helping bring a main meal item are invited\, though not required\, to bring a topping to share. \n 
URL:https://fmc-cu.org/event/3rd-taco-thursday-2-2/2025-08-19/
LOCATION:First Mennonite Church\, 902 W Springfield Ave\, Urbana\, IL\, 61801\, United States
CATEGORIES:FMC Events
ORGANIZER;CN="Pastor Michael Crosby":MAILTO:michael.crosby@fmc-cu.org
END:VEVENT
BEGIN:VEVENT
DTSTART;TZID=America/Chicago:20250817T110000
DTEND;TZID=America/Chicago:20250817T133000
DTSTAMP:20260425T054907
CREATED:20250729T192250Z
LAST-MODIFIED:20250729T192304Z
UID:10003257-1755428400-1755437400@fmc-cu.org
SUMMARY:Kids & Youth Sunday school teachers - meeting and classroom cleanup
DESCRIPTION:The children and youth Sunday school teachers will have a meeting after fellowship time and will also have the opportunity to clean/organize the classrooms.
URL:https://fmc-cu.org/event/kids-youth-sunday-school-teachers-meeting-and-classroom-cleanup/
LOCATION:First Mennonite Church\, 902 W Springfield Ave\, Urbana\, IL\, 61801\, United States
CATEGORIES:FMC Meetings
END:VEVENT
BEGIN:VEVENT
DTSTART;TZID=America/Chicago:20250815T103000
DTEND;TZID=America/Chicago:20250815T120000
DTSTAMP:20260425T054907
CREATED:20250725T184714Z
LAST-MODIFIED:20250806T150743Z
UID:10003258-1755253800-1755259200@fmc-cu.org
SUMMARY:Friday Spiritual Direction Group (Meeting on Thurs. July 31 this month)
DESCRIPTION:4-6 people meet several times each month for prayer\, sharing\, Lectio Divina and a short silence. Meeting times and days are decided by the group. New groups are formed each September. \nThe group meets in person & on Zoom.
URL:https://fmc-cu.org/event/friday-spiritual-direction-group-3/2025-08-15/
LOCATION:First Mennonite Church\, 902 W Springfield Ave\, Urbana\, IL\, 61801\, United States
CATEGORIES:FMC Meetings
ORGANIZER;CN="Associate Pastor Deb Sutter":MAILTO:debra.sutter@fmc-cu.org
END:VEVENT
BEGIN:VEVENT
DTSTART;TZID=America/Chicago:20250814T110000
DTEND;TZID=America/Chicago:20250814T123000
DTSTAMP:20260425T054907
CREATED:20240306T194008Z
LAST-MODIFIED:20250822T171708Z
UID:10002400-1755169200-1755174600@fmc-cu.org
SUMMARY:Worship Committee
DESCRIPTION:This committee is responsible for nurturing the worship life of the congregation.
URL:https://fmc-cu.org/event/worship-committee/
LOCATION:FMC Library\, 902 W Springfield Ave\, Urbana\, 61801
CATEGORIES:FMC Meetings
END:VEVENT
BEGIN:VEVENT
DTSTART;TZID=America/Chicago:20250814T093000
DTEND;TZID=America/Chicago:20250814T110000
DTSTAMP:20260425T054907
CREATED:20220707T181255Z
LAST-MODIFIED:20250729T191816Z
UID:10003256-1755163800-1755169200@fmc-cu.org
SUMMARY:Thursday AM Bible Study Potluck Brunch
DESCRIPTION:The Thursday Morning Bible study group is invited to meet together at FMC for a potluck brunch.
URL:https://fmc-cu.org/event/thursday-am-bible-study-summer-fellowship/2025-08-14/
LOCATION:First Mennonite Church\, 902 W Springfield Ave\, Urbana\, IL\, 61801\, United States
CATEGORIES:Bible Study & Prayer
ORGANIZER;CN="Associate Pastor Deb Sutter":MAILTO:debra.sutter@fmc-cu.org
END:VEVENT
BEGIN:VEVENT
DTSTART;TZID=America/Chicago:20250813T180000
DTEND;TZID=America/Chicago:20250813T200000
DTSTAMP:20260425T054907
CREATED:20231220T190406Z
LAST-MODIFIED:20250411T192604Z
UID:10003164-1755108000-1755115200@fmc-cu.org
SUMMARY:FMC Council meeting
DESCRIPTION:
URL:https://fmc-cu.org/event/fmc-council-meeting-2/2025-08-13/
LOCATION:First Mennonite Church\, 902 W Springfield Ave\, Urbana\, IL\, 61801\, United States
CATEGORIES:FMC Meetings
ORGANIZER;CN="FMC Office":MAILTO:office@fmc-cu.org
END:VEVENT
BEGIN:VEVENT
DTSTART;TZID=America/Chicago:20250813T080000
DTEND;TZID=America/Chicago:20250813T093000
DTSTAMP:20260425T054907
CREATED:20250128T195323Z
LAST-MODIFIED:20250729T191913Z
UID:10002669-1755072000-1755077400@fmc-cu.org
SUMMARY:Wednesday Morning Zoom Bible Study (meets over Zoom)
DESCRIPTION:Early risers – join us online for a time of study and discussion. Email Pastor Michael for the Zoom link.
URL:https://fmc-cu.org/event/early-morning-bible-study-meets-over-zoom-2-2-2/2025-08-13/
LOCATION:Zoom
CATEGORIES:Bible Study & Prayer
ORGANIZER;CN="Pastor Michael Crosby":MAILTO:michael.crosby@fmc-cu.org
END:VEVENT
BEGIN:VEVENT
DTSTART;TZID=America/Chicago:20250811T183000
DTEND;TZID=America/Chicago:20250811T203000
DTSTAMP:20260425T054907
CREATED:20250326T154537Z
LAST-MODIFIED:20250806T150854Z
UID:10003259-1754937000-1754944200@fmc-cu.org
SUMMARY:Monday Spiritual Direction Group
DESCRIPTION:4-6 people meet the several Tuesdays each month for prayer\, sharing\, Lectio Divina and a short silence. Meeting times and days are decided by the group. New groups are formed each September. \nIn person & on Zoom.
URL:https://fmc-cu.org/event/monday-spiritual-direction-group/2025-08-11/
LOCATION:First Mennonite Church\, 902 W Springfield Ave\, Urbana\, IL\, 61801\, United States
CATEGORIES:Spiritual Direction Groups
ORGANIZER;CN="Associate Pastor Deb Sutter":MAILTO:debra.sutter@fmc-cu.org
END:VEVENT
BEGIN:VEVENT
DTSTART;TZID=America/Chicago:20250805T130000
DTEND;TZID=America/Chicago:20250805T150000
DTSTAMP:20260425T054907
CREATED:20250204T191402Z
LAST-MODIFIED:20250307T194454Z
UID:10003070-1754398800-1754406000@fmc-cu.org
SUMMARY:Racial Justice Working Group (Hybrid)
DESCRIPTION:This group provides a space for anti-racism education\, advocacy\, and mutual accountability in our church and community. The group meeting is hybrid\, with in person members meeting in the FMC library.
URL:https://fmc-cu.org/event/racial-justice-working-group-2-2-2-2-2-2-2/2025-08-05/
LOCATION:Hybrid
CATEGORIES:FMC Meetings
ORGANIZER;CN="Pastor Michael Crosby":MAILTO:michael.crosby@fmc-cu.org
END:VEVENT
BEGIN:VEVENT
DTSTART;TZID=America/Chicago:20250731T173000
DTEND;TZID=America/Chicago:20250731T190000
DTSTAMP:20260425T054907
CREATED:20250626T191130Z
LAST-MODIFIED:20250626T191332Z
UID:10003227-1753983000-1753988400@fmc-cu.org
SUMMARY:All Church Book Discussion
DESCRIPTION:The Service & Outreach Committee hosts an FMC All-Church Read of Christ in the Rubble: Faith\, the Bible\, and the Genocide in Gaza by Munther Isaac\, a Palestinian and Lutheran pastor in the West Bank. As part of our commitment to learn and act on behalf of Palestine\, read the book then come to the open discussion at FMC on July 31. A bulk order ($25 suggested donation) will be placed on July 7; if you want a copy\, sign up no later than July 6.
URL:https://fmc-cu.org/event/all-church-book-discussion/
LOCATION:IL
CATEGORIES:FMC Events
END:VEVENT
BEGIN:VEVENT
DTSTART;TZID=America/Chicago:20250731T103000
DTEND;TZID=America/Chicago:20250731T120000
DTSTAMP:20260425T054907
CREATED:20250725T184714Z
LAST-MODIFIED:20250806T150743Z
UID:10003229-1753957800-1753963200@fmc-cu.org
SUMMARY:Friday Spiritual Direction Group (Meeting on Thurs. July 31 this month)
DESCRIPTION:4-6 people meet several times each month for prayer\, sharing\, Lectio Divina and a short silence. Meeting times and days are decided by the group. New groups are formed each September. \nThe group meets in person & on Zoom.
URL:https://fmc-cu.org/event/friday-spiritual-direction-group-3/2025-07-31/
LOCATION:First Mennonite Church\, 902 W Springfield Ave\, Urbana\, IL\, 61801\, United States
CATEGORIES:FMC Meetings
ORGANIZER;CN="Associate Pastor Deb Sutter":MAILTO:debra.sutter@fmc-cu.org
END:VEVENT
BEGIN:VEVENT
DTSTART;TZID=America/Chicago:20250730T080000
DTEND;TZID=America/Chicago:20250730T093000
DTSTAMP:20260425T054907
CREATED:20250128T195323Z
LAST-MODIFIED:20250729T191913Z
UID:10002667-1753862400-1753867800@fmc-cu.org
SUMMARY:Wednesday Morning Zoom Bible Study (meets over Zoom)
DESCRIPTION:Early risers – join us online for a time of study and discussion. Email Pastor Michael for the Zoom link.
URL:https://fmc-cu.org/event/early-morning-bible-study-meets-over-zoom-2-2-2/2025-07-30/
LOCATION:Zoom
CATEGORIES:Bible Study & Prayer
ORGANIZER;CN="Pastor Michael Crosby":MAILTO:michael.crosby@fmc-cu.org
END:VEVENT
END:VCALENDAR