BEGIN:VCALENDAR
VERSION:2.0
PRODID:-//First Mennonite Church of Champaign-Urbana - ECPv6.15.20//NONSGML v1.0//EN
CALSCALE:GREGORIAN
METHOD:PUBLISH
X-ORIGINAL-URL:https://fmc-cu.org
X-WR-CALDESC:Events for First Mennonite Church of Champaign-Urbana
REFRESH-INTERVAL;VALUE=DURATION:PT1H
X-Robots-Tag:noindex
X-PUBLISHED-TTL:PT1H
BEGIN:VTIMEZONE
TZID:America/Chicago
BEGIN:DAYLIGHT
TZOFFSETFROM:-0600
TZOFFSETTO:-0500
TZNAME:CDT
DTSTART:20280312T080000
END:DAYLIGHT
BEGIN:STANDARD
TZOFFSETFROM:-0500
TZOFFSETTO:-0600
TZNAME:CST
DTSTART:20281105T070000
END:STANDARD
BEGIN:DAYLIGHT
TZOFFSETFROM:-0600
TZOFFSETTO:-0500
TZNAME:CDT
DTSTART:20290311T080000
END:DAYLIGHT
BEGIN:STANDARD
TZOFFSETFROM:-0500
TZOFFSETTO:-0600
TZNAME:CST
DTSTART:20291104T070000
END:STANDARD
BEGIN:DAYLIGHT
TZOFFSETFROM:-0600
TZOFFSETTO:-0500
TZNAME:CDT
DTSTART:20300310T080000
END:DAYLIGHT
BEGIN:STANDARD
TZOFFSETFROM:-0500
TZOFFSETTO:-0600
TZNAME:CST
DTSTART:20301103T070000
END:STANDARD
BEGIN:DAYLIGHT
TZOFFSETFROM:-0600
TZOFFSETTO:-0500
TZNAME:CDT
DTSTART:20310309T080000
END:DAYLIGHT
BEGIN:STANDARD
TZOFFSETFROM:-0500
TZOFFSETTO:-0600
TZNAME:CST
DTSTART:20311102T070000
END:STANDARD
END:VTIMEZONE
BEGIN:VEVENT
DTSTART;VALUE=DATE:20290527
DTEND;VALUE=DATE:20290528
DTSTAMP:20260423T231024
CREATED:20230613T193931Z
LAST-MODIFIED:20250806T151019Z
UID:10002539-1874534400-1874620799@fmc-cu.org
SUMMARY:Vine Newsletter - submission deadline
DESCRIPTION:The Vine is the newsletter of First Mennonite Church. Submissions should be emailed to the current editor\, Cindi Schieber.
URL:https://fmc-cu.org/event/vine-newsletter-submission-deadline-2/2029-05-27/
LOCATION:IL
CATEGORIES:FMC Events
ORGANIZER;CN="FMC Office":MAILTO:office@fmc-cu.org
END:VEVENT
BEGIN:VEVENT
DTSTART;VALUE=DATE:20290624
DTEND;VALUE=DATE:20290625
DTSTAMP:20260423T231024
CREATED:20230613T193931Z
LAST-MODIFIED:20250806T151019Z
UID:10003262-1876953600-1877039999@fmc-cu.org
SUMMARY:Vine Newsletter - submission deadline
DESCRIPTION:The Vine is the newsletter of First Mennonite Church. Submissions should be emailed to the current editor\, Cindi Schieber.
URL:https://fmc-cu.org/event/vine-newsletter-submission-deadline-2/2029-06-24/
LOCATION:IL
CATEGORIES:FMC Events
ORGANIZER;CN="FMC Office":MAILTO:office@fmc-cu.org
END:VEVENT
BEGIN:VEVENT
DTSTART;TZID=America/Chicago:20290629T150000
DTEND;TZID=America/Chicago:20290629T160000
DTSTAMP:20260423T231024
CREATED:20250729T191601Z
LAST-MODIFIED:20250729T191601Z
UID:10003251-1877439600-1877443200@fmc-cu.org
SUMMARY:Decolonial Worship-Zoom
DESCRIPTION:FMC is part of a Dismantling the Doctrine of Discovery Coalition of congregations that supports church communities in education\, solidarity and reparative action alongside Indigenous Peoples. The Coalition meets via Zoom each month for worship which focuses on the theme of healing and economic justice. A link is needed to attend.\n \n 
URL:https://fmc-cu.org/event/repair-network-prayer-action-hour-zoom-2-2-2/2029-06-29/
LOCATION:Zoom
CATEGORIES:Bible Study & Prayer
ORGANIZER;CN="Pastor Michael Crosby":MAILTO:michael.crosby@fmc-cu.org
END:VEVENT
BEGIN:VEVENT
DTSTART;VALUE=DATE:20290729
DTEND;VALUE=DATE:20290730
DTSTAMP:20260423T231024
CREATED:20230613T193931Z
LAST-MODIFIED:20250806T151019Z
UID:10003263-1879977600-1880063999@fmc-cu.org
SUMMARY:Vine Newsletter - submission deadline
DESCRIPTION:The Vine is the newsletter of First Mennonite Church. Submissions should be emailed to the current editor\, Cindi Schieber.
URL:https://fmc-cu.org/event/vine-newsletter-submission-deadline-2/2029-07-29/
LOCATION:IL
CATEGORIES:FMC Events
ORGANIZER;CN="FMC Office":MAILTO:office@fmc-cu.org
END:VEVENT
BEGIN:VEVENT
DTSTART;VALUE=DATE:20290826
DTEND;VALUE=DATE:20290827
DTSTAMP:20260423T231024
CREATED:20230613T193931Z
LAST-MODIFIED:20250806T151019Z
UID:10003264-1882396800-1882483199@fmc-cu.org
SUMMARY:Vine Newsletter - submission deadline
DESCRIPTION:The Vine is the newsletter of First Mennonite Church. Submissions should be emailed to the current editor\, Cindi Schieber.
URL:https://fmc-cu.org/event/vine-newsletter-submission-deadline-2/2029-08-26/
LOCATION:IL
CATEGORIES:FMC Events
ORGANIZER;CN="FMC Office":MAILTO:office@fmc-cu.org
END:VEVENT
BEGIN:VEVENT
DTSTART;TZID=America/Chicago:20290831T150000
DTEND;TZID=America/Chicago:20290831T160000
DTSTAMP:20260423T231024
CREATED:20250729T191601Z
LAST-MODIFIED:20250729T191601Z
UID:10003252-1882882800-1882886400@fmc-cu.org
SUMMARY:Decolonial Worship-Zoom
DESCRIPTION:FMC is part of a Dismantling the Doctrine of Discovery Coalition of congregations that supports church communities in education\, solidarity and reparative action alongside Indigenous Peoples. The Coalition meets via Zoom each month for worship which focuses on the theme of healing and economic justice. A link is needed to attend.\n \n 
URL:https://fmc-cu.org/event/repair-network-prayer-action-hour-zoom-2-2-2/2029-08-31/
LOCATION:Zoom
CATEGORIES:Bible Study & Prayer
ORGANIZER;CN="Pastor Michael Crosby":MAILTO:michael.crosby@fmc-cu.org
END:VEVENT
BEGIN:VEVENT
DTSTART;VALUE=DATE:20290930
DTEND;VALUE=DATE:20291001
DTSTAMP:20260423T231024
CREATED:20230613T193931Z
LAST-MODIFIED:20250806T151019Z
UID:10003265-1885420800-1885507199@fmc-cu.org
SUMMARY:Vine Newsletter - submission deadline
DESCRIPTION:The Vine is the newsletter of First Mennonite Church. Submissions should be emailed to the current editor\, Cindi Schieber.
URL:https://fmc-cu.org/event/vine-newsletter-submission-deadline-2/2029-09-30/
LOCATION:IL
CATEGORIES:FMC Events
ORGANIZER;CN="FMC Office":MAILTO:office@fmc-cu.org
END:VEVENT
BEGIN:VEVENT
DTSTART;VALUE=DATE:20291028
DTEND;VALUE=DATE:20291029
DTSTAMP:20260423T231024
CREATED:20230613T193931Z
LAST-MODIFIED:20250806T151019Z
UID:10003266-1887840000-1887926399@fmc-cu.org
SUMMARY:Vine Newsletter - submission deadline
DESCRIPTION:The Vine is the newsletter of First Mennonite Church. Submissions should be emailed to the current editor\, Cindi Schieber.
URL:https://fmc-cu.org/event/vine-newsletter-submission-deadline-2/2029-10-28/
LOCATION:IL
CATEGORIES:FMC Events
ORGANIZER;CN="FMC Office":MAILTO:office@fmc-cu.org
END:VEVENT
BEGIN:VEVENT
DTSTART;VALUE=DATE:20291125
DTEND;VALUE=DATE:20291126
DTSTAMP:20260423T231024
CREATED:20230613T193931Z
LAST-MODIFIED:20250806T151019Z
UID:10003267-1890259200-1890345599@fmc-cu.org
SUMMARY:Vine Newsletter - submission deadline
DESCRIPTION:The Vine is the newsletter of First Mennonite Church. Submissions should be emailed to the current editor\, Cindi Schieber.
URL:https://fmc-cu.org/event/vine-newsletter-submission-deadline-2/2029-11-25/
LOCATION:IL
CATEGORIES:FMC Events
ORGANIZER;CN="FMC Office":MAILTO:office@fmc-cu.org
END:VEVENT
BEGIN:VEVENT
DTSTART;TZID=America/Chicago:20291130T150000
DTEND;TZID=America/Chicago:20291130T160000
DTSTAMP:20260423T231024
CREATED:20250729T191601Z
LAST-MODIFIED:20250729T191601Z
UID:10003253-1890745200-1890748800@fmc-cu.org
SUMMARY:Decolonial Worship-Zoom
DESCRIPTION:FMC is part of a Dismantling the Doctrine of Discovery Coalition of congregations that supports church communities in education\, solidarity and reparative action alongside Indigenous Peoples. The Coalition meets via Zoom each month for worship which focuses on the theme of healing and economic justice. A link is needed to attend.\n \n 
URL:https://fmc-cu.org/event/repair-network-prayer-action-hour-zoom-2-2-2/2029-11-30/
LOCATION:Zoom
CATEGORIES:Bible Study & Prayer
ORGANIZER;CN="Pastor Michael Crosby":MAILTO:michael.crosby@fmc-cu.org
END:VEVENT
BEGIN:VEVENT
DTSTART;VALUE=DATE:20291230
DTEND;VALUE=DATE:20291231
DTSTAMP:20260423T231024
CREATED:20230613T193931Z
LAST-MODIFIED:20250806T151019Z
UID:10003268-1893283200-1893369599@fmc-cu.org
SUMMARY:Vine Newsletter - submission deadline
DESCRIPTION:The Vine is the newsletter of First Mennonite Church. Submissions should be emailed to the current editor\, Cindi Schieber.
URL:https://fmc-cu.org/event/vine-newsletter-submission-deadline-2/2029-12-30/
LOCATION:IL
CATEGORIES:FMC Events
ORGANIZER;CN="FMC Office":MAILTO:office@fmc-cu.org
END:VEVENT
BEGIN:VEVENT
DTSTART;VALUE=DATE:20300127
DTEND;VALUE=DATE:20300128
DTSTAMP:20260423T231024
CREATED:20230613T193931Z
LAST-MODIFIED:20250806T151019Z
UID:10003269-1895702400-1895788799@fmc-cu.org
SUMMARY:Vine Newsletter - submission deadline
DESCRIPTION:The Vine is the newsletter of First Mennonite Church. Submissions should be emailed to the current editor\, Cindi Schieber.
URL:https://fmc-cu.org/event/vine-newsletter-submission-deadline-2/2030-01-27/
LOCATION:IL
CATEGORIES:FMC Events
ORGANIZER;CN="FMC Office":MAILTO:office@fmc-cu.org
END:VEVENT
BEGIN:VEVENT
DTSTART;VALUE=DATE:20300224
DTEND;VALUE=DATE:20300225
DTSTAMP:20260423T231024
CREATED:20230613T193931Z
LAST-MODIFIED:20250806T151019Z
UID:10003270-1898121600-1898207999@fmc-cu.org
SUMMARY:Vine Newsletter - submission deadline
DESCRIPTION:The Vine is the newsletter of First Mennonite Church. Submissions should be emailed to the current editor\, Cindi Schieber.
URL:https://fmc-cu.org/event/vine-newsletter-submission-deadline-2/2030-02-24/
LOCATION:IL
CATEGORIES:FMC Events
ORGANIZER;CN="FMC Office":MAILTO:office@fmc-cu.org
END:VEVENT
BEGIN:VEVENT
DTSTART;TZID=America/Chicago:20300329T150000
DTEND;TZID=America/Chicago:20300329T160000
DTSTAMP:20260423T231024
CREATED:20250729T191601Z
LAST-MODIFIED:20250729T191601Z
UID:10003254-1901026800-1901030400@fmc-cu.org
SUMMARY:Decolonial Worship-Zoom
DESCRIPTION:FMC is part of a Dismantling the Doctrine of Discovery Coalition of congregations that supports church communities in education\, solidarity and reparative action alongside Indigenous Peoples. The Coalition meets via Zoom each month for worship which focuses on the theme of healing and economic justice. A link is needed to attend.\n \n 
URL:https://fmc-cu.org/event/repair-network-prayer-action-hour-zoom-2-2-2/2030-03-29/
LOCATION:Zoom
CATEGORIES:Bible Study & Prayer
ORGANIZER;CN="Pastor Michael Crosby":MAILTO:michael.crosby@fmc-cu.org
END:VEVENT
BEGIN:VEVENT
DTSTART;VALUE=DATE:20300331
DTEND;VALUE=DATE:20300401
DTSTAMP:20260423T231024
CREATED:20230613T193931Z
LAST-MODIFIED:20250806T151019Z
UID:10003271-1901145600-1901231999@fmc-cu.org
SUMMARY:Vine Newsletter - submission deadline
DESCRIPTION:The Vine is the newsletter of First Mennonite Church. Submissions should be emailed to the current editor\, Cindi Schieber.
URL:https://fmc-cu.org/event/vine-newsletter-submission-deadline-2/2030-03-31/
LOCATION:IL
CATEGORIES:FMC Events
ORGANIZER;CN="FMC Office":MAILTO:office@fmc-cu.org
END:VEVENT
BEGIN:VEVENT
DTSTART;VALUE=DATE:20300428
DTEND;VALUE=DATE:20300429
DTSTAMP:20260423T231024
CREATED:20230613T193931Z
LAST-MODIFIED:20250806T151019Z
UID:10003272-1903564800-1903651199@fmc-cu.org
SUMMARY:Vine Newsletter - submission deadline
DESCRIPTION:The Vine is the newsletter of First Mennonite Church. Submissions should be emailed to the current editor\, Cindi Schieber.
URL:https://fmc-cu.org/event/vine-newsletter-submission-deadline-2/2030-04-28/
LOCATION:IL
CATEGORIES:FMC Events
ORGANIZER;CN="FMC Office":MAILTO:office@fmc-cu.org
END:VEVENT
BEGIN:VEVENT
DTSTART;VALUE=DATE:20300526
DTEND;VALUE=DATE:20300527
DTSTAMP:20260423T231024
CREATED:20230613T193931Z
LAST-MODIFIED:20250806T151019Z
UID:10003273-1905984000-1906070399@fmc-cu.org
SUMMARY:Vine Newsletter - submission deadline
DESCRIPTION:The Vine is the newsletter of First Mennonite Church. Submissions should be emailed to the current editor\, Cindi Schieber.
URL:https://fmc-cu.org/event/vine-newsletter-submission-deadline-2/2030-05-26/
LOCATION:IL
CATEGORIES:FMC Events
ORGANIZER;CN="FMC Office":MAILTO:office@fmc-cu.org
END:VEVENT
BEGIN:VEVENT
DTSTART;TZID=America/Chicago:20300531T150000
DTEND;TZID=America/Chicago:20300531T160000
DTSTAMP:20260423T231024
CREATED:20250729T191601Z
LAST-MODIFIED:20250729T191601Z
UID:10003255-1906470000-1906473600@fmc-cu.org
SUMMARY:Decolonial Worship-Zoom
DESCRIPTION:FMC is part of a Dismantling the Doctrine of Discovery Coalition of congregations that supports church communities in education\, solidarity and reparative action alongside Indigenous Peoples. The Coalition meets via Zoom each month for worship which focuses on the theme of healing and economic justice. A link is needed to attend.\n \n 
URL:https://fmc-cu.org/event/repair-network-prayer-action-hour-zoom-2-2-2/2030-05-31/
LOCATION:Zoom
CATEGORIES:Bible Study & Prayer
ORGANIZER;CN="Pastor Michael Crosby":MAILTO:michael.crosby@fmc-cu.org
END:VEVENT
BEGIN:VEVENT
DTSTART;VALUE=DATE:20300630
DTEND;VALUE=DATE:20300701
DTSTAMP:20260423T231024
CREATED:20230613T193931Z
LAST-MODIFIED:20250806T151019Z
UID:10003274-1909008000-1909094399@fmc-cu.org
SUMMARY:Vine Newsletter - submission deadline
DESCRIPTION:The Vine is the newsletter of First Mennonite Church. Submissions should be emailed to the current editor\, Cindi Schieber.
URL:https://fmc-cu.org/event/vine-newsletter-submission-deadline-2/2030-06-30/
LOCATION:IL
CATEGORIES:FMC Events
ORGANIZER;CN="FMC Office":MAILTO:office@fmc-cu.org
END:VEVENT
BEGIN:VEVENT
DTSTART;VALUE=DATE:20300728
DTEND;VALUE=DATE:20300729
DTSTAMP:20260423T231024
CREATED:20230613T193931Z
LAST-MODIFIED:20250806T151019Z
UID:10003275-1911427200-1911513599@fmc-cu.org
SUMMARY:Vine Newsletter - submission deadline
DESCRIPTION:The Vine is the newsletter of First Mennonite Church. Submissions should be emailed to the current editor\, Cindi Schieber.
URL:https://fmc-cu.org/event/vine-newsletter-submission-deadline-2/2030-07-28/
LOCATION:IL
CATEGORIES:FMC Events
ORGANIZER;CN="FMC Office":MAILTO:office@fmc-cu.org
END:VEVENT
END:VCALENDAR