BEGIN:VCALENDAR
VERSION:2.0
PRODID:-//First Mennonite Church of Champaign-Urbana - ECPv6.15.20//NONSGML v1.0//EN
CALSCALE:GREGORIAN
METHOD:PUBLISH
X-WR-CALNAME:First Mennonite Church of Champaign-Urbana
X-ORIGINAL-URL:https://fmc-cu.org
X-WR-CALDESC:Events for First Mennonite Church of Champaign-Urbana
REFRESH-INTERVAL;VALUE=DURATION:PT1H
X-Robots-Tag:noindex
X-PUBLISHED-TTL:PT1H
BEGIN:VTIMEZONE
TZID:America/Chicago
BEGIN:DAYLIGHT
TZOFFSETFROM:-0600
TZOFFSETTO:-0500
TZNAME:CDT
DTSTART:20240310T080000
END:DAYLIGHT
BEGIN:STANDARD
TZOFFSETFROM:-0500
TZOFFSETTO:-0600
TZNAME:CST
DTSTART:20241103T070000
END:STANDARD
BEGIN:DAYLIGHT
TZOFFSETFROM:-0600
TZOFFSETTO:-0500
TZNAME:CDT
DTSTART:20250309T080000
END:DAYLIGHT
BEGIN:STANDARD
TZOFFSETFROM:-0500
TZOFFSETTO:-0600
TZNAME:CST
DTSTART:20251102T070000
END:STANDARD
BEGIN:DAYLIGHT
TZOFFSETFROM:-0600
TZOFFSETTO:-0500
TZNAME:CDT
DTSTART:20260308T080000
END:DAYLIGHT
BEGIN:STANDARD
TZOFFSETFROM:-0500
TZOFFSETTO:-0600
TZNAME:CST
DTSTART:20261101T070000
END:STANDARD
BEGIN:DAYLIGHT
TZOFFSETFROM:-0600
TZOFFSETTO:-0500
TZNAME:CDT
DTSTART:20270314T080000
END:DAYLIGHT
BEGIN:STANDARD
TZOFFSETFROM:-0500
TZOFFSETTO:-0600
TZNAME:CST
DTSTART:20271107T070000
END:STANDARD
END:VTIMEZONE
BEGIN:VEVENT
DTSTART;TZID=America/Chicago:20260130T150000
DTEND;TZID=America/Chicago:20260130T160000
DTSTAMP:20260420T144653
CREATED:20250729T191601Z
LAST-MODIFIED:20250729T191601Z
UID:10003237-1769785200-1769788800@fmc-cu.org
SUMMARY:Decolonial Worship-Zoom
DESCRIPTION:FMC is part of a Dismantling the Doctrine of Discovery Coalition of congregations that supports church communities in education\, solidarity and reparative action alongside Indigenous Peoples. The Coalition meets via Zoom each month for worship which focuses on the theme of healing and economic justice. A link is needed to attend.\n \n 
URL:https://fmc-cu.org/event/repair-network-prayer-action-hour-zoom-2-2-2/2026-01-30/
LOCATION:Zoom
CATEGORIES:Bible Study & Prayer
ORGANIZER;CN="Pastor Michael Crosby":MAILTO:michael.crosby@fmc-cu.org
END:VEVENT
BEGIN:VEVENT
DTSTART;TZID=America/Chicago:20260129T093000
DTEND;TZID=America/Chicago:20260129T113000
DTSTAMP:20260420T144653
CREATED:20260120T212653Z
LAST-MODIFIED:20260325T161855Z
UID:10003459-1769679000-1769686200@fmc-cu.org
SUMMARY:Thursday Morning Bible Study
DESCRIPTION:Join us for a time of study\, sharing and prayer.  Pastor Deb will facilitate a study of the book Prone to Wander: A Lenten Journey with Women in the Wilderness. All are welcome to attend.
URL:https://fmc-cu.org/event/thursday-morning-bible-study-2022-01-20-2-2-3-3-2/2026-01-29/
LOCATION:FMC Library\, 902 W Springfield Ave\, Urbana\, 61801
CATEGORIES:Bible Study & Prayer
ORGANIZER;CN="Pastor Michael Crosby":MAILTO:michael.crosby@fmc-cu.org
END:VEVENT
BEGIN:VEVENT
DTSTART;TZID=America/Chicago:20260128T080000
DTEND;TZID=America/Chicago:20260128T093000
DTSTAMP:20260420T144653
CREATED:20260104T173732Z
LAST-MODIFIED:20260104T173813Z
UID:10003539-1769587200-1769592600@fmc-cu.org
SUMMARY:Wednesday Morning Zoom Bible Study (meets over Zoom)
DESCRIPTION:Early risers – join us online for a time of study and discussion. Email Pastor Michael for the Zoom link.
URL:https://fmc-cu.org/event/early-morning-bible-study-meets-over-zoom-2-2-2-2/2026-01-28/
LOCATION:Zoom
CATEGORIES:Bible Study & Prayer
ORGANIZER;CN="Pastor Michael Crosby":MAILTO:michael.crosby@fmc-cu.org
END:VEVENT
BEGIN:VEVENT
DTSTART;TZID=America/Chicago:20260125T153000
DTEND;TZID=America/Chicago:20260125T170000
DTSTAMP:20260420T144653
CREATED:20250822T172033Z
LAST-MODIFIED:20260218T195358Z
UID:10003570-1769355000-1769360400@fmc-cu.org
SUMMARY:Sunday Afternoon Spiritual Direction Group
DESCRIPTION:4-6 people meet several times each month for prayer\, sharing\, Lectio Divina and a short silence. Meeting times and days are decided by the group. New groups are formed each September. \nThe group meets in person & on Zoom.
URL:https://fmc-cu.org/event/sunday-afternoon-spiritual-direction-group-2/2026-01-25/
LOCATION:FMC Library\, 902 W Springfield Ave\, Urbana\, 61801
CATEGORIES:Spiritual Direction Groups
ORGANIZER;CN="Associate Pastor Deb Sutter":MAILTO:debra.sutter@fmc-cu.org
END:VEVENT
BEGIN:VEVENT
DTSTART;TZID=America/Chicago:20260125T091500
DTEND;TZID=America/Chicago:20260125T120000
DTSTAMP:20260420T144653
CREATED:20260104T173606Z
LAST-MODIFIED:20260104T173606Z
UID:10003533-1769332500-1769342400@fmc-cu.org
SUMMARY:Sunday Morning Worship
DESCRIPTION:Join us for worship at 9:15 am in-person or online.  We welcome\, without exclusion all who seek God’s love and grace! \nOur Winter children’s offering is to help MCC’s relief work. \nSunday school classes for all ages begin at 11:15 am.
URL:https://fmc-cu.org/event/sunday-morning-worship-2/2026-01-25/
LOCATION:First Mennonite Church\, 902 W Springfield Ave\, Urbana\, IL\, 61801\, United States
CATEGORIES:Sunday Mornings
ORGANIZER;CN="FMC Office":MAILTO:office@fmc-cu.org
END:VEVENT
BEGIN:VEVENT
DTSTART;VALUE=DATE:20260125
DTEND;VALUE=DATE:20260126
DTSTAMP:20260420T144653
CREATED:20230613T193931Z
LAST-MODIFIED:20250806T151019Z
UID:10001813-1769299200-1769385599@fmc-cu.org
SUMMARY:Vine Newsletter - submission deadline
DESCRIPTION:The Vine is the newsletter of First Mennonite Church. Submissions should be emailed to the current editor\, Cindi Schieber.
URL:https://fmc-cu.org/event/vine-newsletter-submission-deadline-2/2026-01-25/
LOCATION:IL
CATEGORIES:FMC Events
ORGANIZER;CN="FMC Office":MAILTO:office@fmc-cu.org
END:VEVENT
BEGIN:VEVENT
DTSTART;TZID=America/Chicago:20260124T110000
DTEND;TZID=America/Chicago:20260124T150000
DTSTAMP:20260420T144653
CREATED:20240213T205010Z
LAST-MODIFIED:20260120T175511Z
UID:10002363-1769252400-1769266800@fmc-cu.org
SUMMARY:FMC downstairs reserved for private event
DESCRIPTION:Crawford family.
URL:https://fmc-cu.org/event/fmc-reserved-for-private-event/
LOCATION:First Mennonite Church\, 902 W Springfield Ave\, Urbana\, IL\, 61801\, United States
CATEGORIES:Private Events (reserved)
ORGANIZER;CN="FMC Office":MAILTO:office@fmc-cu.org
END:VEVENT
BEGIN:VEVENT
DTSTART;TZID=America/Chicago:20260122T093000
DTEND;TZID=America/Chicago:20260122T113000
DTSTAMP:20260420T144653
CREATED:20260120T212653Z
LAST-MODIFIED:20260325T161855Z
UID:10003458-1769074200-1769081400@fmc-cu.org
SUMMARY:Thursday Morning Bible Study
DESCRIPTION:Join us for a time of study\, sharing and prayer.  Pastor Deb will facilitate a study of the book Prone to Wander: A Lenten Journey with Women in the Wilderness. All are welcome to attend.
URL:https://fmc-cu.org/event/thursday-morning-bible-study-2022-01-20-2-2-3-3-2/2026-01-22/
LOCATION:FMC Library\, 902 W Springfield Ave\, Urbana\, 61801
CATEGORIES:Bible Study & Prayer
ORGANIZER;CN="Pastor Michael Crosby":MAILTO:michael.crosby@fmc-cu.org
END:VEVENT
BEGIN:VEVENT
DTSTART;TZID=America/Chicago:20260121T080000
DTEND;TZID=America/Chicago:20260121T093000
DTSTAMP:20260420T144653
CREATED:20260104T173732Z
LAST-MODIFIED:20260104T173813Z
UID:10003538-1768982400-1768987800@fmc-cu.org
SUMMARY:Wednesday Morning Zoom Bible Study (meets over Zoom)
DESCRIPTION:Early risers – join us online for a time of study and discussion. Email Pastor Michael for the Zoom link.
URL:https://fmc-cu.org/event/early-morning-bible-study-meets-over-zoom-2-2-2-2/2026-01-21/
LOCATION:Zoom
CATEGORIES:Bible Study & Prayer
ORGANIZER;CN="Pastor Michael Crosby":MAILTO:michael.crosby@fmc-cu.org
END:VEVENT
BEGIN:VEVENT
DTSTART;TZID=America/Chicago:20260118T091500
DTEND;TZID=America/Chicago:20260118T120000
DTSTAMP:20260420T144653
CREATED:20260104T173606Z
LAST-MODIFIED:20260104T173606Z
UID:10003532-1768727700-1768737600@fmc-cu.org
SUMMARY:Sunday Morning Worship
DESCRIPTION:Join us for worship at 9:15 am in-person or online.  We welcome\, without exclusion all who seek God’s love and grace! \nOur Winter children’s offering is to help MCC’s relief work. \nSunday school classes for all ages begin at 11:15 am.
URL:https://fmc-cu.org/event/sunday-morning-worship-2/2026-01-18/
LOCATION:First Mennonite Church\, 902 W Springfield Ave\, Urbana\, IL\, 61801\, United States
CATEGORIES:Sunday Mornings
ORGANIZER;CN="FMC Office":MAILTO:office@fmc-cu.org
END:VEVENT
BEGIN:VEVENT
DTSTART;TZID=America/Chicago:20260115T093000
DTEND;TZID=America/Chicago:20260115T113000
DTSTAMP:20260420T144653
CREATED:20251216T183317Z
LAST-MODIFIED:20260120T212424Z
UID:10003457-1768469400-1768476600@fmc-cu.org
SUMMARY:Thursday Morning Bible Study
DESCRIPTION:Join us for a time of study\, sharing and prayer.  Pastor Deb will facilitate a study of the book Prone to Wander: A Lenten Journey with Women in the Wilderness. All are welcome to attend.
URL:https://fmc-cu.org/event/thursday-morning-bible-study-2022-01-20-2-2-3-3/2026-01-15/
LOCATION:FMC Library\, 902 W Springfield Ave\, Urbana\, 61801
CATEGORIES:Bible Study & Prayer
ORGANIZER;CN="Pastor Michael Crosby":MAILTO:michael.crosby@fmc-cu.org
END:VEVENT
BEGIN:VEVENT
DTSTART;TZID=America/Chicago:20260114T180000
DTEND;TZID=America/Chicago:20260114T200000
DTSTAMP:20260420T144653
CREATED:20211216T173053Z
LAST-MODIFIED:20260104T173344Z
UID:10000941-1768413600-1768420800@fmc-cu.org
SUMMARY:FMC Joint Council Meeting
DESCRIPTION:The 2025/2026 Council members meet at 6 pm in the FMC fellowship hall.
URL:https://fmc-cu.org/event/fmc-joint-council-meeting/
LOCATION:First Mennonite Church\, 902 W Springfield Ave\, Urbana\, IL\, 61801\, United States
CATEGORIES:FMC Meetings
ORGANIZER;CN="FMC Office":MAILTO:office@fmc-cu.org
END:VEVENT
BEGIN:VEVENT
DTSTART;TZID=America/Chicago:20260114T080000
DTEND;TZID=America/Chicago:20260114T093000
DTSTAMP:20260420T144653
CREATED:20260104T173732Z
LAST-MODIFIED:20260104T173813Z
UID:10003537-1768377600-1768383000@fmc-cu.org
SUMMARY:Wednesday Morning Zoom Bible Study (meets over Zoom)
DESCRIPTION:Early risers – join us online for a time of study and discussion. Email Pastor Michael for the Zoom link.
URL:https://fmc-cu.org/event/early-morning-bible-study-meets-over-zoom-2-2-2-2/2026-01-14/
LOCATION:Zoom
CATEGORIES:Bible Study & Prayer
ORGANIZER;CN="Pastor Michael Crosby":MAILTO:michael.crosby@fmc-cu.org
END:VEVENT
BEGIN:VEVENT
DTSTART;TZID=America/Chicago:20260113T190000
DTEND;TZID=America/Chicago:20260113T203000
DTSTAMP:20260420T144653
CREATED:20251031T175722Z
LAST-MODIFIED:20260218T194500Z
UID:10003295-1768330800-1768336200@fmc-cu.org
SUMMARY:Worship Committee-Zoom
DESCRIPTION:This committee is responsible for nurturing the worship life of the congregation.
URL:https://fmc-cu.org/event/worship-committee-2/2026-01-13/
LOCATION:Zoom
CATEGORIES:FMC Meetings
END:VEVENT
BEGIN:VEVENT
DTSTART;TZID=America/Chicago:20260111T091500
DTEND;TZID=America/Chicago:20260111T120000
DTSTAMP:20260420T144653
CREATED:20260104T173606Z
LAST-MODIFIED:20260104T173606Z
UID:10003531-1768122900-1768132800@fmc-cu.org
SUMMARY:Sunday Morning Worship
DESCRIPTION:Join us for worship at 9:15 am in-person or online.  We welcome\, without exclusion all who seek God’s love and grace! \nOur Winter children’s offering is to help MCC’s relief work. \nSunday school classes for all ages begin at 11:15 am.
URL:https://fmc-cu.org/event/sunday-morning-worship-2/2026-01-11/
LOCATION:First Mennonite Church\, 902 W Springfield Ave\, Urbana\, IL\, 61801\, United States
CATEGORIES:Sunday Mornings
ORGANIZER;CN="FMC Office":MAILTO:office@fmc-cu.org
END:VEVENT
BEGIN:VEVENT
DTSTART;TZID=America/Chicago:20260108T093000
DTEND;TZID=America/Chicago:20260108T113000
DTSTAMP:20260420T144653
CREATED:20251216T183317Z
LAST-MODIFIED:20260120T212424Z
UID:10003006-1767864600-1767871800@fmc-cu.org
SUMMARY:Thursday Morning Bible Study
DESCRIPTION:Join us for a time of study\, sharing and prayer.  Pastor Deb will facilitate a study of the book Prone to Wander: A Lenten Journey with Women in the Wilderness. All are welcome to attend.
URL:https://fmc-cu.org/event/thursday-morning-bible-study-2022-01-20-2-2-3-3/2026-01-08/
LOCATION:FMC Library\, 902 W Springfield Ave\, Urbana\, 61801
CATEGORIES:Bible Study & Prayer
ORGANIZER;CN="Pastor Michael Crosby":MAILTO:michael.crosby@fmc-cu.org
END:VEVENT
BEGIN:VEVENT
DTSTART;TZID=America/Chicago:20260107T080000
DTEND;TZID=America/Chicago:20260107T093000
DTSTAMP:20260420T144653
CREATED:20260104T173732Z
LAST-MODIFIED:20260104T173813Z
UID:10002687-1767772800-1767778200@fmc-cu.org
SUMMARY:Wednesday Morning Zoom Bible Study (meets over Zoom)
DESCRIPTION:Early risers – join us online for a time of study and discussion. Email Pastor Michael for the Zoom link.
URL:https://fmc-cu.org/event/early-morning-bible-study-meets-over-zoom-2-2-2-2/2026-01-07/
LOCATION:Zoom
CATEGORIES:Bible Study & Prayer
ORGANIZER;CN="Pastor Michael Crosby":MAILTO:michael.crosby@fmc-cu.org
END:VEVENT
BEGIN:VEVENT
DTSTART;VALUE=DATE:20260107
DTEND;VALUE=DATE:20260108
DTSTAMP:20260420T144653
CREATED:20211216T175543Z
LAST-MODIFIED:20260104T173949Z
UID:10000133-1767744000-1767830399@fmc-cu.org
SUMMARY:2025 Annual Committee Reports due to FMC office
DESCRIPTION:Deadline for committee conveners to submit the annual committee report to the office\, in preparation for developing the annual reports document.
URL:https://fmc-cu.org/event/2021-annual-committee-reports-due-to-fmc-office/
LOCATION:IL
ORGANIZER;CN="FMC Office":MAILTO:office@fmc-cu.org
END:VEVENT
BEGIN:VEVENT
DTSTART;TZID=America/Chicago:20260106T130000
DTEND;TZID=America/Chicago:20260106T150000
DTSTAMP:20260420T144653
CREATED:20260104T174506Z
LAST-MODIFIED:20260218T194404Z
UID:10003074-1767704400-1767711600@fmc-cu.org
SUMMARY:Racial Justice Working Group (Hybrid)
DESCRIPTION:This group provides a space for anti-racism education\, advocacy\, and mutual accountability in our church and community. The group meeting is hybrid\, with in person members meeting in the FMC library.
URL:https://fmc-cu.org/event/racial-justice-working-group-2-2-2-2-2-2-2-2/2026-01-06/
LOCATION:Hybrid
CATEGORIES:FMC Meetings
ORGANIZER;CN="Pastor Michael Crosby":MAILTO:michael.crosby@fmc-cu.org
END:VEVENT
BEGIN:VEVENT
DTSTART;TZID=America/Chicago:20260104T150000
DTEND;TZID=America/Chicago:20260104T170000
DTSTAMP:20260420T144653
CREATED:20250822T172033Z
LAST-MODIFIED:20260218T195358Z
UID:10003233-1767538800-1767546000@fmc-cu.org
SUMMARY:Sunday Afternoon Spiritual Direction Group
DESCRIPTION:4-6 people meet several times each month for prayer\, sharing\, Lectio Divina and a short silence. Meeting times and days are decided by the group. New groups are formed each September. \nThe group meets in person & on Zoom.
URL:https://fmc-cu.org/event/sunday-afternoon-spiritual-direction-group-2/2026-01-04/
LOCATION:FMC Library\, 902 W Springfield Ave\, Urbana\, 61801
CATEGORIES:Spiritual Direction Groups
ORGANIZER;CN="Associate Pastor Deb Sutter":MAILTO:debra.sutter@fmc-cu.org
END:VEVENT
BEGIN:VEVENT
DTSTART;TZID=America/Chicago:20260104T091500
DTEND;TZID=America/Chicago:20260104T120000
DTSTAMP:20260420T144653
CREATED:20251216T184947Z
LAST-MODIFIED:20251216T185052Z
UID:10003526-1767518100-1767528000@fmc-cu.org
SUMMARY:Sunday Morning Worship
DESCRIPTION:EPIPHANY \n\nADVENT Series: Be Amazed! \nJoin us for worship at 9:15 am in-person or online.  We welcome\, without exclusion all who seek God’s love and grace! \nOur Winter children’s offering is to help MCC’s relief work. \nSunday school classes for all ages begin at 11:15 am.
URL:https://fmc-cu.org/event/sunday-morning-worship/
LOCATION:IL
END:VEVENT
BEGIN:VEVENT
DTSTART;TZID=America/Chicago:20260102T103000
DTEND;TZID=America/Chicago:20260102T120000
DTSTAMP:20260420T144653
CREATED:20250417T191656Z
LAST-MODIFIED:20260218T200346Z
UID:10003557-1767349800-1767355200@fmc-cu.org
SUMMARY:Friday Spiritual Direction Group
DESCRIPTION:4-6 people meet several times each month for prayer\, sharing\, Lectio Divina and a short silence. Meeting times and days are decided by the group. New groups are formed each September. \nThe group meets in person & on Zoom.
URL:https://fmc-cu.org/event/friday-spiritual-direction-group-2/2026-01-02/
LOCATION:First Mennonite Church\, 902 W Springfield Ave\, Urbana\, IL\, 61801\, United States
CATEGORIES:Spiritual Direction Groups
ORGANIZER;CN="Associate Pastor Deb Sutter":MAILTO:debra.sutter@fmc-cu.org
END:VEVENT
BEGIN:VEVENT
DTSTART;TZID=America/Chicago:20251228T100000
DTEND;TZID=America/Chicago:20251228T113000
DTSTAMP:20260420T144653
CREATED:20210402T205309Z
LAST-MODIFIED:20251107T192808Z
UID:10000354-1766916000-1766921400@fmc-cu.org
SUMMARY:Sunday Mornings at FMC
DESCRIPTION:CHRISTMAS SUNDAY \nTheme: Be Amazed! \nJoin us for worship at 10 am today live in the sanctuary or online.  We welcome\, without exclusion all who seek God’s love and grace! \nOur current children’s offering benefits the Mennonite Central Committee’s crisis response in Gaza. \nNO SUNDAY SCHOOL TODAY.
URL:https://fmc-cu.org/event/sunday-mornings-2021-11-21-2022-12-25/
LOCATION:First Mennonite Church\, 902 W Springfield Ave\, Urbana\, IL\, 61801\, United States
CATEGORIES:Sunday Mornings
ORGANIZER;CN="FMC Office":MAILTO:office@fmc-cu.org
END:VEVENT
BEGIN:VEVENT
DTSTART;VALUE=DATE:20251228
DTEND;VALUE=DATE:20251229
DTSTAMP:20260420T144653
CREATED:20230613T193931Z
LAST-MODIFIED:20250806T151019Z
UID:10001812-1766880000-1766966399@fmc-cu.org
SUMMARY:Vine Newsletter - submission deadline
DESCRIPTION:The Vine is the newsletter of First Mennonite Church. Submissions should be emailed to the current editor\, Cindi Schieber.
URL:https://fmc-cu.org/event/vine-newsletter-submission-deadline-2/2025-12-28/
LOCATION:IL
CATEGORIES:FMC Events
ORGANIZER;CN="FMC Office":MAILTO:office@fmc-cu.org
END:VEVENT
BEGIN:VEVENT
DTSTART;VALUE=DATE:20251225
DTEND;VALUE=DATE:20251227
DTSTAMP:20260420T144653
CREATED:20241205T202615Z
LAST-MODIFIED:20251112T182411Z
UID:10002985-1766620800-1766793599@fmc-cu.org
SUMMARY:FMC Office Closed
DESCRIPTION:
URL:https://fmc-cu.org/event/christmas-day-office-closed/
LOCATION:IL
END:VEVENT
BEGIN:VEVENT
DTSTART;TZID=America/Chicago:20251224T183000
DTEND;TZID=America/Chicago:20251224T193000
DTSTAMP:20260420T144653
CREATED:20211217T202419Z
LAST-MODIFIED:20251107T192230Z
UID:10000134-1766601000-1766604600@fmc-cu.org
SUMMARY:Christmas Eve Candlelight Service
DESCRIPTION:Join us at 6:30 pm in-person or online for a Christmas Eve Candlelight Service.
URL:https://fmc-cu.org/event/christmas-eve-candlelight-service-2/
LOCATION:First Mennonite Church\, 902 W Springfield Ave\, Urbana\, IL\, 61801\, United States
CATEGORIES:FMC Events
ORGANIZER;CN="FMC Office":MAILTO:office@fmc-cu.org
END:VEVENT
BEGIN:VEVENT
DTSTART;TZID=America/Chicago:20251221T091500
DTEND;TZID=America/Chicago:20251221T120000
DTSTAMP:20260420T144653
CREATED:20251107T192521Z
LAST-MODIFIED:20251107T192521Z
UID:10003446-1766308500-1766318400@fmc-cu.org
SUMMARY:Sunday Mornings During Advent
DESCRIPTION:ADVENT Series: Be Amazed! \nJoin us for worship at 9:15 am in-person or online.  We welcome\, without exclusion all who seek God’s love and grace! \nOur Winter children’s offering is to help MCC’s relief work. \nSunday school classes for all ages begin at 11:15 am.
URL:https://fmc-cu.org/event/sunday-mornings-during-advent/2025-12-21/
LOCATION:First Mennonite Church\, 902 W Springfield Ave\, Urbana\, IL\, 61801\, United States
CATEGORIES:Sunday Mornings
ORGANIZER;CN="FMC Office":MAILTO:office@fmc-cu.org
END:VEVENT
BEGIN:VEVENT
DTSTART;TZID=America/Chicago:20251220T103000
DTEND;TZID=America/Chicago:20251220T113000
DTSTAMP:20260420T144653
CREATED:20251126T195630Z
LAST-MODIFIED:20251126T195636Z
UID:10002009-1766226600-1766230200@fmc-cu.org
SUMMARY:Women's ensemble rehearsal
DESCRIPTION:Women’s ensemble will rehears on December 20 at 10:30 am in preparation for singing during the service on December 21. The rehearsal will be in the sanctuary.
URL:https://fmc-cu.org/event/choir-rehearsal-2022-12-10-2/
LOCATION:First Mennonite Church\, 902 W Springfield Ave\, Urbana\, IL\, 61801\, United States
ORGANIZER;CN="Associate Pastor Deb Sutter":MAILTO:debra.sutter@fmc-cu.org
END:VEVENT
BEGIN:VEVENT
DTSTART;TZID=America/Chicago:20251216T173000
DTEND;TZID=America/Chicago:20251216T193000
DTSTAMP:20260420T144653
CREATED:20240529T180214Z
LAST-MODIFIED:20250103T163528Z
UID:10002517-1765906200-1765913400@fmc-cu.org
SUMMARY:Taco Tuesday (3rd Tuesday of each month)
DESCRIPTION:Attendees meet for fellowship and a taco dinner. People sign up to help bring main items. Those not helping bring a main meal item are invited\, though not required\, to bring a topping to share. \n 
URL:https://fmc-cu.org/event/3rd-taco-thursday-2-2/2025-12-16/
LOCATION:First Mennonite Church\, 902 W Springfield Ave\, Urbana\, IL\, 61801\, United States
CATEGORIES:FMC Events
ORGANIZER;CN="Pastor Michael Crosby":MAILTO:michael.crosby@fmc-cu.org
END:VEVENT
BEGIN:VEVENT
DTSTART;TZID=America/Chicago:20251214T091500
DTEND;TZID=America/Chicago:20251214T120000
DTSTAMP:20260420T144653
CREATED:20251107T192521Z
LAST-MODIFIED:20251107T192521Z
UID:10003445-1765703700-1765713600@fmc-cu.org
SUMMARY:Sunday Mornings During Advent
DESCRIPTION:ADVENT Series: Be Amazed! \nJoin us for worship at 9:15 am in-person or online.  We welcome\, without exclusion all who seek God’s love and grace! \nOur Winter children’s offering is to help MCC’s relief work. \nSunday school classes for all ages begin at 11:15 am.
URL:https://fmc-cu.org/event/sunday-mornings-during-advent/2025-12-14/
LOCATION:First Mennonite Church\, 902 W Springfield Ave\, Urbana\, IL\, 61801\, United States
CATEGORIES:Sunday Mornings
ORGANIZER;CN="FMC Office":MAILTO:office@fmc-cu.org
END:VEVENT
END:VCALENDAR