BEGIN:VCALENDAR
VERSION:2.0
PRODID:-//First Mennonite Church of Champaign-Urbana - ECPv6.15.20//NONSGML v1.0//EN
CALSCALE:GREGORIAN
METHOD:PUBLISH
X-ORIGINAL-URL:https://fmc-cu.org
X-WR-CALDESC:Events for First Mennonite Church of Champaign-Urbana
REFRESH-INTERVAL;VALUE=DURATION:PT1H
X-Robots-Tag:noindex
X-PUBLISHED-TTL:PT1H
BEGIN:VTIMEZONE
TZID:America/Chicago
BEGIN:DAYLIGHT
TZOFFSETFROM:-0600
TZOFFSETTO:-0500
TZNAME:CDT
DTSTART:20220313T080000
END:DAYLIGHT
BEGIN:STANDARD
TZOFFSETFROM:-0500
TZOFFSETTO:-0600
TZNAME:CST
DTSTART:20221106T070000
END:STANDARD
BEGIN:DAYLIGHT
TZOFFSETFROM:-0600
TZOFFSETTO:-0500
TZNAME:CDT
DTSTART:20230312T080000
END:DAYLIGHT
BEGIN:STANDARD
TZOFFSETFROM:-0500
TZOFFSETTO:-0600
TZNAME:CST
DTSTART:20231105T070000
END:STANDARD
BEGIN:DAYLIGHT
TZOFFSETFROM:-0600
TZOFFSETTO:-0500
TZNAME:CDT
DTSTART:20240310T080000
END:DAYLIGHT
BEGIN:STANDARD
TZOFFSETFROM:-0500
TZOFFSETTO:-0600
TZNAME:CST
DTSTART:20241103T070000
END:STANDARD
END:VTIMEZONE
BEGIN:VEVENT
DTSTART;TZID=America/Chicago:20230509T133000
DTEND;TZID=America/Chicago:20230509T153000
DTSTAMP:20260421T064559
CREATED:20210922T151438Z
LAST-MODIFIED:20230110T192748Z
UID:10001424-1683639000-1683646200@fmc-cu.org
SUMMARY:Tuesday Spiritual Direction Group
DESCRIPTION:4-6 people meet the second and fourth Tuesdays of each month for prayer\, sharing\, Lectio Divina and a short silence. Meeting times and days are decided by the group. New groups are formed each September. \nIn person & on Zoom.
URL:https://fmc-cu.org/event/tuesday-spiritual-direction-group/2023-05-09/
LOCATION:IL
CATEGORIES:Spiritual Direction Groups
ORGANIZER;CN="Associate Pastor Deb Sutter":MAILTO:debra.sutter@fmc-cu.org
END:VEVENT
BEGIN:VEVENT
DTSTART;TZID=America/Chicago:20230504T183000
DTEND;TZID=America/Chicago:20230504T203000
DTSTAMP:20260421T064559
CREATED:20230110T200738Z
LAST-MODIFIED:20230301T181421Z
UID:10001513-1683225000-1683232200@fmc-cu.org
SUMMARY:Spiritual Direction Group-Hybrid
DESCRIPTION:4-6 people meet every other week for prayer\, sharing\, Lectio Divina and a short silence. Meeting times and days are decided by the group. New groups are formed each September. \nThe group meets in person & on Zoom.
URL:https://fmc-cu.org/event/spiritual-direction-groups-2021-08-03-2/2023-05-04/
LOCATION:FMC Library\, 902 W Springfield Ave\, Urbana\, 61801
CATEGORIES:Spiritual Direction Groups
ORGANIZER;CN="Associate Pastor Deb Sutter":MAILTO:debra.sutter@fmc-cu.org
END:VEVENT
BEGIN:VEVENT
DTSTART;TZID=America/Chicago:20230423T160000
DTEND;TZID=America/Chicago:20230423T180000
DTSTAMP:20260421T064559
CREATED:20230110T200738Z
LAST-MODIFIED:20230301T181421Z
UID:10001512-1682265600-1682272800@fmc-cu.org
SUMMARY:Spiritual Direction Group-Hybrid
DESCRIPTION:4-6 people meet every other week for prayer\, sharing\, Lectio Divina and a short silence. Meeting times and days are decided by the group. New groups are formed each September. \nThe group meets in person & on Zoom.
URL:https://fmc-cu.org/event/spiritual-direction-groups-2021-08-03-2/2023-04-23/
LOCATION:FMC Library\, 902 W Springfield Ave\, Urbana\, 61801
CATEGORIES:Spiritual Direction Groups
ORGANIZER;CN="Associate Pastor Deb Sutter":MAILTO:debra.sutter@fmc-cu.org
END:VEVENT
BEGIN:VEVENT
DTSTART;TZID=America/Chicago:20230413T183000
DTEND;TZID=America/Chicago:20230413T203000
DTSTAMP:20260421T064559
CREATED:20230110T200738Z
LAST-MODIFIED:20230301T181421Z
UID:10001511-1681410600-1681417800@fmc-cu.org
SUMMARY:Spiritual Direction Group-Hybrid
DESCRIPTION:4-6 people meet every other week for prayer\, sharing\, Lectio Divina and a short silence. Meeting times and days are decided by the group. New groups are formed each September. \nThe group meets in person & on Zoom.
URL:https://fmc-cu.org/event/spiritual-direction-groups-2021-08-03-2/2023-04-13/
LOCATION:FMC Library\, 902 W Springfield Ave\, Urbana\, 61801
CATEGORIES:Spiritual Direction Groups
ORGANIZER;CN="Associate Pastor Deb Sutter":MAILTO:debra.sutter@fmc-cu.org
END:VEVENT
BEGIN:VEVENT
DTSTART;TZID=America/Chicago:20230411T133000
DTEND;TZID=America/Chicago:20230411T153000
DTSTAMP:20260421T064559
CREATED:20210922T151438Z
LAST-MODIFIED:20230110T192748Z
UID:10001423-1681219800-1681227000@fmc-cu.org
SUMMARY:Tuesday Spiritual Direction Group
DESCRIPTION:4-6 people meet the second and fourth Tuesdays of each month for prayer\, sharing\, Lectio Divina and a short silence. Meeting times and days are decided by the group. New groups are formed each September. \nIn person & on Zoom.
URL:https://fmc-cu.org/event/tuesday-spiritual-direction-group/2023-04-11/
LOCATION:IL
CATEGORIES:Spiritual Direction Groups
ORGANIZER;CN="Associate Pastor Deb Sutter":MAILTO:debra.sutter@fmc-cu.org
END:VEVENT
BEGIN:VEVENT
DTSTART;TZID=America/Chicago:20230326T160000
DTEND;TZID=America/Chicago:20230326T180000
DTSTAMP:20260421T064559
CREATED:20230110T200738Z
LAST-MODIFIED:20230301T181421Z
UID:10001510-1679846400-1679853600@fmc-cu.org
SUMMARY:Spiritual Direction Group-Hybrid
DESCRIPTION:4-6 people meet every other week for prayer\, sharing\, Lectio Divina and a short silence. Meeting times and days are decided by the group. New groups are formed each September. \nThe group meets in person & on Zoom.
URL:https://fmc-cu.org/event/spiritual-direction-groups-2021-08-03-2/2023-03-26/
LOCATION:FMC Library\, 902 W Springfield Ave\, Urbana\, 61801
CATEGORIES:Spiritual Direction Groups
ORGANIZER;CN="Associate Pastor Deb Sutter":MAILTO:debra.sutter@fmc-cu.org
END:VEVENT
BEGIN:VEVENT
DTSTART;TZID=America/Chicago:20230314T133000
DTEND;TZID=America/Chicago:20230314T153000
DTSTAMP:20260421T064559
CREATED:20210922T151438Z
LAST-MODIFIED:20230110T192748Z
UID:10001422-1678800600-1678807800@fmc-cu.org
SUMMARY:Tuesday Spiritual Direction Group
DESCRIPTION:4-6 people meet the second and fourth Tuesdays of each month for prayer\, sharing\, Lectio Divina and a short silence. Meeting times and days are decided by the group. New groups are formed each September. \nIn person & on Zoom.
URL:https://fmc-cu.org/event/tuesday-spiritual-direction-group/2023-03-14/
LOCATION:IL
CATEGORIES:Spiritual Direction Groups
ORGANIZER;CN="Associate Pastor Deb Sutter":MAILTO:debra.sutter@fmc-cu.org
END:VEVENT
BEGIN:VEVENT
DTSTART;TZID=America/Chicago:20230309T183000
DTEND;TZID=America/Chicago:20230309T203000
DTSTAMP:20260421T064559
CREATED:20230110T200738Z
LAST-MODIFIED:20230301T181421Z
UID:10001509-1678386600-1678393800@fmc-cu.org
SUMMARY:Spiritual Direction Group-Hybrid
DESCRIPTION:4-6 people meet every other week for prayer\, sharing\, Lectio Divina and a short silence. Meeting times and days are decided by the group. New groups are formed each September. \nThe group meets in person & on Zoom.
URL:https://fmc-cu.org/event/spiritual-direction-groups-2021-08-03-2/2023-03-09/
LOCATION:FMC Library\, 902 W Springfield Ave\, Urbana\, 61801
CATEGORIES:Spiritual Direction Groups
ORGANIZER;CN="Associate Pastor Deb Sutter":MAILTO:debra.sutter@fmc-cu.org
END:VEVENT
BEGIN:VEVENT
DTSTART;TZID=America/Chicago:20230214T133000
DTEND;TZID=America/Chicago:20230214T153000
DTSTAMP:20260421T064559
CREATED:20210922T151438Z
LAST-MODIFIED:20230110T192748Z
UID:10001421-1676381400-1676388600@fmc-cu.org
SUMMARY:Tuesday Spiritual Direction Group
DESCRIPTION:4-6 people meet the second and fourth Tuesdays of each month for prayer\, sharing\, Lectio Divina and a short silence. Meeting times and days are decided by the group. New groups are formed each September. \nIn person & on Zoom.
URL:https://fmc-cu.org/event/tuesday-spiritual-direction-group/2023-02-14/
LOCATION:IL
CATEGORIES:Spiritual Direction Groups
ORGANIZER;CN="Associate Pastor Deb Sutter":MAILTO:debra.sutter@fmc-cu.org
END:VEVENT
BEGIN:VEVENT
DTSTART;TZID=America/Chicago:20230110T133000
DTEND;TZID=America/Chicago:20230110T153000
DTSTAMP:20260421T064559
CREATED:20210922T151438Z
LAST-MODIFIED:20230110T192748Z
UID:10001420-1673357400-1673364600@fmc-cu.org
SUMMARY:Tuesday Spiritual Direction Group
DESCRIPTION:4-6 people meet the second and fourth Tuesdays of each month for prayer\, sharing\, Lectio Divina and a short silence. Meeting times and days are decided by the group. New groups are formed each September. \nIn person & on Zoom.
URL:https://fmc-cu.org/event/tuesday-spiritual-direction-group/2023-01-10/
LOCATION:IL
CATEGORIES:Spiritual Direction Groups
ORGANIZER;CN="Associate Pastor Deb Sutter":MAILTO:debra.sutter@fmc-cu.org
END:VEVENT
END:VCALENDAR