BEGIN:VCALENDAR
VERSION:2.0
PRODID:-//First Mennonite Church of Champaign-Urbana - ECPv6.15.20//NONSGML v1.0//EN
CALSCALE:GREGORIAN
METHOD:PUBLISH
X-ORIGINAL-URL:https://fmc-cu.org
X-WR-CALDESC:Events for First Mennonite Church of Champaign-Urbana
REFRESH-INTERVAL;VALUE=DURATION:PT1H
X-Robots-Tag:noindex
X-PUBLISHED-TTL:PT1H
BEGIN:VTIMEZONE
TZID:America/Chicago
BEGIN:DAYLIGHT
TZOFFSETFROM:-0600
TZOFFSETTO:-0500
TZNAME:CDT
DTSTART:20200308T080000
END:DAYLIGHT
BEGIN:STANDARD
TZOFFSETFROM:-0500
TZOFFSETTO:-0600
TZNAME:CST
DTSTART:20201101T070000
END:STANDARD
BEGIN:DAYLIGHT
TZOFFSETFROM:-0600
TZOFFSETTO:-0500
TZNAME:CDT
DTSTART:20210314T080000
END:DAYLIGHT
BEGIN:STANDARD
TZOFFSETFROM:-0500
TZOFFSETTO:-0600
TZNAME:CST
DTSTART:20211107T070000
END:STANDARD
BEGIN:DAYLIGHT
TZOFFSETFROM:-0600
TZOFFSETTO:-0500
TZNAME:CDT
DTSTART:20220313T080000
END:DAYLIGHT
BEGIN:STANDARD
TZOFFSETFROM:-0500
TZOFFSETTO:-0600
TZNAME:CST
DTSTART:20221106T070000
END:STANDARD
BEGIN:DAYLIGHT
TZOFFSETFROM:-0600
TZOFFSETTO:-0500
TZNAME:CDT
DTSTART:20230312T080000
END:DAYLIGHT
BEGIN:STANDARD
TZOFFSETFROM:-0500
TZOFFSETTO:-0600
TZNAME:CST
DTSTART:20231105T070000
END:STANDARD
BEGIN:DAYLIGHT
TZOFFSETFROM:-0600
TZOFFSETTO:-0500
TZNAME:CDT
DTSTART:20240310T080000
END:DAYLIGHT
BEGIN:STANDARD
TZOFFSETFROM:-0500
TZOFFSETTO:-0600
TZNAME:CST
DTSTART:20241103T070000
END:STANDARD
BEGIN:DAYLIGHT
TZOFFSETFROM:-0600
TZOFFSETTO:-0500
TZNAME:CDT
DTSTART:20250309T080000
END:DAYLIGHT
BEGIN:STANDARD
TZOFFSETFROM:-0500
TZOFFSETTO:-0600
TZNAME:CST
DTSTART:20251102T070000
END:STANDARD
BEGIN:DAYLIGHT
TZOFFSETFROM:-0600
TZOFFSETTO:-0500
TZNAME:CDT
DTSTART:20260308T080000
END:DAYLIGHT
BEGIN:STANDARD
TZOFFSETFROM:-0500
TZOFFSETTO:-0600
TZNAME:CST
DTSTART:20261101T070000
END:STANDARD
END:VTIMEZONE
BEGIN:VEVENT
DTSTART;TZID=America/Chicago:20250316T150000
DTEND;TZID=America/Chicago:20250316T190000
DTSTAMP:20260420T123718
CREATED:20231011T155730Z
LAST-MODIFIED:20250311T182550Z
UID:10003075-1742137200-1742151600@fmc-cu.org
SUMMARY:FMC fellowship hall reserved for an event
DESCRIPTION:Courtney Malcolm – coordinator.
URL:https://fmc-cu.org/event/fmc-reserved-for-an-event-2/2025-03-16/
LOCATION:First Mennonite Church\, 902 W Springfield Ave\, Urbana\, IL\, 61801\, United States
CATEGORIES:Private Events (reserved)
ORGANIZER;CN="Pastor Michael Crosby":MAILTO:michael.crosby@fmc-cu.org
END:VEVENT
BEGIN:VEVENT
DTSTART;TZID=America/Chicago:20250312T120000
DTEND;TZID=America/Chicago:20250312T130000
DTSTAMP:20260420T123718
CREATED:20240508T175202Z
LAST-MODIFIED:20250305T180856Z
UID:10002431-1741780800-1741784400@fmc-cu.org
SUMMARY:Sisters in Ministry Meeting
DESCRIPTION:FMC fellowship hall is reserved for the Sisters in Ministry meeting.
URL:https://fmc-cu.org/event/sisters-in-ministry-meeting/
LOCATION:First Mennonite Church\, 902 W Springfield Ave\, Urbana\, IL\, 61801\, United States
CATEGORIES:Private Events (reserved)
ORGANIZER;CN="Associate Pastor Deb Sutter":MAILTO:debra.sutter@fmc-cu.org
END:VEVENT
BEGIN:VEVENT
DTSTART;TZID=America/Chicago:20241004T170000
DTEND;TZID=America/Chicago:20241004T190000
DTSTAMP:20260420T123718
CREATED:20240911T145935Z
LAST-MODIFIED:20240911T161205Z
UID:10002945-1728061200-1728068400@fmc-cu.org
SUMMARY:FMC reserved for a visitation
DESCRIPTION:A visitation for Tom Anderson will be held at First Mennonite Church from 5-7 pm.
URL:https://fmc-cu.org/event/fmc-reserved-for-a-visitation-time-tbd/
LOCATION:First Mennonite Church\, 902 W Springfield Ave\, Urbana\, IL\, 61801\, United States
CATEGORIES:Private Events (reserved)
ORGANIZER;CN="FMC Office":MAILTO:office@fmc-cu.org
END:VEVENT
BEGIN:VEVENT
DTSTART;TZID=America/Chicago:20240829T180000
DTEND;TZID=America/Chicago:20240829T210000
DTSTAMP:20260420T123718
CREATED:20240822T160610Z
LAST-MODIFIED:20240822T160610Z
UID:10002619-1724954400-1724965200@fmc-cu.org
SUMMARY:FMC Sanctuary reserved
DESCRIPTION:Amasong rehearsal.
URL:https://fmc-cu.org/event/fmc-sanctuary-reserved-3/
LOCATION:First Mennonite Church\, 902 W Springfield Ave\, Urbana\, IL\, 61801\, United States
CATEGORIES:Private Events (reserved)
END:VEVENT
BEGIN:VEVENT
DTSTART;TZID=America/Chicago:20240822T190000
DTEND;TZID=America/Chicago:20240822T220000
DTSTAMP:20260420T123718
CREATED:20221011T192537Z
LAST-MODIFIED:20240806T195403Z
UID:10002519-1724353200-1724364000@fmc-cu.org
SUMMARY:FMC Sanctuary reserved for theater rehearsal (private event)
DESCRIPTION:This rehearsal is for Twin City Theater Company (Doug M. – Director)
URL:https://fmc-cu.org/event/fmc-sanctuary-reserved-for-studio-recital-private-event/
LOCATION:First Mennonite Church\, 902 W Springfield Ave\, Urbana\, IL\, 61801\, United States
CATEGORIES:Private Events (reserved)
ORGANIZER;CN="FMC Office":MAILTO:office@fmc-cu.org
END:VEVENT
BEGIN:VEVENT
DTSTART;TZID=America/Chicago:20240430T090000
DTEND;TZID=America/Chicago:20240430T110000
DTSTAMP:20260420T123718
CREATED:20210720T154544Z
LAST-MODIFIED:20240417T181348Z
UID:10000077-1714467600-1714474800@fmc-cu.org
SUMMARY:Tuesday Morning Music Club Board Meeting
DESCRIPTION:This community music club board has reserved use of our library for their meeting.\nThe event is not open to the public.
URL:https://fmc-cu.org/event/tuesday-morning-music-club-private-event/
LOCATION:First Mennonite Church\, 902 W Springfield Ave\, Urbana\, IL\, 61801\, United States
CATEGORIES:Private Events (reserved)
ORGANIZER;CN="Associate Pastor Deb Sutter":MAILTO:debra.sutter@fmc-cu.org
END:VEVENT
BEGIN:VEVENT
DTSTART;TZID=America/Chicago:20240420T143000
DTEND;TZID=America/Chicago:20240420T173000
DTSTAMP:20260420T123718
CREATED:20220330T160125Z
LAST-MODIFIED:20240409T174108Z
UID:10001096-1713623400-1713634200@fmc-cu.org
SUMMARY:FMC Reserved for Private Piano Recital
DESCRIPTION:Local music teacher’s group (Larisa C. – contact person)
URL:https://fmc-cu.org/event/fmc-reserved-for-private-piano-recital/
LOCATION:First Mennonite Church\, 902 W Springfield Ave\, Urbana\, IL\, 61801\, United States
CATEGORIES:Private Events (reserved)
ORGANIZER;CN="FMC Office":MAILTO:office@fmc-cu.org
END:VEVENT
BEGIN:VEVENT
DTSTART;TZID=America/Chicago:20231014T100000
DTEND;TZID=America/Chicago:20231014T123000
DTSTAMP:20260420T123718
CREATED:20230906T183550Z
LAST-MODIFIED:20230920T150138Z
UID:10001913-1697277600-1697286600@fmc-cu.org
SUMMARY:Baby Shower for David and Kory Moyer
DESCRIPTION:Join us for a baby shower brunch for David and Kory Moyer .They are registered at Amazon. Please RSVP to Michelle Moyer-Litwiller.
URL:https://fmc-cu.org/event/fmc-fellowship-hall-reserved-for-private-event/
LOCATION:First Mennonite Church\, 902 W Springfield Ave\, Urbana\, IL\, 61801\, United States
CATEGORIES:Private Events (reserved)
ORGANIZER;CN="FMC Office":MAILTO:office@fmc-cu.org
END:VEVENT
BEGIN:VEVENT
DTSTART;TZID=America/Chicago:20230718T093000
DTEND;TZID=America/Chicago:20230718T130000
DTSTAMP:20260420T123718
CREATED:20230712T190049Z
LAST-MODIFIED:20230712T191500Z
UID:10001865-1689672600-1689685200@fmc-cu.org
SUMMARY:Sanctuary reserved (private event)
DESCRIPTION:Sanctuary reserved for private event.
URL:https://fmc-cu.org/event/sanctuary-reserved-private-event/
LOCATION:First Mennonite Church\, 902 W Springfield Ave\, Urbana\, IL\, 61801\, United States
CATEGORIES:Private Events (reserved)
ORGANIZER;CN="FMC Office":MAILTO:office@fmc-cu.org
END:VEVENT
BEGIN:VEVENT
DTSTART;TZID=America/Chicago:20230321T100000
DTEND;TZID=America/Chicago:20230321T120000
DTSTAMP:20260420T123718
CREATED:20230308T190725Z
LAST-MODIFIED:20230308T190725Z
UID:10001578-1679392800-1679400000@fmc-cu.org
SUMMARY:Library Reserved
DESCRIPTION:Library is reserved for the Tuesday Music Club Board meeting
URL:https://fmc-cu.org/event/library-reserved/
LOCATION:FMC Library\, 902 W Springfield Ave\, Urbana\, 61801
CATEGORIES:Private Events (reserved)
ORGANIZER;CN="Associate Pastor Deb Sutter":MAILTO:debra.sutter@fmc-cu.org
END:VEVENT
BEGIN:VEVENT
DTSTART;TZID=America/Chicago:20230213T160000
DTEND;TZID=America/Chicago:20230213T170000
DTSTAMP:20260420T123718
CREATED:20230210T165357Z
LAST-MODIFIED:20230210T165357Z
UID:10001483-1676304000-1676307600@fmc-cu.org
SUMMARY:FMC Library reserved
DESCRIPTION:Funeral Consumers Alliance of Champaign County Board Meeting.
URL:https://fmc-cu.org/event/fmc-library-reserved/
LOCATION:FMC Library\, 902 W Springfield Ave\, Urbana\, 61801
CATEGORIES:Private Events (reserved)
ORGANIZER;CN="FMC Office":MAILTO:office@fmc-cu.org
END:VEVENT
BEGIN:VEVENT
DTSTART;TZID=America/Chicago:20221129T150000
DTEND;TZID=America/Chicago:20221129T170000
DTSTAMP:20260420T123718
CREATED:20221104T165644Z
LAST-MODIFIED:20221104T165650Z
UID:10000238-1669734000-1669741200@fmc-cu.org
SUMMARY:Fellowship Hall reserved for private event (CM)
DESCRIPTION:
URL:https://fmc-cu.org/event/fellowship-hall-reserved-for-private-event-cm/2022-11-29/
LOCATION:First Mennonite Church\, 902 W Springfield Ave\, Urbana\, IL\, 61801\, United States
CATEGORIES:Private Events (reserved)
ORGANIZER;CN="FMC Office":MAILTO:office@fmc-cu.org
END:VEVENT
BEGIN:VEVENT
DTSTART;TZID=America/Chicago:20221117T150000
DTEND;TZID=America/Chicago:20221117T170000
DTSTAMP:20260420T123718
CREATED:20221104T165751Z
LAST-MODIFIED:20221104T165751Z
UID:10000240-1668697200-1668704400@fmc-cu.org
SUMMARY:Fellowship Hall reserved for private event (CM)
DESCRIPTION:
URL:https://fmc-cu.org/event/fellowship-hall-reserved-for-private-event-cm-2/2022-11-17/
LOCATION:First Mennonite Church\, 902 W Springfield Ave\, Urbana\, IL\, 61801\, United States
CATEGORIES:Private Events (reserved)
ORGANIZER;CN="FMC Office":MAILTO:office@fmc-cu.org
END:VEVENT
BEGIN:VEVENT
DTSTART;TZID=America/Chicago:20221115T150000
DTEND;TZID=America/Chicago:20221115T170000
DTSTAMP:20260420T123718
CREATED:20221104T165644Z
LAST-MODIFIED:20221104T165650Z
UID:10000237-1668524400-1668531600@fmc-cu.org
SUMMARY:Fellowship Hall reserved for private event (CM)
DESCRIPTION:
URL:https://fmc-cu.org/event/fellowship-hall-reserved-for-private-event-cm/2022-11-15/
LOCATION:First Mennonite Church\, 902 W Springfield Ave\, Urbana\, IL\, 61801\, United States
CATEGORIES:Private Events (reserved)
ORGANIZER;CN="FMC Office":MAILTO:office@fmc-cu.org
END:VEVENT
BEGIN:VEVENT
DTSTART;TZID=America/Chicago:20221110T150000
DTEND;TZID=America/Chicago:20221110T170000
DTSTAMP:20260420T123718
CREATED:20221104T165751Z
LAST-MODIFIED:20221104T165751Z
UID:10000239-1668092400-1668099600@fmc-cu.org
SUMMARY:Fellowship Hall reserved for private event (CM)
DESCRIPTION:
URL:https://fmc-cu.org/event/fellowship-hall-reserved-for-private-event-cm-2/2022-11-10/
LOCATION:First Mennonite Church\, 902 W Springfield Ave\, Urbana\, IL\, 61801\, United States
CATEGORIES:Private Events (reserved)
ORGANIZER;CN="FMC Office":MAILTO:office@fmc-cu.org
END:VEVENT
BEGIN:VEVENT
DTSTART;TZID=America/Chicago:20221108T150000
DTEND;TZID=America/Chicago:20221108T170000
DTSTAMP:20260420T123718
CREATED:20221104T165644Z
LAST-MODIFIED:20221104T165650Z
UID:10000236-1667919600-1667926800@fmc-cu.org
SUMMARY:Fellowship Hall reserved for private event (CM)
DESCRIPTION:
URL:https://fmc-cu.org/event/fellowship-hall-reserved-for-private-event-cm/2022-11-08/
LOCATION:First Mennonite Church\, 902 W Springfield Ave\, Urbana\, IL\, 61801\, United States
CATEGORIES:Private Events (reserved)
ORGANIZER;CN="FMC Office":MAILTO:office@fmc-cu.org
END:VEVENT
BEGIN:VEVENT
DTSTART;TZID=America/Chicago:20221023T130000
DTEND;TZID=America/Chicago:20221023T150000
DTSTAMP:20260420T123718
CREATED:20221007T162243Z
LAST-MODIFIED:20221007T163225Z
UID:10000243-1666530000-1666537200@fmc-cu.org
SUMMARY:Sanctuary reserved for piano recital
DESCRIPTION:Piano recital through the Conservatory of Central IL. S. Schwartz-teacher.
URL:https://fmc-cu.org/event/sanctuary-reserved-for-piano-recital/
LOCATION:First Mennonite Church\, 902 W Springfield Ave\, Urbana\, IL\, 61801\, United States
CATEGORIES:Private Events (reserved)
ORGANIZER;CN="FMC Office":MAILTO:office@fmc-cu.org
END:VEVENT
BEGIN:VEVENT
DTSTART;TZID=America/Chicago:20220902T133000
DTEND;TZID=America/Chicago:20220902T143000
DTSTAMP:20260420T123718
CREATED:20220825T205617Z
LAST-MODIFIED:20220825T205623Z
UID:10001115-1662125400-1662129000@fmc-cu.org
SUMMARY:FMC sanctuary reserved
DESCRIPTION:Sanctuary reserved for a rehearsal by FMC people.
URL:https://fmc-cu.org/event/fmc-sanctuary-reserved-2/
LOCATION:First Mennonite Church\, 902 W Springfield Ave\, Urbana\, IL\, 61801\, United States
CATEGORIES:Private Events (reserved)
ORGANIZER;CN="FMC Office":MAILTO:office@fmc-cu.org
END:VEVENT
BEGIN:VEVENT
DTSTART;TZID=America/Chicago:20211206T103000
DTEND;TZID=America/Chicago:20211206T113000
DTSTAMP:20260420T123718
CREATED:20211119T193139Z
LAST-MODIFIED:20211119T193139Z
UID:10000105-1638786600-1638790200@fmc-cu.org
SUMMARY:FMC reserved
DESCRIPTION:The sanctuary and nursery are reserved for a rehearsal (Jill and Ruth).
URL:https://fmc-cu.org/event/fmc-reserved/
LOCATION:First Mennonite Church\, 902 W Springfield Ave\, Urbana\, IL\, 61801\, United States
CATEGORIES:Private Events (reserved)
ORGANIZER;CN="FMC Office":MAILTO:office@fmc-cu.org
END:VEVENT
BEGIN:VEVENT
DTSTART;TZID=America/Chicago:20211204T140000
DTEND;TZID=America/Chicago:20211204T170000
DTSTAMP:20260420T123718
CREATED:20211109T161850Z
LAST-MODIFIED:20211109T162228Z
UID:10000658-1638626400-1638637200@fmc-cu.org
SUMMARY:FMC Sanctuary Reserved
DESCRIPTION:Sanctuary reserved by the Conservatory of Central Illinois for a private piano recital.
URL:https://fmc-cu.org/event/fmc-sanctuary-reserved/
LOCATION:First Mennonite Church\, 902 W Springfield Ave\, Urbana\, IL\, 61801\, United States
CATEGORIES:Private Events (reserved)
ORGANIZER;CN="FMC Office":MAILTO:office@fmc-cu.org
END:VEVENT
BEGIN:VEVENT
DTSTART;TZID=America/Chicago:20211204T110000
DTEND;TZID=America/Chicago:20211204T133000
DTSTAMP:20260420T123718
CREATED:20211119T193501Z
LAST-MODIFIED:20211119T193501Z
UID:10000659-1638615600-1638624600@fmc-cu.org
SUMMARY:FMC reserved
DESCRIPTION:FMC building is reserved for a private recital (L. Chasanov).
URL:https://fmc-cu.org/event/fmc-reserved-2/
LOCATION:First Mennonite Church\, 902 W Springfield Ave\, Urbana\, IL\, 61801\, United States
CATEGORIES:Private Events (reserved)
ORGANIZER;CN="FMC Office":MAILTO:office@fmc-cu.org
END:VEVENT
END:VCALENDAR