BEGIN:VCALENDAR
VERSION:2.0
PRODID:-//First Mennonite Church of Champaign-Urbana - ECPv6.15.20//NONSGML v1.0//EN
CALSCALE:GREGORIAN
METHOD:PUBLISH
X-ORIGINAL-URL:https://fmc-cu.org
X-WR-CALDESC:Events for First Mennonite Church of Champaign-Urbana
REFRESH-INTERVAL;VALUE=DURATION:PT1H
X-Robots-Tag:noindex
X-PUBLISHED-TTL:PT1H
BEGIN:VTIMEZONE
TZID:America/Chicago
BEGIN:DAYLIGHT
TZOFFSETFROM:-0600
TZOFFSETTO:-0500
TZNAME:CDT
DTSTART:20240310T080000
END:DAYLIGHT
BEGIN:STANDARD
TZOFFSETFROM:-0500
TZOFFSETTO:-0600
TZNAME:CST
DTSTART:20241103T070000
END:STANDARD
BEGIN:DAYLIGHT
TZOFFSETFROM:-0600
TZOFFSETTO:-0500
TZNAME:CDT
DTSTART:20250309T080000
END:DAYLIGHT
BEGIN:STANDARD
TZOFFSETFROM:-0500
TZOFFSETTO:-0600
TZNAME:CST
DTSTART:20251102T070000
END:STANDARD
BEGIN:DAYLIGHT
TZOFFSETFROM:-0600
TZOFFSETTO:-0500
TZNAME:CDT
DTSTART:20260308T080000
END:DAYLIGHT
BEGIN:STANDARD
TZOFFSETFROM:-0500
TZOFFSETTO:-0600
TZNAME:CST
DTSTART:20261101T070000
END:STANDARD
END:VTIMEZONE
BEGIN:VEVENT
DTSTART;TZID=America/Chicago:20250312T120000
DTEND;TZID=America/Chicago:20250312T130000
DTSTAMP:20260425T181532
CREATED:20240508T175202Z
LAST-MODIFIED:20250305T180856Z
UID:10002431-1741780800-1741784400@fmc-cu.org
SUMMARY:Sisters in Ministry Meeting
DESCRIPTION:FMC fellowship hall is reserved for the Sisters in Ministry meeting.
URL:https://fmc-cu.org/event/sisters-in-ministry-meeting/
LOCATION:First Mennonite Church\, 902 W Springfield Ave\, Urbana\, IL\, 61801\, United States
CATEGORIES:Private Events (reserved)
ORGANIZER;CN="Associate Pastor Deb Sutter":MAILTO:debra.sutter@fmc-cu.org
END:VEVENT
BEGIN:VEVENT
DTSTART;TZID=America/Chicago:20250316T150000
DTEND;TZID=America/Chicago:20250316T190000
DTSTAMP:20260425T181532
CREATED:20231011T155730Z
LAST-MODIFIED:20250311T182550Z
UID:10003075-1742137200-1742151600@fmc-cu.org
SUMMARY:FMC fellowship hall reserved for an event
DESCRIPTION:Courtney Malcolm – coordinator.
URL:https://fmc-cu.org/event/fmc-reserved-for-an-event-2/2025-03-16/
LOCATION:First Mennonite Church\, 902 W Springfield Ave\, Urbana\, IL\, 61801\, United States
CATEGORIES:Private Events (reserved)
ORGANIZER;CN="Pastor Michael Crosby":MAILTO:michael.crosby@fmc-cu.org
END:VEVENT
BEGIN:VEVENT
DTSTART;TZID=America/Chicago:20250323T150000
DTEND;TZID=America/Chicago:20250323T190000
DTSTAMP:20260425T181532
CREATED:20231011T155730Z
LAST-MODIFIED:20250311T182550Z
UID:10003076-1742742000-1742756400@fmc-cu.org
SUMMARY:FMC fellowship hall reserved for an event
DESCRIPTION:Courtney Malcolm – coordinator.
URL:https://fmc-cu.org/event/fmc-reserved-for-an-event-2/2025-03-23/
LOCATION:First Mennonite Church\, 902 W Springfield Ave\, Urbana\, IL\, 61801\, United States
CATEGORIES:Private Events (reserved)
ORGANIZER;CN="Pastor Michael Crosby":MAILTO:michael.crosby@fmc-cu.org
END:VEVENT
END:VCALENDAR