BEGIN:VCALENDAR
VERSION:2.0
PRODID:-//First Mennonite Church of Champaign-Urbana - ECPv6.15.20//NONSGML v1.0//EN
CALSCALE:GREGORIAN
METHOD:PUBLISH
X-WR-CALNAME:First Mennonite Church of Champaign-Urbana
X-ORIGINAL-URL:https://fmc-cu.org
X-WR-CALDESC:Events for First Mennonite Church of Champaign-Urbana
REFRESH-INTERVAL;VALUE=DURATION:PT1H
X-Robots-Tag:noindex
X-PUBLISHED-TTL:PT1H
BEGIN:VTIMEZONE
TZID:America/Chicago
BEGIN:DAYLIGHT
TZOFFSETFROM:-0600
TZOFFSETTO:-0500
TZNAME:CDT
DTSTART:20240310T080000
END:DAYLIGHT
BEGIN:STANDARD
TZOFFSETFROM:-0500
TZOFFSETTO:-0600
TZNAME:CST
DTSTART:20241103T070000
END:STANDARD
BEGIN:DAYLIGHT
TZOFFSETFROM:-0600
TZOFFSETTO:-0500
TZNAME:CDT
DTSTART:20250309T080000
END:DAYLIGHT
BEGIN:STANDARD
TZOFFSETFROM:-0500
TZOFFSETTO:-0600
TZNAME:CST
DTSTART:20251102T070000
END:STANDARD
BEGIN:DAYLIGHT
TZOFFSETFROM:-0600
TZOFFSETTO:-0500
TZNAME:CDT
DTSTART:20260308T080000
END:DAYLIGHT
BEGIN:STANDARD
TZOFFSETFROM:-0500
TZOFFSETTO:-0600
TZNAME:CST
DTSTART:20261101T070000
END:STANDARD
BEGIN:DAYLIGHT
TZOFFSETFROM:-0600
TZOFFSETTO:-0500
TZNAME:CDT
DTSTART:20270314T080000
END:DAYLIGHT
BEGIN:STANDARD
TZOFFSETFROM:-0500
TZOFFSETTO:-0600
TZNAME:CST
DTSTART:20271107T070000
END:STANDARD
END:VTIMEZONE
BEGIN:VEVENT
DTSTART;TZID=America/Chicago:20250731T103000
DTEND;TZID=America/Chicago:20250731T120000
DTSTAMP:20260425T060040
CREATED:20250725T184714Z
LAST-MODIFIED:20250806T150743Z
UID:10003229-1753957800-1753963200@fmc-cu.org
SUMMARY:Friday Spiritual Direction Group (Meeting on Thurs. July 31 this month)
DESCRIPTION:4-6 people meet several times each month for prayer\, sharing\, Lectio Divina and a short silence. Meeting times and days are decided by the group. New groups are formed each September. \nThe group meets in person & on Zoom.
URL:https://fmc-cu.org/event/friday-spiritual-direction-group-3/2025-07-31/
LOCATION:First Mennonite Church\, 902 W Springfield Ave\, Urbana\, IL\, 61801\, United States
CATEGORIES:FMC Meetings
ORGANIZER;CN="Associate Pastor Deb Sutter":MAILTO:debra.sutter@fmc-cu.org
END:VEVENT
BEGIN:VEVENT
DTSTART;TZID=America/Chicago:20250805T130000
DTEND;TZID=America/Chicago:20250805T150000
DTSTAMP:20260425T060040
CREATED:20250204T191402Z
LAST-MODIFIED:20250307T194454Z
UID:10003070-1754398800-1754406000@fmc-cu.org
SUMMARY:Racial Justice Working Group (Hybrid)
DESCRIPTION:This group provides a space for anti-racism education\, advocacy\, and mutual accountability in our church and community. The group meeting is hybrid\, with in person members meeting in the FMC library.
URL:https://fmc-cu.org/event/racial-justice-working-group-2-2-2-2-2-2-2/2025-08-05/
LOCATION:Hybrid
CATEGORIES:FMC Meetings
ORGANIZER;CN="Pastor Michael Crosby":MAILTO:michael.crosby@fmc-cu.org
END:VEVENT
BEGIN:VEVENT
DTSTART;TZID=America/Chicago:20250813T180000
DTEND;TZID=America/Chicago:20250813T200000
DTSTAMP:20260425T060040
CREATED:20231220T190406Z
LAST-MODIFIED:20250411T192604Z
UID:10003164-1755108000-1755115200@fmc-cu.org
SUMMARY:FMC Council meeting
DESCRIPTION:
URL:https://fmc-cu.org/event/fmc-council-meeting-2/2025-08-13/
LOCATION:First Mennonite Church\, 902 W Springfield Ave\, Urbana\, IL\, 61801\, United States
CATEGORIES:FMC Meetings
ORGANIZER;CN="FMC Office":MAILTO:office@fmc-cu.org
END:VEVENT
BEGIN:VEVENT
DTSTART;TZID=America/Chicago:20250814T110000
DTEND;TZID=America/Chicago:20250814T123000
DTSTAMP:20260425T060040
CREATED:20240306T194008Z
LAST-MODIFIED:20250822T171708Z
UID:10002400-1755169200-1755174600@fmc-cu.org
SUMMARY:Worship Committee
DESCRIPTION:This committee is responsible for nurturing the worship life of the congregation.
URL:https://fmc-cu.org/event/worship-committee/
LOCATION:FMC Library\, 902 W Springfield Ave\, Urbana\, 61801
CATEGORIES:FMC Meetings
END:VEVENT
BEGIN:VEVENT
DTSTART;TZID=America/Chicago:20250815T103000
DTEND;TZID=America/Chicago:20250815T120000
DTSTAMP:20260425T060040
CREATED:20250725T184714Z
LAST-MODIFIED:20250806T150743Z
UID:10003258-1755253800-1755259200@fmc-cu.org
SUMMARY:Friday Spiritual Direction Group (Meeting on Thurs. July 31 this month)
DESCRIPTION:4-6 people meet several times each month for prayer\, sharing\, Lectio Divina and a short silence. Meeting times and days are decided by the group. New groups are formed each September. \nThe group meets in person & on Zoom.
URL:https://fmc-cu.org/event/friday-spiritual-direction-group-3/2025-08-15/
LOCATION:First Mennonite Church\, 902 W Springfield Ave\, Urbana\, IL\, 61801\, United States
CATEGORIES:FMC Meetings
ORGANIZER;CN="Associate Pastor Deb Sutter":MAILTO:debra.sutter@fmc-cu.org
END:VEVENT
BEGIN:VEVENT
DTSTART;TZID=America/Chicago:20250817T110000
DTEND;TZID=America/Chicago:20250817T133000
DTSTAMP:20260425T060040
CREATED:20250729T192250Z
LAST-MODIFIED:20250729T192304Z
UID:10003257-1755428400-1755437400@fmc-cu.org
SUMMARY:Kids & Youth Sunday school teachers - meeting and classroom cleanup
DESCRIPTION:The children and youth Sunday school teachers will have a meeting after fellowship time and will also have the opportunity to clean/organize the classrooms.
URL:https://fmc-cu.org/event/kids-youth-sunday-school-teachers-meeting-and-classroom-cleanup/
LOCATION:First Mennonite Church\, 902 W Springfield Ave\, Urbana\, IL\, 61801\, United States
CATEGORIES:FMC Meetings
END:VEVENT
BEGIN:VEVENT
DTSTART;TZID=America/Chicago:20250821T011500
DTEND;TZID=America/Chicago:20250821T151500
DTSTAMP:20260425T060040
CREATED:20250128T195958Z
LAST-MODIFIED:20250827T164920Z
UID:10002972-1755738900-1755789300@fmc-cu.org
SUMMARY:Christian Education Committee Meeting
DESCRIPTION:This committee oversees the Christian Education (Spiritual Formation) needs of the congregation and for planning programming to meet them. \n 
URL:https://fmc-cu.org/event/christian-education-committee-meeting-3-2/2025-08-21/
LOCATION:First Mennonite Church\, 902 W Springfield Ave\, Urbana\, IL\, 61801\, United States
CATEGORIES:FMC Meetings
ORGANIZER;CN="FMC Office":MAILTO:office@fmc-cu.org
END:VEVENT
BEGIN:VEVENT
DTSTART;TZID=America/Chicago:20250902T130000
DTEND;TZID=America/Chicago:20250902T150000
DTSTAMP:20260425T060040
CREATED:20250204T191402Z
LAST-MODIFIED:20250307T194454Z
UID:10003071-1756818000-1756825200@fmc-cu.org
SUMMARY:Racial Justice Working Group (Hybrid)
DESCRIPTION:This group provides a space for anti-racism education\, advocacy\, and mutual accountability in our church and community. The group meeting is hybrid\, with in person members meeting in the FMC library.
URL:https://fmc-cu.org/event/racial-justice-working-group-2-2-2-2-2-2-2/2025-09-02/
LOCATION:Hybrid
CATEGORIES:FMC Meetings
ORGANIZER;CN="Pastor Michael Crosby":MAILTO:michael.crosby@fmc-cu.org
END:VEVENT
BEGIN:VEVENT
DTSTART;TZID=America/Chicago:20250905T133000
DTEND;TZID=America/Chicago:20250905T153000
DTSTAMP:20260425T060040
CREATED:20230210T165718Z
LAST-MODIFIED:20250822T172304Z
UID:10003296-1757079000-1757086200@fmc-cu.org
SUMMARY:Spiritual Leadership Team meeting
DESCRIPTION:The Spiritual Leadership Team (SLT) is responsible for the spiritual nurture of the congregation.
URL:https://fmc-cu.org/event/spiritual-leadership-team-meeting-2/2025-09-05/
LOCATION:First Mennonite Church\, 902 W Springfield Ave\, Urbana\, IL\, 61801\, United States
CATEGORIES:FMC Meetings
ORGANIZER;CN="Pastor Michael Crosby":MAILTO:michael.crosby@fmc-cu.org
END:VEVENT
BEGIN:VEVENT
DTSTART;TZID=America/Chicago:20250910T120000
DTEND;TZID=America/Chicago:20250910T133000
DTSTAMP:20260425T060040
CREATED:20250827T165258Z
LAST-MODIFIED:20250827T165258Z
UID:10003298-1757505600-1757511000@fmc-cu.org
SUMMARY:Reparations meeting
DESCRIPTION:FMC reparations meeting with Renee Antrosio to discuss next steps. Meeting is in the FMC library.
URL:https://fmc-cu.org/event/reparations-meeting/
LOCATION:FMC Library\, 902 W Springfield Ave\, Urbana\, 61801
CATEGORIES:FMC Meetings
ORGANIZER;CN="Pastor Michael Crosby":MAILTO:michael.crosby@fmc-cu.org
END:VEVENT
BEGIN:VEVENT
DTSTART;TZID=America/Chicago:20250910T180000
DTEND;TZID=America/Chicago:20250910T200000
DTSTAMP:20260425T060040
CREATED:20231220T190406Z
LAST-MODIFIED:20250411T192604Z
UID:10003165-1757527200-1757534400@fmc-cu.org
SUMMARY:FMC Council meeting
DESCRIPTION:
URL:https://fmc-cu.org/event/fmc-council-meeting-2/2025-09-10/
LOCATION:First Mennonite Church\, 902 W Springfield Ave\, Urbana\, IL\, 61801\, United States
CATEGORIES:FMC Meetings
ORGANIZER;CN="FMC Office":MAILTO:office@fmc-cu.org
END:VEVENT
BEGIN:VEVENT
DTSTART;TZID=America/Chicago:20250912T103000
DTEND;TZID=America/Chicago:20250912T120000
DTSTAMP:20260425T060040
CREATED:20240124T203816Z
LAST-MODIFIED:20250822T172143Z
UID:10002325-1757673000-1757678400@fmc-cu.org
SUMMARY:Pastor Congregation Relations Committee
DESCRIPTION:
URL:https://fmc-cu.org/event/pastor-congregation-relations-committee/
LOCATION:FMC Library\, 902 W Springfield Ave\, Urbana\, 61801
CATEGORIES:FMC Meetings
ORGANIZER;CN="Pastor Michael Crosby":MAILTO:michael.crosby@fmc-cu.org
END:VEVENT
BEGIN:VEVENT
DTSTART;TZID=America/Chicago:20250918T131500
DTEND;TZID=America/Chicago:20250918T141500
DTSTAMP:20260425T060040
CREATED:20250128T195958Z
LAST-MODIFIED:20250827T164920Z
UID:10003297-1758201300-1758204900@fmc-cu.org
SUMMARY:Christian Education Committee Meeting
DESCRIPTION:This committee oversees the Christian Education (Spiritual Formation) needs of the congregation and for planning programming to meet them. \n 
URL:https://fmc-cu.org/event/christian-education-committee-meeting-3-2/2025-09-18/
LOCATION:First Mennonite Church\, 902 W Springfield Ave\, Urbana\, IL\, 61801\, United States
CATEGORIES:FMC Meetings
ORGANIZER;CN="FMC Office":MAILTO:office@fmc-cu.org
END:VEVENT
BEGIN:VEVENT
DTSTART;TZID=America/Chicago:20251005T120000
DTEND;TZID=America/Chicago:20251005T150000
DTSTAMP:20260425T060040
CREATED:20250923T174230Z
LAST-MODIFIED:20250923T174310Z
UID:10003315-1759665600-1759676400@fmc-cu.org
SUMMARY:Noon Potluck and Congregational Meeting (1p)
DESCRIPTION:Noon potluck; please bring a nut-free dish to share. Following the potluck we will have a congregational gathering at 1 pm for a critical component of Pastor Michael’s 5-year formal evaluation and our ongoing congregational self-reflection. We’ll meet in focus groups of 6-10 people each\, using the process and materials from MC USA’s “Appreciative Inquiry.”
URL:https://fmc-cu.org/event/noon-potluck-and-congregational-meeting-1p/
LOCATION:First Mennonite Church\, 902 W Springfield Ave\, Urbana\, IL\, 61801\, United States
CATEGORIES:FMC Meetings
ORGANIZER;CN="FMC Office":MAILTO:office@fmc-cu.org
END:VEVENT
BEGIN:VEVENT
DTSTART;TZID=America/Chicago:20251007T130000
DTEND;TZID=America/Chicago:20251007T150000
DTSTAMP:20260425T060040
CREATED:20250204T191402Z
LAST-MODIFIED:20250307T194454Z
UID:10003072-1759842000-1759849200@fmc-cu.org
SUMMARY:Racial Justice Working Group (Hybrid)
DESCRIPTION:This group provides a space for anti-racism education\, advocacy\, and mutual accountability in our church and community. The group meeting is hybrid\, with in person members meeting in the FMC library.
URL:https://fmc-cu.org/event/racial-justice-working-group-2-2-2-2-2-2-2/2025-10-07/
LOCATION:Hybrid
CATEGORIES:FMC Meetings
ORGANIZER;CN="Pastor Michael Crosby":MAILTO:michael.crosby@fmc-cu.org
END:VEVENT
BEGIN:VEVENT
DTSTART;TZID=America/Chicago:20251008T180000
DTEND;TZID=America/Chicago:20251008T200000
DTSTAMP:20260425T060040
CREATED:20231220T190406Z
LAST-MODIFIED:20250411T192604Z
UID:10003166-1759946400-1759953600@fmc-cu.org
SUMMARY:FMC Council meeting
DESCRIPTION:
URL:https://fmc-cu.org/event/fmc-council-meeting-2/2025-10-08/
LOCATION:First Mennonite Church\, 902 W Springfield Ave\, Urbana\, IL\, 61801\, United States
CATEGORIES:FMC Meetings
ORGANIZER;CN="FMC Office":MAILTO:office@fmc-cu.org
END:VEVENT
BEGIN:VEVENT
DTSTART;TZID=America/Chicago:20251019T121500
DTEND;TZID=America/Chicago:20251019T140000
DTSTAMP:20260425T060040
CREATED:20250228T200438Z
LAST-MODIFIED:20250430T172950Z
UID:10003052-1760876100-1760882400@fmc-cu.org
SUMMARY:Facilities Committee (Hybrid)
DESCRIPTION:This FMC committee is responsible for the general supervision of the church’s physical property and financial affairs.
URL:https://fmc-cu.org/event/facilities-committee-hybrid-2/
LOCATION:Hybrid
CATEGORIES:FMC Meetings
ORGANIZER;CN="Pastor Michael Crosby":MAILTO:michael.crosby@fmc-cu.org
END:VEVENT
BEGIN:VEVENT
DTSTART;TZID=America/Chicago:20251026T120000
DTEND;TZID=America/Chicago:20251026T130000
DTSTAMP:20260425T060040
CREATED:20240906T181005Z
LAST-MODIFIED:20251008T160618Z
UID:10002942-1761480000-1761483600@fmc-cu.org
SUMMARY:FMC Discernment Circles
DESCRIPTION:FMC attendees will meet in small groups for about 30 minutes after Sunday school to discern possible people to recommend to fill Council\, Committee Rep and Elder roles in 2026.
URL:https://fmc-cu.org/event/fmc-discernment-circles/
LOCATION:First Mennonite Church\, 902 W Springfield Ave\, Urbana\, IL\, 61801\, United States
CATEGORIES:FMC Meetings
ORGANIZER;CN="FMC Office":MAILTO:office@fmc-cu.org
END:VEVENT
BEGIN:VEVENT
DTSTART;TZID=America/Chicago:20251104T130000
DTEND;TZID=America/Chicago:20251104T150000
DTSTAMP:20260425T060040
CREATED:20250204T191402Z
LAST-MODIFIED:20250307T194454Z
UID:10003073-1762261200-1762268400@fmc-cu.org
SUMMARY:Racial Justice Working Group (Hybrid)
DESCRIPTION:This group provides a space for anti-racism education\, advocacy\, and mutual accountability in our church and community. The group meeting is hybrid\, with in person members meeting in the FMC library.
URL:https://fmc-cu.org/event/racial-justice-working-group-2-2-2-2-2-2-2/2025-11-04/
LOCATION:Hybrid
CATEGORIES:FMC Meetings
ORGANIZER;CN="Pastor Michael Crosby":MAILTO:michael.crosby@fmc-cu.org
END:VEVENT
BEGIN:VEVENT
DTSTART;TZID=America/Chicago:20251112T180000
DTEND;TZID=America/Chicago:20251112T200000
DTSTAMP:20260425T060040
CREATED:20231220T190406Z
LAST-MODIFIED:20250411T192604Z
UID:10003167-1762970400-1762977600@fmc-cu.org
SUMMARY:FMC Council meeting
DESCRIPTION:
URL:https://fmc-cu.org/event/fmc-council-meeting-2/2025-11-12/
LOCATION:First Mennonite Church\, 902 W Springfield Ave\, Urbana\, IL\, 61801\, United States
CATEGORIES:FMC Meetings
ORGANIZER;CN="FMC Office":MAILTO:office@fmc-cu.org
END:VEVENT
BEGIN:VEVENT
DTSTART;TZID=America/Chicago:20251118T151500
DTEND;TZID=America/Chicago:20251118T173000
DTSTAMP:20260425T060040
CREATED:20250103T162727Z
LAST-MODIFIED:20251114T201629Z
UID:10002950-1763478900-1763487000@fmc-cu.org
SUMMARY:Service & Outreach Committee-Hybrid
DESCRIPTION:The Service and Outreach Committee reaches out to and welcomes people who wish to know more about the church. The committee also coordinates FMC service projects in the community and beyond.
URL:https://fmc-cu.org/event/service-outreach-committee-2021-11-18-2022-09-22-2-3-2/
LOCATION:Zoom
CATEGORIES:FMC Meetings
ORGANIZER;CN="Pastor Michael Crosby":MAILTO:michael.crosby@fmc-cu.org
END:VEVENT
BEGIN:VEVENT
DTSTART;TZID=America/Chicago:20260106T130000
DTEND;TZID=America/Chicago:20260106T150000
DTSTAMP:20260425T060040
CREATED:20260104T174506Z
LAST-MODIFIED:20260218T194404Z
UID:10003074-1767704400-1767711600@fmc-cu.org
SUMMARY:Racial Justice Working Group (Hybrid)
DESCRIPTION:This group provides a space for anti-racism education\, advocacy\, and mutual accountability in our church and community. The group meeting is hybrid\, with in person members meeting in the FMC library.
URL:https://fmc-cu.org/event/racial-justice-working-group-2-2-2-2-2-2-2-2/2026-01-06/
LOCATION:Hybrid
CATEGORIES:FMC Meetings
ORGANIZER;CN="Pastor Michael Crosby":MAILTO:michael.crosby@fmc-cu.org
END:VEVENT
BEGIN:VEVENT
DTSTART;TZID=America/Chicago:20260113T190000
DTEND;TZID=America/Chicago:20260113T203000
DTSTAMP:20260425T060040
CREATED:20251031T175722Z
LAST-MODIFIED:20260218T194500Z
UID:10003295-1768330800-1768336200@fmc-cu.org
SUMMARY:Worship Committee-Zoom
DESCRIPTION:This committee is responsible for nurturing the worship life of the congregation.
URL:https://fmc-cu.org/event/worship-committee-2/2026-01-13/
LOCATION:Zoom
CATEGORIES:FMC Meetings
END:VEVENT
BEGIN:VEVENT
DTSTART;TZID=America/Chicago:20260114T180000
DTEND;TZID=America/Chicago:20260114T200000
DTSTAMP:20260425T060040
CREATED:20211216T173053Z
LAST-MODIFIED:20260104T173344Z
UID:10000941-1768413600-1768420800@fmc-cu.org
SUMMARY:FMC Joint Council Meeting
DESCRIPTION:The 2025/2026 Council members meet at 6 pm in the FMC fellowship hall.
URL:https://fmc-cu.org/event/fmc-joint-council-meeting/
LOCATION:First Mennonite Church\, 902 W Springfield Ave\, Urbana\, IL\, 61801\, United States
CATEGORIES:FMC Meetings
ORGANIZER;CN="FMC Office":MAILTO:office@fmc-cu.org
END:VEVENT
BEGIN:VEVENT
DTSTART;TZID=America/Chicago:20260201T120000
DTEND;TZID=America/Chicago:20260201T150000
DTSTAMP:20260425T060040
CREATED:20211210T175631Z
LAST-MODIFIED:20260127T195537Z
UID:10000662-1769947200-1769958000@fmc-cu.org
SUMMARY:FMC Potluck & Annual Congregational Business Meeting
DESCRIPTION:12Noon – Congregational potluck. You are invited to bring a nut-free dish to share. \n1pm – Congregational Annual Business meeting. The congregation reviews the work done in 2025 and discusses and decides the 2026 budget.
URL:https://fmc-cu.org/event/fmc-annual-meeting-after-worship/
LOCATION:First Mennonite Church\, 902 W Springfield Ave\, Urbana\, IL\, 61801\, United States
CATEGORIES:FMC Meetings
ORGANIZER;CN="FMC Office":MAILTO:office@fmc-cu.org
END:VEVENT
BEGIN:VEVENT
DTSTART;TZID=America/Chicago:20260203T130000
DTEND;TZID=America/Chicago:20260203T150000
DTSTAMP:20260425T060040
CREATED:20260104T174506Z
LAST-MODIFIED:20260218T194404Z
UID:10003573-1770123600-1770130800@fmc-cu.org
SUMMARY:Racial Justice Working Group (Hybrid)
DESCRIPTION:This group provides a space for anti-racism education\, advocacy\, and mutual accountability in our church and community. The group meeting is hybrid\, with in person members meeting in the FMC library.
URL:https://fmc-cu.org/event/racial-justice-working-group-2-2-2-2-2-2-2-2/2026-02-03/
LOCATION:Hybrid
CATEGORIES:FMC Meetings
ORGANIZER;CN="Pastor Michael Crosby":MAILTO:michael.crosby@fmc-cu.org
END:VEVENT
BEGIN:VEVENT
DTSTART;TZID=America/Chicago:20260208T120000
DTEND;TZID=America/Chicago:20260208T140000
DTSTAMP:20260425T060040
CREATED:20230322T162711Z
LAST-MODIFIED:20260218T194755Z
UID:10001099-1770552000-1770559200@fmc-cu.org
SUMMARY:Hospitality & Fellowship Committee meeting
DESCRIPTION:This committee provides fellowship opportunities for the congregation and nurtures a spirit of hospitality within the church.
URL:https://fmc-cu.org/event/hospitality-fellowship-committee-2022-11-03-3/2026-02-08/
LOCATION:First Mennonite Church\, 902 W Springfield Ave\, Urbana\, IL\, 61801\, United States
CATEGORIES:FMC Meetings
ORGANIZER;CN="Associate Pastor Deb Sutter":MAILTO:debra.sutter@fmc-cu.org
END:VEVENT
BEGIN:VEVENT
DTSTART;TZID=America/Chicago:20260210T180000
DTEND;TZID=America/Chicago:20260210T200000
DTSTAMP:20260425T060040
CREATED:20210817T191200Z
LAST-MODIFIED:20260424T184245Z
UID:10000647-1770746400-1770753600@fmc-cu.org
SUMMARY:FMC Library Committee
DESCRIPTION:Meeting in the library.
URL:https://fmc-cu.org/event/library-committee-2022-11-10/2026-02-10/
LOCATION:FMC Library\, 902 W Springfield Ave\, Urbana\, 61801
CATEGORIES:FMC Meetings
ORGANIZER;CN="FMC Office":MAILTO:office@fmc-cu.org
END:VEVENT
BEGIN:VEVENT
DTSTART;TZID=America/Chicago:20260210T190000
DTEND;TZID=America/Chicago:20260210T203000
DTSTAMP:20260425T060040
CREATED:20251031T175722Z
LAST-MODIFIED:20260218T194500Z
UID:10003613-1770750000-1770755400@fmc-cu.org
SUMMARY:Worship Committee-Zoom
DESCRIPTION:This committee is responsible for nurturing the worship life of the congregation.
URL:https://fmc-cu.org/event/worship-committee-2/2026-02-10/
LOCATION:Zoom
CATEGORIES:FMC Meetings
END:VEVENT
BEGIN:VEVENT
DTSTART;TZID=America/Chicago:20260211T180000
DTEND;TZID=America/Chicago:20260211T200000
DTSTAMP:20260425T060040
CREATED:20260121T182245Z
LAST-MODIFIED:20260121T182620Z
UID:10003168-1770832800-1770840000@fmc-cu.org
SUMMARY:FMC Council meeting
DESCRIPTION:
URL:https://fmc-cu.org/event/fmc-council-meeting-2-2/2026-02-11/
LOCATION:First Mennonite Church\, 902 W Springfield Ave\, Urbana\, IL\, 61801\, United States
CATEGORIES:FMC Meetings
ORGANIZER;CN="FMC Office":MAILTO:office@fmc-cu.org
END:VEVENT
END:VCALENDAR