BEGIN:VCALENDAR
VERSION:2.0
PRODID:-//First Mennonite Church of Champaign-Urbana - ECPv6.15.20//NONSGML v1.0//EN
CALSCALE:GREGORIAN
METHOD:PUBLISH
X-ORIGINAL-URL:https://fmc-cu.org
X-WR-CALDESC:Events for First Mennonite Church of Champaign-Urbana
REFRESH-INTERVAL;VALUE=DURATION:PT1H
X-Robots-Tag:noindex
X-PUBLISHED-TTL:PT1H
BEGIN:VTIMEZONE
TZID:America/Chicago
BEGIN:DAYLIGHT
TZOFFSETFROM:-0600
TZOFFSETTO:-0500
TZNAME:CDT
DTSTART:20240310T080000
END:DAYLIGHT
BEGIN:STANDARD
TZOFFSETFROM:-0500
TZOFFSETTO:-0600
TZNAME:CST
DTSTART:20241103T070000
END:STANDARD
BEGIN:DAYLIGHT
TZOFFSETFROM:-0600
TZOFFSETTO:-0500
TZNAME:CDT
DTSTART:20250309T080000
END:DAYLIGHT
BEGIN:STANDARD
TZOFFSETFROM:-0500
TZOFFSETTO:-0600
TZNAME:CST
DTSTART:20251102T070000
END:STANDARD
BEGIN:DAYLIGHT
TZOFFSETFROM:-0600
TZOFFSETTO:-0500
TZNAME:CDT
DTSTART:20260308T080000
END:DAYLIGHT
BEGIN:STANDARD
TZOFFSETFROM:-0500
TZOFFSETTO:-0600
TZNAME:CST
DTSTART:20261101T070000
END:STANDARD
END:VTIMEZONE
BEGIN:VEVENT
DTSTART;TZID=America/Chicago:20250401T130000
DTEND;TZID=America/Chicago:20250401T150000
DTSTAMP:20260424T015436
CREATED:20250204T191402Z
LAST-MODIFIED:20250307T194454Z
UID:10003066-1743512400-1743519600@fmc-cu.org
SUMMARY:Racial Justice Working Group (Hybrid)
DESCRIPTION:This group provides a space for anti-racism education\, advocacy\, and mutual accountability in our church and community. The group meeting is hybrid\, with in person members meeting in the FMC library.
URL:https://fmc-cu.org/event/racial-justice-working-group-2-2-2-2-2-2-2/2025-04-01/
LOCATION:Hybrid
CATEGORIES:FMC Meetings
ORGANIZER;CN="Pastor Michael Crosby":MAILTO:michael.crosby@fmc-cu.org
END:VEVENT
BEGIN:VEVENT
DTSTART;TZID=America/Chicago:20250408T171500
DTEND;TZID=America/Chicago:20250408T183000
DTSTAMP:20260424T015436
CREATED:20231122T195215Z
LAST-MODIFIED:20250326T154841Z
UID:10003099-1744132500-1744137000@fmc-cu.org
SUMMARY:Readers' Theater rehearsal
DESCRIPTION:People participating in the Readers’ Theater on Palm Sunday will rehearse at FMC.\nTuesday\, April 8 at 5:15 pm and April 10 at 5:15 pm.
URL:https://fmc-cu.org/event/choir-rehearsal/2025-04-08/
LOCATION:First Mennonite Church\, 902 W Springfield Ave\, Urbana\, IL\, 61801\, United States
CATEGORIES:FMC Meetings
ORGANIZER;CN="Associate Pastor Deb Sutter":MAILTO:debra.sutter@fmc-cu.org
END:VEVENT
BEGIN:VEVENT
DTSTART;TZID=America/Chicago:20250409T180000
DTEND;TZID=America/Chicago:20250409T200000
DTSTAMP:20260424T015436
CREATED:20231220T190406Z
LAST-MODIFIED:20250411T192604Z
UID:10002286-1744221600-1744228800@fmc-cu.org
SUMMARY:FMC Council meeting
DESCRIPTION:
URL:https://fmc-cu.org/event/fmc-council-meeting-2/2025-04-09/
LOCATION:First Mennonite Church\, 902 W Springfield Ave\, Urbana\, IL\, 61801\, United States
CATEGORIES:FMC Meetings
ORGANIZER;CN="FMC Office":MAILTO:office@fmc-cu.org
END:VEVENT
BEGIN:VEVENT
DTSTART;TZID=America/Chicago:20250410T171500
DTEND;TZID=America/Chicago:20250410T183000
DTSTAMP:20260424T015436
CREATED:20231122T195215Z
LAST-MODIFIED:20250326T154841Z
UID:10003100-1744305300-1744309800@fmc-cu.org
SUMMARY:Readers' Theater rehearsal
DESCRIPTION:People participating in the Readers’ Theater on Palm Sunday will rehearse at FMC.\nTuesday\, April 8 at 5:15 pm and April 10 at 5:15 pm.
URL:https://fmc-cu.org/event/choir-rehearsal/2025-04-10/
LOCATION:First Mennonite Church\, 902 W Springfield Ave\, Urbana\, IL\, 61801\, United States
CATEGORIES:FMC Meetings
ORGANIZER;CN="Associate Pastor Deb Sutter":MAILTO:debra.sutter@fmc-cu.org
END:VEVENT
BEGIN:VEVENT
DTSTART;TZID=America/Chicago:20250419T100000
DTEND;TZID=America/Chicago:20250419T113000
DTSTAMP:20260424T015436
CREATED:20250326T160552Z
LAST-MODIFIED:20250326T160552Z
UID:10003162-1745056800-1745062200@fmc-cu.org
SUMMARY:Orchestra Rehearsal
DESCRIPTION:Orchestra rehearsal for Easter Sunday.
URL:https://fmc-cu.org/event/orchestra-rehearsal/
LOCATION:First Mennonite Church\, 902 W Springfield Ave\, Urbana\, IL\, 61801\, United States
CATEGORIES:FMC Meetings
ORGANIZER;CN="Associate Pastor Deb Sutter":MAILTO:debra.sutter@fmc-cu.org
END:VEVENT
BEGIN:VEVENT
DTSTART;TZID=America/Chicago:20250427T120000
DTEND;TZID=America/Chicago:20250427T140000
DTSTAMP:20260424T015436
CREATED:20250228T200154Z
LAST-MODIFIED:20250320T145845Z
UID:10002543-1745755200-1745762400@fmc-cu.org
SUMMARY:Facilities Committee Meeting (Hybrid)
DESCRIPTION:This FMC committee is responsible for the general supervision of the church’s physical property and financial affairs.
URL:https://fmc-cu.org/event/property-and-finance-committee-meeting-zoom-2022-12-21-2-2-2-2-3/
LOCATION:Hybrid
CATEGORIES:FMC Meetings
ORGANIZER;CN="FMC Office":MAILTO:office@fmc-cu.org
END:VEVENT
END:VCALENDAR