BEGIN:VCALENDAR
VERSION:2.0
PRODID:-//First Mennonite Church of Champaign-Urbana - ECPv6.15.20//NONSGML v1.0//EN
CALSCALE:GREGORIAN
METHOD:PUBLISH
X-WR-CALNAME:First Mennonite Church of Champaign-Urbana
X-ORIGINAL-URL:https://fmc-cu.org
X-WR-CALDESC:Events for First Mennonite Church of Champaign-Urbana
REFRESH-INTERVAL;VALUE=DURATION:PT1H
X-Robots-Tag:noindex
X-PUBLISHED-TTL:PT1H
BEGIN:VTIMEZONE
TZID:America/Chicago
BEGIN:DAYLIGHT
TZOFFSETFROM:-0600
TZOFFSETTO:-0500
TZNAME:CDT
DTSTART:20230312T080000
END:DAYLIGHT
BEGIN:STANDARD
TZOFFSETFROM:-0500
TZOFFSETTO:-0600
TZNAME:CST
DTSTART:20231105T070000
END:STANDARD
BEGIN:DAYLIGHT
TZOFFSETFROM:-0600
TZOFFSETTO:-0500
TZNAME:CDT
DTSTART:20240310T080000
END:DAYLIGHT
BEGIN:STANDARD
TZOFFSETFROM:-0500
TZOFFSETTO:-0600
TZNAME:CST
DTSTART:20241103T070000
END:STANDARD
BEGIN:DAYLIGHT
TZOFFSETFROM:-0600
TZOFFSETTO:-0500
TZNAME:CDT
DTSTART:20250309T080000
END:DAYLIGHT
BEGIN:STANDARD
TZOFFSETFROM:-0500
TZOFFSETTO:-0600
TZNAME:CST
DTSTART:20251102T070000
END:STANDARD
BEGIN:DAYLIGHT
TZOFFSETFROM:-0600
TZOFFSETTO:-0500
TZNAME:CDT
DTSTART:20260308T080000
END:DAYLIGHT
BEGIN:STANDARD
TZOFFSETFROM:-0500
TZOFFSETTO:-0600
TZNAME:CST
DTSTART:20261101T070000
END:STANDARD
END:VTIMEZONE
BEGIN:VEVENT
DTSTART;TZID=America/Chicago:20250617T183000
DTEND;TZID=America/Chicago:20250617T200000
DTSTAMP:20260424T161922
CREATED:20250528T181716Z
LAST-MODIFIED:20250528T181716Z
UID:10003217-1750185000-1750190400@fmc-cu.org
SUMMARY:Presentation on New Philadelphia\, IL
DESCRIPTION:FMC will host Abdul Alkalimat and Kate Williams- McWorter to speak about and answer questions related to the New Philadelphia\, IL historic district. Founded in 1836\, New Philadelphia\, IL was the first community in America started by an African American. Abdul is a descendant of the founder Frank McWorter. Abdul and Kate are professors at the University of Illinois and are leaders of the New Philadelphia Association.
URL:https://fmc-cu.org/event/presentation-on-new-philadelphia-il/
LOCATION:First Mennonite Church\, 902 W Springfield Ave\, Urbana\, IL\, 61801\, United States
CATEGORIES:FMC Events
END:VEVENT
BEGIN:VEVENT
DTSTART;TZID=America/Chicago:20250617T173000
DTEND;TZID=America/Chicago:20250617T193000
DTSTAMP:20260424T161922
CREATED:20240529T180214Z
LAST-MODIFIED:20250103T163528Z
UID:10002511-1750181400-1750188600@fmc-cu.org
SUMMARY:Taco Tuesday (3rd Tuesday of each month)
DESCRIPTION:Attendees meet for fellowship and a taco dinner. People sign up to help bring main items. Those not helping bring a main meal item are invited\, though not required\, to bring a topping to share. \n 
URL:https://fmc-cu.org/event/3rd-taco-thursday-2-2/2025-06-17/
LOCATION:First Mennonite Church\, 902 W Springfield Ave\, Urbana\, IL\, 61801\, United States
CATEGORIES:FMC Events
ORGANIZER;CN="Pastor Michael Crosby":MAILTO:michael.crosby@fmc-cu.org
END:VEVENT
BEGIN:VEVENT
DTSTART;TZID=America/Chicago:20250615T123000
DTEND;TZID=America/Chicago:20250615T143000
DTSTAMP:20260424T161922
CREATED:20220602T182506Z
LAST-MODIFIED:20250430T174041Z
UID:10000228-1749990600-1749997800@fmc-cu.org
SUMMARY:Father's Day Picnic
DESCRIPTION:Join us for a potluck picnic at Hessel Park in celebration of Father’s Day. Bring a nut-free dish to share\, your table service\, lawn chairs\, and games. Drinks will be provided. Look for us in one of the small shelters. The picnic will be in the FMC fellowship hall in the event of rain.
URL:https://fmc-cu.org/event/fathers-day-picnic/
LOCATION:Hessel Park\, Champaign\, IL\, 1400 Grandview Dr\, Champaign\, IL\, 61820\, United States
CATEGORIES:FMC Events
ORGANIZER;CN="FMC Office":MAILTO:office@fmc-cu.org
END:VEVENT
BEGIN:VEVENT
DTSTART;VALUE=DATE:20250525
DTEND;VALUE=DATE:20250526
DTSTAMP:20260424T161922
CREATED:20230613T193931Z
LAST-MODIFIED:20250806T151019Z
UID:10001805-1748131200-1748217599@fmc-cu.org
SUMMARY:Vine Newsletter - submission deadline
DESCRIPTION:The Vine is the newsletter of First Mennonite Church. Submissions should be emailed to the current editor\, Cindi Schieber.
URL:https://fmc-cu.org/event/vine-newsletter-submission-deadline-2/2025-05-25/
LOCATION:IL
CATEGORIES:FMC Events
ORGANIZER;CN="FMC Office":MAILTO:office@fmc-cu.org
END:VEVENT
BEGIN:VEVENT
DTSTART;TZID=America/Chicago:20250520T173000
DTEND;TZID=America/Chicago:20250520T193000
DTSTAMP:20260424T161922
CREATED:20240529T180214Z
LAST-MODIFIED:20250103T163528Z
UID:10002510-1747762200-1747769400@fmc-cu.org
SUMMARY:Taco Tuesday (3rd Tuesday of each month)
DESCRIPTION:Attendees meet for fellowship and a taco dinner. People sign up to help bring main items. Those not helping bring a main meal item are invited\, though not required\, to bring a topping to share. \n 
URL:https://fmc-cu.org/event/3rd-taco-thursday-2-2/2025-05-20/
LOCATION:First Mennonite Church\, 902 W Springfield Ave\, Urbana\, IL\, 61801\, United States
CATEGORIES:FMC Events
ORGANIZER;CN="Pastor Michael Crosby":MAILTO:michael.crosby@fmc-cu.org
END:VEVENT
BEGIN:VEVENT
DTSTART;VALUE=DATE:20250427
DTEND;VALUE=DATE:20250428
DTSTAMP:20260424T161922
CREATED:20230613T193931Z
LAST-MODIFIED:20250806T151019Z
UID:10001804-1745712000-1745798399@fmc-cu.org
SUMMARY:Vine Newsletter - submission deadline
DESCRIPTION:The Vine is the newsletter of First Mennonite Church. Submissions should be emailed to the current editor\, Cindi Schieber.
URL:https://fmc-cu.org/event/vine-newsletter-submission-deadline-2/2025-04-27/
LOCATION:IL
CATEGORIES:FMC Events
ORGANIZER;CN="FMC Office":MAILTO:office@fmc-cu.org
END:VEVENT
BEGIN:VEVENT
DTSTART;TZID=America/Chicago:20250415T173000
DTEND;TZID=America/Chicago:20250415T193000
DTSTAMP:20260424T161922
CREATED:20240529T180214Z
LAST-MODIFIED:20250103T163528Z
UID:10002509-1744738200-1744745400@fmc-cu.org
SUMMARY:Taco Tuesday (3rd Tuesday of each month)
DESCRIPTION:Attendees meet for fellowship and a taco dinner. People sign up to help bring main items. Those not helping bring a main meal item are invited\, though not required\, to bring a topping to share. \n 
URL:https://fmc-cu.org/event/3rd-taco-thursday-2-2/2025-04-15/
LOCATION:First Mennonite Church\, 902 W Springfield Ave\, Urbana\, IL\, 61801\, United States
CATEGORIES:FMC Events
ORGANIZER;CN="Pastor Michael Crosby":MAILTO:michael.crosby@fmc-cu.org
END:VEVENT
BEGIN:VEVENT
DTSTART;VALUE=DATE:20250330
DTEND;VALUE=DATE:20250331
DTSTAMP:20260424T161922
CREATED:20230613T193931Z
LAST-MODIFIED:20250806T151019Z
UID:10001803-1743292800-1743379199@fmc-cu.org
SUMMARY:Vine Newsletter - submission deadline
DESCRIPTION:The Vine is the newsletter of First Mennonite Church. Submissions should be emailed to the current editor\, Cindi Schieber.
URL:https://fmc-cu.org/event/vine-newsletter-submission-deadline-2/2025-03-30/
LOCATION:IL
CATEGORIES:FMC Events
ORGANIZER;CN="FMC Office":MAILTO:office@fmc-cu.org
END:VEVENT
BEGIN:VEVENT
DTSTART;TZID=America/Chicago:20250318T173000
DTEND;TZID=America/Chicago:20250318T193000
DTSTAMP:20260424T161922
CREATED:20240529T180214Z
LAST-MODIFIED:20250103T163528Z
UID:10002508-1742319000-1742326200@fmc-cu.org
SUMMARY:Taco Tuesday (3rd Tuesday of each month)
DESCRIPTION:Attendees meet for fellowship and a taco dinner. People sign up to help bring main items. Those not helping bring a main meal item are invited\, though not required\, to bring a topping to share. \n 
URL:https://fmc-cu.org/event/3rd-taco-thursday-2-2/2025-03-18/
LOCATION:First Mennonite Church\, 902 W Springfield Ave\, Urbana\, IL\, 61801\, United States
CATEGORIES:FMC Events
ORGANIZER;CN="Pastor Michael Crosby":MAILTO:michael.crosby@fmc-cu.org
END:VEVENT
BEGIN:VEVENT
DTSTART;TZID=America/Chicago:20250223T120000
DTEND;TZID=America/Chicago:20250223T140000
DTSTAMP:20260424T161922
CREATED:20250109T195847Z
LAST-MODIFIED:20250109T200024Z
UID:10003008-1740312000-1740319200@fmc-cu.org
SUMMARY:FMC potluck and Medical Debt Relief Auction
DESCRIPTION:The auction will follow a church potluck.
URL:https://fmc-cu.org/event/fmc-medical-debt-relief-auction/
LOCATION:First Mennonite Church\, 902 W Springfield Ave\, Urbana\, IL\, 61801\, United States
CATEGORIES:FMC Events
ORGANIZER;CN="FMC Office":MAILTO:office@fmc-cu.org
END:VEVENT
BEGIN:VEVENT
DTSTART;VALUE=DATE:20250223
DTEND;VALUE=DATE:20250224
DTSTAMP:20260424T161922
CREATED:20230613T193931Z
LAST-MODIFIED:20250806T151019Z
UID:10001802-1740268800-1740355199@fmc-cu.org
SUMMARY:Vine Newsletter - submission deadline
DESCRIPTION:The Vine is the newsletter of First Mennonite Church. Submissions should be emailed to the current editor\, Cindi Schieber.
URL:https://fmc-cu.org/event/vine-newsletter-submission-deadline-2/2025-02-23/
LOCATION:IL
CATEGORIES:FMC Events
ORGANIZER;CN="FMC Office":MAILTO:office@fmc-cu.org
END:VEVENT
BEGIN:VEVENT
DTSTART;TZID=America/Chicago:20250218T173000
DTEND;TZID=America/Chicago:20250218T193000
DTSTAMP:20260424T161922
CREATED:20240529T180214Z
LAST-MODIFIED:20250103T163528Z
UID:10002507-1739899800-1739907000@fmc-cu.org
SUMMARY:Taco Tuesday (3rd Tuesday of each month)
DESCRIPTION:Attendees meet for fellowship and a taco dinner. People sign up to help bring main items. Those not helping bring a main meal item are invited\, though not required\, to bring a topping to share. \n 
URL:https://fmc-cu.org/event/3rd-taco-thursday-2-2/2025-02-18/
LOCATION:First Mennonite Church\, 902 W Springfield Ave\, Urbana\, IL\, 61801\, United States
CATEGORIES:FMC Events
ORGANIZER;CN="Pastor Michael Crosby":MAILTO:michael.crosby@fmc-cu.org
END:VEVENT
BEGIN:VEVENT
DTSTART;VALUE=DATE:20250126
DTEND;VALUE=DATE:20250127
DTSTAMP:20260424T161922
CREATED:20230613T193931Z
LAST-MODIFIED:20250806T151019Z
UID:10001801-1737849600-1737935999@fmc-cu.org
SUMMARY:Vine Newsletter - submission deadline
DESCRIPTION:The Vine is the newsletter of First Mennonite Church. Submissions should be emailed to the current editor\, Cindi Schieber.
URL:https://fmc-cu.org/event/vine-newsletter-submission-deadline-2/2025-01-26/
LOCATION:IL
CATEGORIES:FMC Events
ORGANIZER;CN="FMC Office":MAILTO:office@fmc-cu.org
END:VEVENT
BEGIN:VEVENT
DTSTART;TZID=America/Chicago:20250121T173000
DTEND;TZID=America/Chicago:20250121T193000
DTSTAMP:20260424T161922
CREATED:20240529T180214Z
LAST-MODIFIED:20250103T163528Z
UID:10002506-1737480600-1737487800@fmc-cu.org
SUMMARY:Taco Tuesday (3rd Tuesday of each month)
DESCRIPTION:Attendees meet for fellowship and a taco dinner. People sign up to help bring main items. Those not helping bring a main meal item are invited\, though not required\, to bring a topping to share. \n 
URL:https://fmc-cu.org/event/3rd-taco-thursday-2-2/2025-01-21/
LOCATION:First Mennonite Church\, 902 W Springfield Ave\, Urbana\, IL\, 61801\, United States
CATEGORIES:FMC Events
ORGANIZER;CN="Pastor Michael Crosby":MAILTO:michael.crosby@fmc-cu.org
END:VEVENT
BEGIN:VEVENT
DTSTART;VALUE=DATE:20241229
DTEND;VALUE=DATE:20241230
DTSTAMP:20260424T161922
CREATED:20230613T193931Z
LAST-MODIFIED:20250806T151019Z
UID:10001800-1735430400-1735516799@fmc-cu.org
SUMMARY:Vine Newsletter - submission deadline
DESCRIPTION:The Vine is the newsletter of First Mennonite Church. Submissions should be emailed to the current editor\, Cindi Schieber.
URL:https://fmc-cu.org/event/vine-newsletter-submission-deadline-2/2024-12-29/
LOCATION:IL
CATEGORIES:FMC Events
ORGANIZER;CN="FMC Office":MAILTO:office@fmc-cu.org
END:VEVENT
BEGIN:VEVENT
DTSTART;TZID=America/Chicago:20241217T173000
DTEND;TZID=America/Chicago:20241217T193000
DTSTAMP:20260424T161922
CREATED:20240529T180214Z
LAST-MODIFIED:20250103T163528Z
UID:10002505-1734456600-1734463800@fmc-cu.org
SUMMARY:Taco Tuesday (3rd Tuesday of each month)
DESCRIPTION:Attendees meet for fellowship and a taco dinner. People sign up to help bring main items. Those not helping bring a main meal item are invited\, though not required\, to bring a topping to share. \n 
URL:https://fmc-cu.org/event/3rd-taco-thursday-2-2/2024-12-17/
LOCATION:First Mennonite Church\, 902 W Springfield Ave\, Urbana\, IL\, 61801\, United States
CATEGORIES:FMC Events
ORGANIZER;CN="Pastor Michael Crosby":MAILTO:michael.crosby@fmc-cu.org
END:VEVENT
BEGIN:VEVENT
DTSTART;TZID=America/Chicago:20241124T120000
DTEND;TZID=America/Chicago:20241124T133000
DTSTAMP:20260424T161922
CREATED:20221019T192343Z
LAST-MODIFIED:20241009T163307Z
UID:10000245-1732449600-1732455000@fmc-cu.org
SUMMARY:Thanksgiving Potluck
DESCRIPTION:Thanksgiving Potluck after Sunday school. Bring a nut-free dish to share.
URL:https://fmc-cu.org/event/thanksgiving-potluck/
LOCATION:First Mennonite Church\, 902 W Springfield Ave\, Urbana\, IL\, 61801\, United States
CATEGORIES:FMC Events
ORGANIZER;CN="FMC Office":MAILTO:office@fmc-cu.org
END:VEVENT
BEGIN:VEVENT
DTSTART;VALUE=DATE:20241124
DTEND;VALUE=DATE:20241125
DTSTAMP:20260424T161922
CREATED:20230613T193931Z
LAST-MODIFIED:20250806T151019Z
UID:10001799-1732406400-1732492799@fmc-cu.org
SUMMARY:Vine Newsletter - submission deadline
DESCRIPTION:The Vine is the newsletter of First Mennonite Church. Submissions should be emailed to the current editor\, Cindi Schieber.
URL:https://fmc-cu.org/event/vine-newsletter-submission-deadline-2/2024-11-24/
LOCATION:IL
CATEGORIES:FMC Events
ORGANIZER;CN="FMC Office":MAILTO:office@fmc-cu.org
END:VEVENT
BEGIN:VEVENT
DTSTART;TZID=America/Chicago:20241119T173000
DTEND;TZID=America/Chicago:20241119T193000
DTSTAMP:20260424T161922
CREATED:20240529T180214Z
LAST-MODIFIED:20250103T163528Z
UID:10002504-1732037400-1732044600@fmc-cu.org
SUMMARY:Taco Tuesday (3rd Tuesday of each month)
DESCRIPTION:Attendees meet for fellowship and a taco dinner. People sign up to help bring main items. Those not helping bring a main meal item are invited\, though not required\, to bring a topping to share. \n 
URL:https://fmc-cu.org/event/3rd-taco-thursday-2-2/2024-11-19/
LOCATION:First Mennonite Church\, 902 W Springfield Ave\, Urbana\, IL\, 61801\, United States
CATEGORIES:FMC Events
ORGANIZER;CN="Pastor Michael Crosby":MAILTO:michael.crosby@fmc-cu.org
END:VEVENT
BEGIN:VEVENT
DTSTART;TZID=America/Chicago:20241027T120000
DTEND;TZID=America/Chicago:20241027T160000
DTSTAMP:20260424T161922
CREATED:20220602T182620Z
LAST-MODIFIED:20240906T181255Z
UID:10002944-1730030400-1730044800@fmc-cu.org
SUMMARY:Fellowship Meals
DESCRIPTION:Fellowship meals. FMC attendees sign up to host a meal or to be a guest on Saturday evening (Oct 26) or Sunday lunch (Oct 27). Times are TBD by host and guests.
URL:https://fmc-cu.org/event/fellowship-picnic-lunches/2024-10-27/
LOCATION:IL
CATEGORIES:FMC Events
ORGANIZER;CN="FMC Office":MAILTO:office@fmc-cu.org
END:VEVENT
BEGIN:VEVENT
DTSTART;VALUE=DATE:20241027
DTEND;VALUE=DATE:20241028
DTSTAMP:20260424T161922
CREATED:20230613T193931Z
LAST-MODIFIED:20250806T151019Z
UID:10001798-1729987200-1730073599@fmc-cu.org
SUMMARY:Vine Newsletter - submission deadline
DESCRIPTION:The Vine is the newsletter of First Mennonite Church. Submissions should be emailed to the current editor\, Cindi Schieber.
URL:https://fmc-cu.org/event/vine-newsletter-submission-deadline-2/2024-10-27/
LOCATION:IL
CATEGORIES:FMC Events
ORGANIZER;CN="FMC Office":MAILTO:office@fmc-cu.org
END:VEVENT
BEGIN:VEVENT
DTSTART;TZID=America/Chicago:20241026T170000
DTEND;TZID=America/Chicago:20241026T220000
DTSTAMP:20260424T161922
CREATED:20220602T182620Z
LAST-MODIFIED:20240906T181255Z
UID:10002943-1729962000-1729980000@fmc-cu.org
SUMMARY:Fellowship Meals
DESCRIPTION:Fellowship meals. FMC attendees sign up to host a meal or to be a guest on Saturday evening (Oct 26) or Sunday lunch (Oct 27). Times are TBD by host and guests.
URL:https://fmc-cu.org/event/fellowship-picnic-lunches/2024-10-26/
LOCATION:IL
CATEGORIES:FMC Events
ORGANIZER;CN="FMC Office":MAILTO:office@fmc-cu.org
END:VEVENT
BEGIN:VEVENT
DTSTART;TZID=America/Chicago:20241015T173000
DTEND;TZID=America/Chicago:20241015T193000
DTSTAMP:20260424T161922
CREATED:20240529T180214Z
LAST-MODIFIED:20250103T163528Z
UID:10002503-1729013400-1729020600@fmc-cu.org
SUMMARY:Taco Tuesday (3rd Tuesday of each month)
DESCRIPTION:Attendees meet for fellowship and a taco dinner. People sign up to help bring main items. Those not helping bring a main meal item are invited\, though not required\, to bring a topping to share. \n 
URL:https://fmc-cu.org/event/3rd-taco-thursday-2-2/2024-10-15/
LOCATION:First Mennonite Church\, 902 W Springfield Ave\, Urbana\, IL\, 61801\, United States
CATEGORIES:FMC Events
ORGANIZER;CN="Pastor Michael Crosby":MAILTO:michael.crosby@fmc-cu.org
END:VEVENT
BEGIN:VEVENT
DTSTART;TZID=America/Chicago:20241005T103000
DTEND;TZID=America/Chicago:20241005T133000
DTSTAMP:20260424T161922
CREATED:20240911T150057Z
LAST-MODIFIED:20240911T161055Z
UID:10002946-1728124200-1728135000@fmc-cu.org
SUMMARY:FMC reserved for memorial service
DESCRIPTION:A memorial service for Tom Anderson will be held at First Mennonite Church at 10:30 am\, followed by a light lunch.
URL:https://fmc-cu.org/event/fmc-reserved-for-memorial-service-time-tbd/
LOCATION:First Mennonite Church\, 902 W Springfield Ave\, Urbana\, IL\, 61801\, United States
CATEGORIES:FMC Events
END:VEVENT
BEGIN:VEVENT
DTSTART;VALUE=DATE:20240929
DTEND;VALUE=DATE:20240930
DTSTAMP:20260424T161922
CREATED:20230613T193931Z
LAST-MODIFIED:20250806T151019Z
UID:10001797-1727568000-1727654399@fmc-cu.org
SUMMARY:Vine Newsletter - submission deadline
DESCRIPTION:The Vine is the newsletter of First Mennonite Church. Submissions should be emailed to the current editor\, Cindi Schieber.
URL:https://fmc-cu.org/event/vine-newsletter-submission-deadline-2/2024-09-29/
LOCATION:IL
CATEGORIES:FMC Events
ORGANIZER;CN="FMC Office":MAILTO:office@fmc-cu.org
END:VEVENT
BEGIN:VEVENT
DTSTART;TZID=America/Chicago:20240917T173000
DTEND;TZID=America/Chicago:20240917T193000
DTSTAMP:20260424T161922
CREATED:20240529T180214Z
LAST-MODIFIED:20250103T163528Z
UID:10002502-1726594200-1726601400@fmc-cu.org
SUMMARY:Taco Tuesday (3rd Tuesday of each month)
DESCRIPTION:Attendees meet for fellowship and a taco dinner. People sign up to help bring main items. Those not helping bring a main meal item are invited\, though not required\, to bring a topping to share. \n 
URL:https://fmc-cu.org/event/3rd-taco-thursday-2-2/2024-09-17/
LOCATION:First Mennonite Church\, 902 W Springfield Ave\, Urbana\, IL\, 61801\, United States
CATEGORIES:FMC Events
ORGANIZER;CN="Pastor Michael Crosby":MAILTO:michael.crosby@fmc-cu.org
END:VEVENT
BEGIN:VEVENT
DTSTART;VALUE=DATE:20240825
DTEND;VALUE=DATE:20240826
DTSTAMP:20260424T161922
CREATED:20230613T193931Z
LAST-MODIFIED:20250806T151019Z
UID:10001796-1724544000-1724630399@fmc-cu.org
SUMMARY:Vine Newsletter - submission deadline
DESCRIPTION:The Vine is the newsletter of First Mennonite Church. Submissions should be emailed to the current editor\, Cindi Schieber.
URL:https://fmc-cu.org/event/vine-newsletter-submission-deadline-2/2024-08-25/
LOCATION:IL
CATEGORIES:FMC Events
ORGANIZER;CN="FMC Office":MAILTO:office@fmc-cu.org
END:VEVENT
BEGIN:VEVENT
DTSTART;TZID=America/Chicago:20240820T173000
DTEND;TZID=America/Chicago:20240820T193000
DTSTAMP:20260424T161922
CREATED:20240529T180214Z
LAST-MODIFIED:20250103T163528Z
UID:10002501-1724175000-1724182200@fmc-cu.org
SUMMARY:Taco Tuesday (3rd Tuesday of each month)
DESCRIPTION:Attendees meet for fellowship and a taco dinner. People sign up to help bring main items. Those not helping bring a main meal item are invited\, though not required\, to bring a topping to share. \n 
URL:https://fmc-cu.org/event/3rd-taco-thursday-2-2/2024-08-20/
LOCATION:First Mennonite Church\, 902 W Springfield Ave\, Urbana\, IL\, 61801\, United States
CATEGORIES:FMC Events
ORGANIZER;CN="Pastor Michael Crosby":MAILTO:michael.crosby@fmc-cu.org
END:VEVENT
BEGIN:VEVENT
DTSTART;VALUE=DATE:20240728
DTEND;VALUE=DATE:20240729
DTSTAMP:20260424T161922
CREATED:20230613T193931Z
LAST-MODIFIED:20250806T151019Z
UID:10001795-1722124800-1722211199@fmc-cu.org
SUMMARY:Vine Newsletter - submission deadline
DESCRIPTION:The Vine is the newsletter of First Mennonite Church. Submissions should be emailed to the current editor\, Cindi Schieber.
URL:https://fmc-cu.org/event/vine-newsletter-submission-deadline-2/2024-07-28/
LOCATION:IL
CATEGORIES:FMC Events
ORGANIZER;CN="FMC Office":MAILTO:office@fmc-cu.org
END:VEVENT
BEGIN:VEVENT
DTSTART;TZID=America/Chicago:20240724T180000
DTEND;TZID=America/Chicago:20240724T200000
DTSTAMP:20260424T161922
CREATED:20230516T163027Z
LAST-MODIFIED:20240723T152715Z
UID:10001670-1721844000-1721851200@fmc-cu.org
SUMMARY:Women's Night Out Garden Party
DESCRIPTION:All women are invited to the home of Sheryl Dyck for a Women’s Night Out Garden Party. Bring a salad or dessert to share. We’ll have a white elephant gift exchange. Search your attic\, home  or garden\, or make an offer (e.g.\, afternoon of child care\, leaf raking) and put it in a gift bag to play this game of suspense and theft. RSVP to Marcia E Nelson. Rain date: July 31.    
URL:https://fmc-cu.org/event/womens-night-out/
LOCATION:IL
CATEGORIES:FMC Events
END:VEVENT
END:VCALENDAR