BEGIN:VCALENDAR
VERSION:2.0
PRODID:-//First Mennonite Church of Champaign-Urbana - ECPv6.15.20//NONSGML v1.0//EN
CALSCALE:GREGORIAN
METHOD:PUBLISH
X-ORIGINAL-URL:https://fmc-cu.org
X-WR-CALDESC:Events for First Mennonite Church of Champaign-Urbana
REFRESH-INTERVAL;VALUE=DURATION:PT1H
X-Robots-Tag:noindex
X-PUBLISHED-TTL:PT1H
BEGIN:VTIMEZONE
TZID:America/Chicago
BEGIN:DAYLIGHT
TZOFFSETFROM:-0600
TZOFFSETTO:-0500
TZNAME:CDT
DTSTART:20260308T080000
END:DAYLIGHT
BEGIN:STANDARD
TZOFFSETFROM:-0500
TZOFFSETTO:-0600
TZNAME:CST
DTSTART:20261101T070000
END:STANDARD
BEGIN:DAYLIGHT
TZOFFSETFROM:-0600
TZOFFSETTO:-0500
TZNAME:CDT
DTSTART:20270314T080000
END:DAYLIGHT
BEGIN:STANDARD
TZOFFSETFROM:-0500
TZOFFSETTO:-0600
TZNAME:CST
DTSTART:20271107T070000
END:STANDARD
BEGIN:DAYLIGHT
TZOFFSETFROM:-0600
TZOFFSETTO:-0500
TZNAME:CDT
DTSTART:20280312T080000
END:DAYLIGHT
BEGIN:STANDARD
TZOFFSETFROM:-0500
TZOFFSETTO:-0600
TZNAME:CST
DTSTART:20281105T070000
END:STANDARD
BEGIN:DAYLIGHT
TZOFFSETFROM:-0600
TZOFFSETTO:-0500
TZNAME:CDT
DTSTART:20290311T080000
END:DAYLIGHT
BEGIN:STANDARD
TZOFFSETFROM:-0500
TZOFFSETTO:-0600
TZNAME:CST
DTSTART:20291104T070000
END:STANDARD
BEGIN:DAYLIGHT
TZOFFSETFROM:-0600
TZOFFSETTO:-0500
TZNAME:CDT
DTSTART:20300310T080000
END:DAYLIGHT
BEGIN:STANDARD
TZOFFSETFROM:-0500
TZOFFSETTO:-0600
TZNAME:CST
DTSTART:20301103T070000
END:STANDARD
END:VTIMEZONE
BEGIN:VEVENT
DTSTART;VALUE=DATE:20270228
DTEND;VALUE=DATE:20270301
DTSTAMP:20260420T183605
CREATED:20230613T193931Z
LAST-MODIFIED:20250806T151019Z
UID:10001826-1803772800-1803859199@fmc-cu.org
SUMMARY:Vine Newsletter - submission deadline
DESCRIPTION:The Vine is the newsletter of First Mennonite Church. Submissions should be emailed to the current editor\, Cindi Schieber.
URL:https://fmc-cu.org/event/vine-newsletter-submission-deadline-2/2027-02-28/
LOCATION:IL
CATEGORIES:FMC Events
ORGANIZER;CN="FMC Office":MAILTO:office@fmc-cu.org
END:VEVENT
BEGIN:VEVENT
DTSTART;VALUE=DATE:20270328
DTEND;VALUE=DATE:20270329
DTSTAMP:20260420T183605
CREATED:20230613T193931Z
LAST-MODIFIED:20250806T151019Z
UID:10001827-1806192000-1806278399@fmc-cu.org
SUMMARY:Vine Newsletter - submission deadline
DESCRIPTION:The Vine is the newsletter of First Mennonite Church. Submissions should be emailed to the current editor\, Cindi Schieber.
URL:https://fmc-cu.org/event/vine-newsletter-submission-deadline-2/2027-03-28/
LOCATION:IL
CATEGORIES:FMC Events
ORGANIZER;CN="FMC Office":MAILTO:office@fmc-cu.org
END:VEVENT
BEGIN:VEVENT
DTSTART;VALUE=DATE:20270425
DTEND;VALUE=DATE:20270426
DTSTAMP:20260420T183605
CREATED:20230613T193931Z
LAST-MODIFIED:20250806T151019Z
UID:10001828-1808611200-1808697599@fmc-cu.org
SUMMARY:Vine Newsletter - submission deadline
DESCRIPTION:The Vine is the newsletter of First Mennonite Church. Submissions should be emailed to the current editor\, Cindi Schieber.
URL:https://fmc-cu.org/event/vine-newsletter-submission-deadline-2/2027-04-25/
LOCATION:IL
CATEGORIES:FMC Events
ORGANIZER;CN="FMC Office":MAILTO:office@fmc-cu.org
END:VEVENT
BEGIN:VEVENT
DTSTART;VALUE=DATE:20270530
DTEND;VALUE=DATE:20270531
DTSTAMP:20260420T183605
CREATED:20230613T193931Z
LAST-MODIFIED:20250806T151019Z
UID:10001829-1811635200-1811721599@fmc-cu.org
SUMMARY:Vine Newsletter - submission deadline
DESCRIPTION:The Vine is the newsletter of First Mennonite Church. Submissions should be emailed to the current editor\, Cindi Schieber.
URL:https://fmc-cu.org/event/vine-newsletter-submission-deadline-2/2027-05-30/
LOCATION:IL
CATEGORIES:FMC Events
ORGANIZER;CN="FMC Office":MAILTO:office@fmc-cu.org
END:VEVENT
BEGIN:VEVENT
DTSTART;VALUE=DATE:20270627
DTEND;VALUE=DATE:20270628
DTSTAMP:20260420T183605
CREATED:20230613T193931Z
LAST-MODIFIED:20250806T151019Z
UID:10001830-1814054400-1814140799@fmc-cu.org
SUMMARY:Vine Newsletter - submission deadline
DESCRIPTION:The Vine is the newsletter of First Mennonite Church. Submissions should be emailed to the current editor\, Cindi Schieber.
URL:https://fmc-cu.org/event/vine-newsletter-submission-deadline-2/2027-06-27/
LOCATION:IL
CATEGORIES:FMC Events
ORGANIZER;CN="FMC Office":MAILTO:office@fmc-cu.org
END:VEVENT
BEGIN:VEVENT
DTSTART;VALUE=DATE:20270725
DTEND;VALUE=DATE:20270726
DTSTAMP:20260420T183605
CREATED:20230613T193931Z
LAST-MODIFIED:20250806T151019Z
UID:10001831-1816473600-1816559999@fmc-cu.org
SUMMARY:Vine Newsletter - submission deadline
DESCRIPTION:The Vine is the newsletter of First Mennonite Church. Submissions should be emailed to the current editor\, Cindi Schieber.
URL:https://fmc-cu.org/event/vine-newsletter-submission-deadline-2/2027-07-25/
LOCATION:IL
CATEGORIES:FMC Events
ORGANIZER;CN="FMC Office":MAILTO:office@fmc-cu.org
END:VEVENT
BEGIN:VEVENT
DTSTART;VALUE=DATE:20270829
DTEND;VALUE=DATE:20270830
DTSTAMP:20260420T183605
CREATED:20230613T193931Z
LAST-MODIFIED:20250806T151019Z
UID:10001832-1819497600-1819583999@fmc-cu.org
SUMMARY:Vine Newsletter - submission deadline
DESCRIPTION:The Vine is the newsletter of First Mennonite Church. Submissions should be emailed to the current editor\, Cindi Schieber.
URL:https://fmc-cu.org/event/vine-newsletter-submission-deadline-2/2027-08-29/
LOCATION:IL
CATEGORIES:FMC Events
ORGANIZER;CN="FMC Office":MAILTO:office@fmc-cu.org
END:VEVENT
BEGIN:VEVENT
DTSTART;VALUE=DATE:20270926
DTEND;VALUE=DATE:20270927
DTSTAMP:20260420T183605
CREATED:20230613T193931Z
LAST-MODIFIED:20250806T151019Z
UID:10001833-1821916800-1822003199@fmc-cu.org
SUMMARY:Vine Newsletter - submission deadline
DESCRIPTION:The Vine is the newsletter of First Mennonite Church. Submissions should be emailed to the current editor\, Cindi Schieber.
URL:https://fmc-cu.org/event/vine-newsletter-submission-deadline-2/2027-09-26/
LOCATION:IL
CATEGORIES:FMC Events
ORGANIZER;CN="FMC Office":MAILTO:office@fmc-cu.org
END:VEVENT
BEGIN:VEVENT
DTSTART;VALUE=DATE:20271031
DTEND;VALUE=DATE:20271101
DTSTAMP:20260420T183605
CREATED:20230613T193931Z
LAST-MODIFIED:20250806T151019Z
UID:10001834-1824940800-1825027199@fmc-cu.org
SUMMARY:Vine Newsletter - submission deadline
DESCRIPTION:The Vine is the newsletter of First Mennonite Church. Submissions should be emailed to the current editor\, Cindi Schieber.
URL:https://fmc-cu.org/event/vine-newsletter-submission-deadline-2/2027-10-31/
LOCATION:IL
CATEGORIES:FMC Events
ORGANIZER;CN="FMC Office":MAILTO:office@fmc-cu.org
END:VEVENT
BEGIN:VEVENT
DTSTART;VALUE=DATE:20271128
DTEND;VALUE=DATE:20271129
DTSTAMP:20260420T183605
CREATED:20230613T193931Z
LAST-MODIFIED:20250806T151019Z
UID:10001835-1827360000-1827446399@fmc-cu.org
SUMMARY:Vine Newsletter - submission deadline
DESCRIPTION:The Vine is the newsletter of First Mennonite Church. Submissions should be emailed to the current editor\, Cindi Schieber.
URL:https://fmc-cu.org/event/vine-newsletter-submission-deadline-2/2027-11-28/
LOCATION:IL
CATEGORIES:FMC Events
ORGANIZER;CN="FMC Office":MAILTO:office@fmc-cu.org
END:VEVENT
BEGIN:VEVENT
DTSTART;VALUE=DATE:20271226
DTEND;VALUE=DATE:20271227
DTSTAMP:20260420T183605
CREATED:20230613T193931Z
LAST-MODIFIED:20250806T151019Z
UID:10001836-1829779200-1829865599@fmc-cu.org
SUMMARY:Vine Newsletter - submission deadline
DESCRIPTION:The Vine is the newsletter of First Mennonite Church. Submissions should be emailed to the current editor\, Cindi Schieber.
URL:https://fmc-cu.org/event/vine-newsletter-submission-deadline-2/2027-12-26/
LOCATION:IL
CATEGORIES:FMC Events
ORGANIZER;CN="FMC Office":MAILTO:office@fmc-cu.org
END:VEVENT
BEGIN:VEVENT
DTSTART;VALUE=DATE:20280130
DTEND;VALUE=DATE:20280131
DTSTAMP:20260420T183605
CREATED:20230613T193931Z
LAST-MODIFIED:20250806T151019Z
UID:10001837-1832803200-1832889599@fmc-cu.org
SUMMARY:Vine Newsletter - submission deadline
DESCRIPTION:The Vine is the newsletter of First Mennonite Church. Submissions should be emailed to the current editor\, Cindi Schieber.
URL:https://fmc-cu.org/event/vine-newsletter-submission-deadline-2/2028-01-30/
LOCATION:IL
CATEGORIES:FMC Events
ORGANIZER;CN="FMC Office":MAILTO:office@fmc-cu.org
END:VEVENT
BEGIN:VEVENT
DTSTART;VALUE=DATE:20280227
DTEND;VALUE=DATE:20280228
DTSTAMP:20260420T183605
CREATED:20230613T193931Z
LAST-MODIFIED:20250806T151019Z
UID:10001838-1835222400-1835308799@fmc-cu.org
SUMMARY:Vine Newsletter - submission deadline
DESCRIPTION:The Vine is the newsletter of First Mennonite Church. Submissions should be emailed to the current editor\, Cindi Schieber.
URL:https://fmc-cu.org/event/vine-newsletter-submission-deadline-2/2028-02-27/
LOCATION:IL
CATEGORIES:FMC Events
ORGANIZER;CN="FMC Office":MAILTO:office@fmc-cu.org
END:VEVENT
BEGIN:VEVENT
DTSTART;VALUE=DATE:20280326
DTEND;VALUE=DATE:20280327
DTSTAMP:20260420T183605
CREATED:20230613T193931Z
LAST-MODIFIED:20250806T151019Z
UID:10001839-1837641600-1837727999@fmc-cu.org
SUMMARY:Vine Newsletter - submission deadline
DESCRIPTION:The Vine is the newsletter of First Mennonite Church. Submissions should be emailed to the current editor\, Cindi Schieber.
URL:https://fmc-cu.org/event/vine-newsletter-submission-deadline-2/2028-03-26/
LOCATION:IL
CATEGORIES:FMC Events
ORGANIZER;CN="FMC Office":MAILTO:office@fmc-cu.org
END:VEVENT
BEGIN:VEVENT
DTSTART;VALUE=DATE:20280430
DTEND;VALUE=DATE:20280501
DTSTAMP:20260420T183605
CREATED:20230613T193931Z
LAST-MODIFIED:20250806T151019Z
UID:10001840-1840665600-1840751999@fmc-cu.org
SUMMARY:Vine Newsletter - submission deadline
DESCRIPTION:The Vine is the newsletter of First Mennonite Church. Submissions should be emailed to the current editor\, Cindi Schieber.
URL:https://fmc-cu.org/event/vine-newsletter-submission-deadline-2/2028-04-30/
LOCATION:IL
CATEGORIES:FMC Events
ORGANIZER;CN="FMC Office":MAILTO:office@fmc-cu.org
END:VEVENT
BEGIN:VEVENT
DTSTART;VALUE=DATE:20280528
DTEND;VALUE=DATE:20280529
DTSTAMP:20260420T183605
CREATED:20230613T193931Z
LAST-MODIFIED:20250806T151019Z
UID:10001841-1843084800-1843171199@fmc-cu.org
SUMMARY:Vine Newsletter - submission deadline
DESCRIPTION:The Vine is the newsletter of First Mennonite Church. Submissions should be emailed to the current editor\, Cindi Schieber.
URL:https://fmc-cu.org/event/vine-newsletter-submission-deadline-2/2028-05-28/
LOCATION:IL
CATEGORIES:FMC Events
ORGANIZER;CN="FMC Office":MAILTO:office@fmc-cu.org
END:VEVENT
BEGIN:VEVENT
DTSTART;VALUE=DATE:20280625
DTEND;VALUE=DATE:20280626
DTSTAMP:20260420T183605
CREATED:20230613T193931Z
LAST-MODIFIED:20250806T151019Z
UID:10002528-1845504000-1845590399@fmc-cu.org
SUMMARY:Vine Newsletter - submission deadline
DESCRIPTION:The Vine is the newsletter of First Mennonite Church. Submissions should be emailed to the current editor\, Cindi Schieber.
URL:https://fmc-cu.org/event/vine-newsletter-submission-deadline-2/2028-06-25/
LOCATION:IL
CATEGORIES:FMC Events
ORGANIZER;CN="FMC Office":MAILTO:office@fmc-cu.org
END:VEVENT
BEGIN:VEVENT
DTSTART;VALUE=DATE:20280730
DTEND;VALUE=DATE:20280731
DTSTAMP:20260420T183605
CREATED:20230613T193931Z
LAST-MODIFIED:20250806T151019Z
UID:10002529-1848528000-1848614399@fmc-cu.org
SUMMARY:Vine Newsletter - submission deadline
DESCRIPTION:The Vine is the newsletter of First Mennonite Church. Submissions should be emailed to the current editor\, Cindi Schieber.
URL:https://fmc-cu.org/event/vine-newsletter-submission-deadline-2/2028-07-30/
LOCATION:IL
CATEGORIES:FMC Events
ORGANIZER;CN="FMC Office":MAILTO:office@fmc-cu.org
END:VEVENT
BEGIN:VEVENT
DTSTART;VALUE=DATE:20280827
DTEND;VALUE=DATE:20280828
DTSTAMP:20260420T183605
CREATED:20230613T193931Z
LAST-MODIFIED:20250806T151019Z
UID:10002530-1850947200-1851033599@fmc-cu.org
SUMMARY:Vine Newsletter - submission deadline
DESCRIPTION:The Vine is the newsletter of First Mennonite Church. Submissions should be emailed to the current editor\, Cindi Schieber.
URL:https://fmc-cu.org/event/vine-newsletter-submission-deadline-2/2028-08-27/
LOCATION:IL
CATEGORIES:FMC Events
ORGANIZER;CN="FMC Office":MAILTO:office@fmc-cu.org
END:VEVENT
BEGIN:VEVENT
DTSTART;VALUE=DATE:20280924
DTEND;VALUE=DATE:20280925
DTSTAMP:20260420T183605
CREATED:20230613T193931Z
LAST-MODIFIED:20250806T151019Z
UID:10002531-1853366400-1853452799@fmc-cu.org
SUMMARY:Vine Newsletter - submission deadline
DESCRIPTION:The Vine is the newsletter of First Mennonite Church. Submissions should be emailed to the current editor\, Cindi Schieber.
URL:https://fmc-cu.org/event/vine-newsletter-submission-deadline-2/2028-09-24/
LOCATION:IL
CATEGORIES:FMC Events
ORGANIZER;CN="FMC Office":MAILTO:office@fmc-cu.org
END:VEVENT
BEGIN:VEVENT
DTSTART;VALUE=DATE:20281029
DTEND;VALUE=DATE:20281030
DTSTAMP:20260420T183605
CREATED:20230613T193931Z
LAST-MODIFIED:20250806T151019Z
UID:10002532-1856390400-1856476799@fmc-cu.org
SUMMARY:Vine Newsletter - submission deadline
DESCRIPTION:The Vine is the newsletter of First Mennonite Church. Submissions should be emailed to the current editor\, Cindi Schieber.
URL:https://fmc-cu.org/event/vine-newsletter-submission-deadline-2/2028-10-29/
LOCATION:IL
CATEGORIES:FMC Events
ORGANIZER;CN="FMC Office":MAILTO:office@fmc-cu.org
END:VEVENT
BEGIN:VEVENT
DTSTART;VALUE=DATE:20281126
DTEND;VALUE=DATE:20281127
DTSTAMP:20260420T183605
CREATED:20230613T193931Z
LAST-MODIFIED:20250806T151019Z
UID:10002533-1858809600-1858895999@fmc-cu.org
SUMMARY:Vine Newsletter - submission deadline
DESCRIPTION:The Vine is the newsletter of First Mennonite Church. Submissions should be emailed to the current editor\, Cindi Schieber.
URL:https://fmc-cu.org/event/vine-newsletter-submission-deadline-2/2028-11-26/
LOCATION:IL
CATEGORIES:FMC Events
ORGANIZER;CN="FMC Office":MAILTO:office@fmc-cu.org
END:VEVENT
BEGIN:VEVENT
DTSTART;VALUE=DATE:20281231
DTEND;VALUE=DATE:20290101
DTSTAMP:20260420T183605
CREATED:20230613T193931Z
LAST-MODIFIED:20250806T151019Z
UID:10002534-1861833600-1861919999@fmc-cu.org
SUMMARY:Vine Newsletter - submission deadline
DESCRIPTION:The Vine is the newsletter of First Mennonite Church. Submissions should be emailed to the current editor\, Cindi Schieber.
URL:https://fmc-cu.org/event/vine-newsletter-submission-deadline-2/2028-12-31/
LOCATION:IL
CATEGORIES:FMC Events
ORGANIZER;CN="FMC Office":MAILTO:office@fmc-cu.org
END:VEVENT
BEGIN:VEVENT
DTSTART;VALUE=DATE:20290128
DTEND;VALUE=DATE:20290129
DTSTAMP:20260420T183605
CREATED:20230613T193931Z
LAST-MODIFIED:20250806T151019Z
UID:10002535-1864252800-1864339199@fmc-cu.org
SUMMARY:Vine Newsletter - submission deadline
DESCRIPTION:The Vine is the newsletter of First Mennonite Church. Submissions should be emailed to the current editor\, Cindi Schieber.
URL:https://fmc-cu.org/event/vine-newsletter-submission-deadline-2/2029-01-28/
LOCATION:IL
CATEGORIES:FMC Events
ORGANIZER;CN="FMC Office":MAILTO:office@fmc-cu.org
END:VEVENT
BEGIN:VEVENT
DTSTART;VALUE=DATE:20290225
DTEND;VALUE=DATE:20290226
DTSTAMP:20260420T183605
CREATED:20230613T193931Z
LAST-MODIFIED:20250806T151019Z
UID:10002536-1866672000-1866758399@fmc-cu.org
SUMMARY:Vine Newsletter - submission deadline
DESCRIPTION:The Vine is the newsletter of First Mennonite Church. Submissions should be emailed to the current editor\, Cindi Schieber.
URL:https://fmc-cu.org/event/vine-newsletter-submission-deadline-2/2029-02-25/
LOCATION:IL
CATEGORIES:FMC Events
ORGANIZER;CN="FMC Office":MAILTO:office@fmc-cu.org
END:VEVENT
BEGIN:VEVENT
DTSTART;VALUE=DATE:20290325
DTEND;VALUE=DATE:20290326
DTSTAMP:20260420T183605
CREATED:20230613T193931Z
LAST-MODIFIED:20250806T151019Z
UID:10002537-1869091200-1869177599@fmc-cu.org
SUMMARY:Vine Newsletter - submission deadline
DESCRIPTION:The Vine is the newsletter of First Mennonite Church. Submissions should be emailed to the current editor\, Cindi Schieber.
URL:https://fmc-cu.org/event/vine-newsletter-submission-deadline-2/2029-03-25/
LOCATION:IL
CATEGORIES:FMC Events
ORGANIZER;CN="FMC Office":MAILTO:office@fmc-cu.org
END:VEVENT
BEGIN:VEVENT
DTSTART;VALUE=DATE:20290429
DTEND;VALUE=DATE:20290430
DTSTAMP:20260420T183605
CREATED:20230613T193931Z
LAST-MODIFIED:20250806T151019Z
UID:10002538-1872115200-1872201599@fmc-cu.org
SUMMARY:Vine Newsletter - submission deadline
DESCRIPTION:The Vine is the newsletter of First Mennonite Church. Submissions should be emailed to the current editor\, Cindi Schieber.
URL:https://fmc-cu.org/event/vine-newsletter-submission-deadline-2/2029-04-29/
LOCATION:IL
CATEGORIES:FMC Events
ORGANIZER;CN="FMC Office":MAILTO:office@fmc-cu.org
END:VEVENT
BEGIN:VEVENT
DTSTART;VALUE=DATE:20290527
DTEND;VALUE=DATE:20290528
DTSTAMP:20260420T183605
CREATED:20230613T193931Z
LAST-MODIFIED:20250806T151019Z
UID:10002539-1874534400-1874620799@fmc-cu.org
SUMMARY:Vine Newsletter - submission deadline
DESCRIPTION:The Vine is the newsletter of First Mennonite Church. Submissions should be emailed to the current editor\, Cindi Schieber.
URL:https://fmc-cu.org/event/vine-newsletter-submission-deadline-2/2029-05-27/
LOCATION:IL
CATEGORIES:FMC Events
ORGANIZER;CN="FMC Office":MAILTO:office@fmc-cu.org
END:VEVENT
BEGIN:VEVENT
DTSTART;VALUE=DATE:20290624
DTEND;VALUE=DATE:20290625
DTSTAMP:20260420T183605
CREATED:20230613T193931Z
LAST-MODIFIED:20250806T151019Z
UID:10003262-1876953600-1877039999@fmc-cu.org
SUMMARY:Vine Newsletter - submission deadline
DESCRIPTION:The Vine is the newsletter of First Mennonite Church. Submissions should be emailed to the current editor\, Cindi Schieber.
URL:https://fmc-cu.org/event/vine-newsletter-submission-deadline-2/2029-06-24/
LOCATION:IL
CATEGORIES:FMC Events
ORGANIZER;CN="FMC Office":MAILTO:office@fmc-cu.org
END:VEVENT
BEGIN:VEVENT
DTSTART;VALUE=DATE:20290729
DTEND;VALUE=DATE:20290730
DTSTAMP:20260420T183605
CREATED:20230613T193931Z
LAST-MODIFIED:20250806T151019Z
UID:10003263-1879977600-1880063999@fmc-cu.org
SUMMARY:Vine Newsletter - submission deadline
DESCRIPTION:The Vine is the newsletter of First Mennonite Church. Submissions should be emailed to the current editor\, Cindi Schieber.
URL:https://fmc-cu.org/event/vine-newsletter-submission-deadline-2/2029-07-29/
LOCATION:IL
CATEGORIES:FMC Events
ORGANIZER;CN="FMC Office":MAILTO:office@fmc-cu.org
END:VEVENT
END:VCALENDAR