BEGIN:VCALENDAR
VERSION:2.0
PRODID:-//First Mennonite Church of Champaign-Urbana - ECPv6.15.20//NONSGML v1.0//EN
CALSCALE:GREGORIAN
METHOD:PUBLISH
X-WR-CALNAME:First Mennonite Church of Champaign-Urbana
X-ORIGINAL-URL:https://fmc-cu.org
X-WR-CALDESC:Events for First Mennonite Church of Champaign-Urbana
REFRESH-INTERVAL;VALUE=DURATION:PT1H
X-Robots-Tag:noindex
X-PUBLISHED-TTL:PT1H
BEGIN:VTIMEZONE
TZID:America/Chicago
BEGIN:DAYLIGHT
TZOFFSETFROM:-0600
TZOFFSETTO:-0500
TZNAME:CDT
DTSTART:20250309T080000
END:DAYLIGHT
BEGIN:STANDARD
TZOFFSETFROM:-0500
TZOFFSETTO:-0600
TZNAME:CST
DTSTART:20251102T070000
END:STANDARD
BEGIN:DAYLIGHT
TZOFFSETFROM:-0600
TZOFFSETTO:-0500
TZNAME:CDT
DTSTART:20260308T080000
END:DAYLIGHT
BEGIN:STANDARD
TZOFFSETFROM:-0500
TZOFFSETTO:-0600
TZNAME:CST
DTSTART:20261101T070000
END:STANDARD
BEGIN:DAYLIGHT
TZOFFSETFROM:-0600
TZOFFSETTO:-0500
TZNAME:CDT
DTSTART:20270314T080000
END:DAYLIGHT
BEGIN:STANDARD
TZOFFSETFROM:-0500
TZOFFSETTO:-0600
TZNAME:CST
DTSTART:20271107T070000
END:STANDARD
END:VTIMEZONE
BEGIN:VEVENT
DTSTART;TZID=America/Chicago:20260214T180000
DTEND;TZID=America/Chicago:20260214T210000
DTSTAMP:20260422T105634
CREATED:20211109T162801Z
LAST-MODIFIED:20260127T200340Z
UID:10003584-1771092000-1771102800@fmc-cu.org
SUMMARY:Fellowship Dinners
DESCRIPTION:These potluck meals are a time for people attending FMC to gather in homes to share a meal.\nPeople can choose to host a meal or to be a guest.\nOptions for the meals are either Saturday evening\, Feb. 14 or Sunday Noon\, Feb. 15.\nExact times for each fellowship meal will be determined by the host and guests.
URL:https://fmc-cu.org/event/holiday-fellowship-dinners/2026-02-14/
LOCATION:IL
CATEGORIES:FMC Events
ORGANIZER;CN="FMC Office":MAILTO:office@fmc-cu.org
END:VEVENT
BEGIN:VEVENT
DTSTART;TZID=America/Chicago:20260215T120000
DTEND;TZID=America/Chicago:20260215T150000
DTSTAMP:20260422T105634
CREATED:20211109T162801Z
LAST-MODIFIED:20260127T200340Z
UID:10003585-1771156800-1771167600@fmc-cu.org
SUMMARY:Fellowship Dinners
DESCRIPTION:These potluck meals are a time for people attending FMC to gather in homes to share a meal.\nPeople can choose to host a meal or to be a guest.\nOptions for the meals are either Saturday evening\, Feb. 14 or Sunday Noon\, Feb. 15.\nExact times for each fellowship meal will be determined by the host and guests.
URL:https://fmc-cu.org/event/holiday-fellowship-dinners/2026-02-15/
LOCATION:IL
CATEGORIES:FMC Events
ORGANIZER;CN="FMC Office":MAILTO:office@fmc-cu.org
END:VEVENT
BEGIN:VEVENT
DTSTART;TZID=America/Chicago:20260218T183000
DTEND;TZID=America/Chicago:20260218T190000
DTSTAMP:20260422T105634
CREATED:20230120T205522Z
LAST-MODIFIED:20260127T201323Z
UID:10001457-1771439400-1771441200@fmc-cu.org
SUMMARY:Ash Wednesday Service
DESCRIPTION:Join us for our annual Ash Wednesday service in the sanctuary at FMC.
URL:https://fmc-cu.org/event/ash-wednesday-service/
LOCATION:First Mennonite Church\, 902 W Springfield Ave\, Urbana\, IL\, 61801\, United States
CATEGORIES:FMC Events
ORGANIZER;CN="FMC Office":MAILTO:office@fmc-cu.org
END:VEVENT
BEGIN:VEVENT
DTSTART;VALUE=DATE:20260222
DTEND;VALUE=DATE:20260223
DTSTAMP:20260422T105634
CREATED:20230613T193931Z
LAST-MODIFIED:20250806T151019Z
UID:10001814-1771718400-1771804799@fmc-cu.org
SUMMARY:Vine Newsletter - submission deadline
DESCRIPTION:The Vine is the newsletter of First Mennonite Church. Submissions should be emailed to the current editor\, Cindi Schieber.
URL:https://fmc-cu.org/event/vine-newsletter-submission-deadline-2/2026-02-22/
LOCATION:IL
CATEGORIES:FMC Events
ORGANIZER;CN="FMC Office":MAILTO:office@fmc-cu.org
END:VEVENT
END:VCALENDAR