BEGIN:VCALENDAR
VERSION:2.0
PRODID:-//First Mennonite Church of Champaign-Urbana - ECPv6.15.20//NONSGML v1.0//EN
CALSCALE:GREGORIAN
METHOD:PUBLISH
X-ORIGINAL-URL:https://fmc-cu.org
X-WR-CALDESC:Events for First Mennonite Church of Champaign-Urbana
REFRESH-INTERVAL;VALUE=DURATION:PT1H
X-Robots-Tag:noindex
X-PUBLISHED-TTL:PT1H
BEGIN:VTIMEZONE
TZID:America/Chicago
BEGIN:DAYLIGHT
TZOFFSETFROM:-0600
TZOFFSETTO:-0500
TZNAME:CDT
DTSTART:20220313T080000
END:DAYLIGHT
BEGIN:STANDARD
TZOFFSETFROM:-0500
TZOFFSETTO:-0600
TZNAME:CST
DTSTART:20221106T070000
END:STANDARD
BEGIN:DAYLIGHT
TZOFFSETFROM:-0600
TZOFFSETTO:-0500
TZNAME:CDT
DTSTART:20230312T080000
END:DAYLIGHT
BEGIN:STANDARD
TZOFFSETFROM:-0500
TZOFFSETTO:-0600
TZNAME:CST
DTSTART:20231105T070000
END:STANDARD
BEGIN:DAYLIGHT
TZOFFSETFROM:-0600
TZOFFSETTO:-0500
TZNAME:CDT
DTSTART:20240310T080000
END:DAYLIGHT
BEGIN:STANDARD
TZOFFSETFROM:-0500
TZOFFSETTO:-0600
TZNAME:CST
DTSTART:20241103T070000
END:STANDARD
BEGIN:DAYLIGHT
TZOFFSETFROM:-0600
TZOFFSETTO:-0500
TZNAME:CDT
DTSTART:20250309T080000
END:DAYLIGHT
BEGIN:STANDARD
TZOFFSETFROM:-0500
TZOFFSETTO:-0600
TZNAME:CST
DTSTART:20251102T070000
END:STANDARD
END:VTIMEZONE
BEGIN:VEVENT
DTSTART;TZID=America/Chicago:20240222T093000
DTEND;TZID=America/Chicago:20240222T113000
DTSTAMP:20260423T163846
CREATED:20231213T172927Z
LAST-MODIFIED:20231220T192237Z
UID:10002292-1708594200-1708601400@fmc-cu.org
SUMMARY:Thursday Morning Bible Study
DESCRIPTION:Join us for a time of study\, sharing and prayer.  Pastor Michael willserve as facilitator. We will study “To Follow the Lamb: A Peaceable Reading of the Book of Revelation” by Ted Grimsrud. All are welcome to attend.
URL:https://fmc-cu.org/event/thursday-morning-bible-study-2022-01-20-2-2/2024-02-22/
LOCATION:FMC Library\, 902 W Springfield Ave\, Urbana\, 61801
CATEGORIES:Bible Study & Prayer
ORGANIZER;CN="Pastor Michael Crosby":MAILTO:michael.crosby@fmc-cu.org
END:VEVENT
BEGIN:VEVENT
DTSTART;TZID=America/Chicago:20240215T093000
DTEND;TZID=America/Chicago:20240215T113000
DTSTAMP:20260423T163846
CREATED:20231213T172927Z
LAST-MODIFIED:20231220T192237Z
UID:10002291-1707989400-1707996600@fmc-cu.org
SUMMARY:Thursday Morning Bible Study
DESCRIPTION:Join us for a time of study\, sharing and prayer.  Pastor Michael willserve as facilitator. We will study “To Follow the Lamb: A Peaceable Reading of the Book of Revelation” by Ted Grimsrud. All are welcome to attend.
URL:https://fmc-cu.org/event/thursday-morning-bible-study-2022-01-20-2-2/2024-02-15/
LOCATION:FMC Library\, 902 W Springfield Ave\, Urbana\, 61801
CATEGORIES:Bible Study & Prayer
ORGANIZER;CN="Pastor Michael Crosby":MAILTO:michael.crosby@fmc-cu.org
END:VEVENT
BEGIN:VEVENT
DTSTART;TZID=America/Chicago:20240208T183000
DTEND;TZID=America/Chicago:20240208T200000
DTSTAMP:20260423T163846
CREATED:20240124T203656Z
LAST-MODIFIED:20240306T194143Z
UID:10001752-1707417000-1707422400@fmc-cu.org
SUMMARY:Beloved Community Bible Study
DESCRIPTION:This is a community Bible study lead by Pastor Michael Crosby\, of First Mennonite Church\, and Rev. Terrance Thomas of Bethel AME Church. \nThe location will alternate between the two churches:\nFebruary 8 at FMC\nFebruary 22 at Bethel AME\nMarch 7 at Bethel AME\nMarch 21 at FMC\nApril 11 at FMC\nApril 25 at Bethel AME (final session) \n 
URL:https://fmc-cu.org/event/beloved-community-bible-study-3/2024-02-08/
CATEGORIES:Bible Study & Prayer
ORGANIZER;CN="Pastor Michael Crosby":MAILTO:michael.crosby@fmc-cu.org
END:VEVENT
BEGIN:VEVENT
DTSTART;TZID=America/Chicago:20240208T093000
DTEND;TZID=America/Chicago:20240208T113000
DTSTAMP:20260423T163846
CREATED:20231213T172927Z
LAST-MODIFIED:20231220T192237Z
UID:10002290-1707384600-1707391800@fmc-cu.org
SUMMARY:Thursday Morning Bible Study
DESCRIPTION:Join us for a time of study\, sharing and prayer.  Pastor Michael willserve as facilitator. We will study “To Follow the Lamb: A Peaceable Reading of the Book of Revelation” by Ted Grimsrud. All are welcome to attend.
URL:https://fmc-cu.org/event/thursday-morning-bible-study-2022-01-20-2-2/2024-02-08/
LOCATION:FMC Library\, 902 W Springfield Ave\, Urbana\, 61801
CATEGORIES:Bible Study & Prayer
ORGANIZER;CN="Pastor Michael Crosby":MAILTO:michael.crosby@fmc-cu.org
END:VEVENT
BEGIN:VEVENT
DTSTART;TZID=America/Chicago:20240201T093000
DTEND;TZID=America/Chicago:20240201T113000
DTSTAMP:20260423T163846
CREATED:20231213T172927Z
LAST-MODIFIED:20231220T192237Z
UID:10002289-1706779800-1706787000@fmc-cu.org
SUMMARY:Thursday Morning Bible Study
DESCRIPTION:Join us for a time of study\, sharing and prayer.  Pastor Michael willserve as facilitator. We will study “To Follow the Lamb: A Peaceable Reading of the Book of Revelation” by Ted Grimsrud. All are welcome to attend.
URL:https://fmc-cu.org/event/thursday-morning-bible-study-2022-01-20-2-2/2024-02-01/
LOCATION:FMC Library\, 902 W Springfield Ave\, Urbana\, 61801
CATEGORIES:Bible Study & Prayer
ORGANIZER;CN="Pastor Michael Crosby":MAILTO:michael.crosby@fmc-cu.org
END:VEVENT
BEGIN:VEVENT
DTSTART;TZID=America/Chicago:20240125T093000
DTEND;TZID=America/Chicago:20240125T113000
DTSTAMP:20260423T163846
CREATED:20231213T172927Z
LAST-MODIFIED:20231220T192237Z
UID:10002288-1706175000-1706182200@fmc-cu.org
SUMMARY:Thursday Morning Bible Study
DESCRIPTION:Join us for a time of study\, sharing and prayer.  Pastor Michael willserve as facilitator. We will study “To Follow the Lamb: A Peaceable Reading of the Book of Revelation” by Ted Grimsrud. All are welcome to attend.
URL:https://fmc-cu.org/event/thursday-morning-bible-study-2022-01-20-2-2/2024-01-25/
LOCATION:FMC Library\, 902 W Springfield Ave\, Urbana\, 61801
CATEGORIES:Bible Study & Prayer
ORGANIZER;CN="Pastor Michael Crosby":MAILTO:michael.crosby@fmc-cu.org
END:VEVENT
BEGIN:VEVENT
DTSTART;TZID=America/Chicago:20240118T183000
DTEND;TZID=America/Chicago:20240118T200000
DTSTAMP:20260423T163846
CREATED:20231213T173100Z
LAST-MODIFIED:20231220T192929Z
UID:10002314-1705602600-1705608000@fmc-cu.org
SUMMARY:Beloved Community Bible Study
DESCRIPTION:This is a weekly 20-week community Bible study lead by Pastor Michael Crosby\, of First Mennonite Church\, and Rev. Terrance Thomas of Bethel AME Church.  The location will alternate between the two churches. \nIn January\, the meeting locations are: Bethel AME Church (401 E. Park St.\, Champaign) on January 11 and 25. First Mennonite Church on January 18.
URL:https://fmc-cu.org/event/beloved-community-bible-study-2/2024-01-18/
CATEGORIES:Bible Study & Prayer
ORGANIZER;CN="Pastor Michael Crosby":MAILTO:michael.crosby@fmc-cu.org
END:VEVENT
BEGIN:VEVENT
DTSTART;TZID=America/Chicago:20240118T093000
DTEND;TZID=America/Chicago:20240118T113000
DTSTAMP:20260423T163846
CREATED:20231213T172927Z
LAST-MODIFIED:20231220T192237Z
UID:10002287-1705570200-1705577400@fmc-cu.org
SUMMARY:Thursday Morning Bible Study
DESCRIPTION:Join us for a time of study\, sharing and prayer.  Pastor Michael willserve as facilitator. We will study “To Follow the Lamb: A Peaceable Reading of the Book of Revelation” by Ted Grimsrud. All are welcome to attend.
URL:https://fmc-cu.org/event/thursday-morning-bible-study-2022-01-20-2-2/2024-01-18/
LOCATION:FMC Library\, 902 W Springfield Ave\, Urbana\, 61801
CATEGORIES:Bible Study & Prayer
ORGANIZER;CN="Pastor Michael Crosby":MAILTO:michael.crosby@fmc-cu.org
END:VEVENT
BEGIN:VEVENT
DTSTART;TZID=America/Chicago:20240111T183000
DTEND;TZID=America/Chicago:20240111T200000
DTSTAMP:20260423T163846
CREATED:20231213T173100Z
LAST-MODIFIED:20231220T192929Z
UID:10001753-1704997800-1705003200@fmc-cu.org
SUMMARY:Beloved Community Bible Study
DESCRIPTION:This is a weekly 20-week community Bible study lead by Pastor Michael Crosby\, of First Mennonite Church\, and Rev. Terrance Thomas of Bethel AME Church.  The location will alternate between the two churches. \nIn January\, the meeting locations are: Bethel AME Church (401 E. Park St.\, Champaign) on January 11 and 25. First Mennonite Church on January 18.
URL:https://fmc-cu.org/event/beloved-community-bible-study-2/2024-01-11/
CATEGORIES:Bible Study & Prayer
ORGANIZER;CN="Pastor Michael Crosby":MAILTO:michael.crosby@fmc-cu.org
END:VEVENT
BEGIN:VEVENT
DTSTART;TZID=America/Chicago:20240111T093000
DTEND;TZID=America/Chicago:20240111T113000
DTSTAMP:20260423T163846
CREATED:20231213T172927Z
LAST-MODIFIED:20231220T192237Z
UID:10001895-1704965400-1704972600@fmc-cu.org
SUMMARY:Thursday Morning Bible Study
DESCRIPTION:Join us for a time of study\, sharing and prayer.  Pastor Michael willserve as facilitator. We will study “To Follow the Lamb: A Peaceable Reading of the Book of Revelation” by Ted Grimsrud. All are welcome to attend.
URL:https://fmc-cu.org/event/thursday-morning-bible-study-2022-01-20-2-2/2024-01-11/
LOCATION:FMC Library\, 902 W Springfield Ave\, Urbana\, 61801
CATEGORIES:Bible Study & Prayer
ORGANIZER;CN="Pastor Michael Crosby":MAILTO:michael.crosby@fmc-cu.org
END:VEVENT
BEGIN:VEVENT
DTSTART;TZID=America/Chicago:20231220T080000
DTEND;TZID=America/Chicago:20231220T090000
DTSTAMP:20260423T163846
CREATED:20230526T160503Z
LAST-MODIFIED:20231201T194406Z
UID:10000731-1703059200-1703062800@fmc-cu.org
SUMMARY:Wednesday Morning Zoom Bible Study (meets over Zoom)
DESCRIPTION:Early risers – join us online for a time of study and discussion. Email Pastor Michael for the Zoom link.
URL:https://fmc-cu.org/event/early-morning-bible-study-meets-over-zoom-2/2023-12-20/
LOCATION:Zoom
CATEGORIES:Bible Study & Prayer
ORGANIZER;CN="Pastor Michael Crosby":MAILTO:michael.crosby@fmc-cu.org
END:VEVENT
BEGIN:VEVENT
DTSTART;TZID=America/Chicago:20231213T080000
DTEND;TZID=America/Chicago:20231213T090000
DTSTAMP:20260423T163846
CREATED:20230526T160503Z
LAST-MODIFIED:20231201T194406Z
UID:10000730-1702454400-1702458000@fmc-cu.org
SUMMARY:Wednesday Morning Zoom Bible Study (meets over Zoom)
DESCRIPTION:Early risers – join us online for a time of study and discussion. Email Pastor Michael for the Zoom link.
URL:https://fmc-cu.org/event/early-morning-bible-study-meets-over-zoom-2/2023-12-13/
LOCATION:Zoom
CATEGORIES:Bible Study & Prayer
ORGANIZER;CN="Pastor Michael Crosby":MAILTO:michael.crosby@fmc-cu.org
END:VEVENT
BEGIN:VEVENT
DTSTART;TZID=America/Chicago:20231206T080000
DTEND;TZID=America/Chicago:20231206T090000
DTSTAMP:20260423T163846
CREATED:20230526T160503Z
LAST-MODIFIED:20231201T194406Z
UID:10000729-1701849600-1701853200@fmc-cu.org
SUMMARY:Wednesday Morning Zoom Bible Study (meets over Zoom)
DESCRIPTION:Early risers – join us online for a time of study and discussion. Email Pastor Michael for the Zoom link.
URL:https://fmc-cu.org/event/early-morning-bible-study-meets-over-zoom-2/2023-12-06/
LOCATION:Zoom
CATEGORIES:Bible Study & Prayer
ORGANIZER;CN="Pastor Michael Crosby":MAILTO:michael.crosby@fmc-cu.org
END:VEVENT
BEGIN:VEVENT
DTSTART;TZID=America/Chicago:20231129T080000
DTEND;TZID=America/Chicago:20231129T090000
DTSTAMP:20260423T163846
CREATED:20230526T160503Z
LAST-MODIFIED:20231201T194406Z
UID:10000728-1701244800-1701248400@fmc-cu.org
SUMMARY:Wednesday Morning Zoom Bible Study (meets over Zoom)
DESCRIPTION:Early risers – join us online for a time of study and discussion. Email Pastor Michael for the Zoom link.
URL:https://fmc-cu.org/event/early-morning-bible-study-meets-over-zoom-2/2023-11-29/
LOCATION:Zoom
CATEGORIES:Bible Study & Prayer
ORGANIZER;CN="Pastor Michael Crosby":MAILTO:michael.crosby@fmc-cu.org
END:VEVENT
BEGIN:VEVENT
DTSTART;TZID=America/Chicago:20231122T080000
DTEND;TZID=America/Chicago:20231122T090000
DTSTAMP:20260423T163846
CREATED:20230526T160503Z
LAST-MODIFIED:20231201T194406Z
UID:10000727-1700640000-1700643600@fmc-cu.org
SUMMARY:Wednesday Morning Zoom Bible Study (meets over Zoom)
DESCRIPTION:Early risers – join us online for a time of study and discussion. Email Pastor Michael for the Zoom link.
URL:https://fmc-cu.org/event/early-morning-bible-study-meets-over-zoom-2/2023-11-22/
LOCATION:Zoom
CATEGORIES:Bible Study & Prayer
ORGANIZER;CN="Pastor Michael Crosby":MAILTO:michael.crosby@fmc-cu.org
END:VEVENT
BEGIN:VEVENT
DTSTART;TZID=America/Chicago:20231115T080000
DTEND;TZID=America/Chicago:20231115T090000
DTSTAMP:20260423T163846
CREATED:20230526T160503Z
LAST-MODIFIED:20231201T194406Z
UID:10000726-1700035200-1700038800@fmc-cu.org
SUMMARY:Wednesday Morning Zoom Bible Study (meets over Zoom)
DESCRIPTION:Early risers – join us online for a time of study and discussion. Email Pastor Michael for the Zoom link.
URL:https://fmc-cu.org/event/early-morning-bible-study-meets-over-zoom-2/2023-11-15/
LOCATION:Zoom
CATEGORIES:Bible Study & Prayer
ORGANIZER;CN="Pastor Michael Crosby":MAILTO:michael.crosby@fmc-cu.org
END:VEVENT
BEGIN:VEVENT
DTSTART;TZID=America/Chicago:20231109T093000
DTEND;TZID=America/Chicago:20231109T113000
DTSTAMP:20260423T163846
CREATED:20230831T192523Z
LAST-MODIFIED:20230831T192721Z
UID:10001894-1699522200-1699529400@fmc-cu.org
SUMMARY:Thursday Morning Bible Study
DESCRIPTION:Join us for a time of study\, sharing and prayer.  All are welcome to attend.
URL:https://fmc-cu.org/event/thursday-morning-bible-study-2022-01-20-2/2023-11-09/
LOCATION:FMC Library\, 902 W Springfield Ave\, Urbana\, 61801
CATEGORIES:Bible Study & Prayer
ORGANIZER;CN="Associate Pastor Deb Sutter":MAILTO:debra.sutter@fmc-cu.org
END:VEVENT
BEGIN:VEVENT
DTSTART;TZID=America/Chicago:20231108T080000
DTEND;TZID=America/Chicago:20231108T090000
DTSTAMP:20260423T163846
CREATED:20230526T160503Z
LAST-MODIFIED:20231201T194406Z
UID:10000725-1699430400-1699434000@fmc-cu.org
SUMMARY:Wednesday Morning Zoom Bible Study (meets over Zoom)
DESCRIPTION:Early risers – join us online for a time of study and discussion. Email Pastor Michael for the Zoom link.
URL:https://fmc-cu.org/event/early-morning-bible-study-meets-over-zoom-2/2023-11-08/
LOCATION:Zoom
CATEGORIES:Bible Study & Prayer
ORGANIZER;CN="Pastor Michael Crosby":MAILTO:michael.crosby@fmc-cu.org
END:VEVENT
BEGIN:VEVENT
DTSTART;TZID=America/Chicago:20231102T093000
DTEND;TZID=America/Chicago:20231102T113000
DTSTAMP:20260423T163846
CREATED:20230831T192523Z
LAST-MODIFIED:20230831T192721Z
UID:10001893-1698917400-1698924600@fmc-cu.org
SUMMARY:Thursday Morning Bible Study
DESCRIPTION:Join us for a time of study\, sharing and prayer.  All are welcome to attend.
URL:https://fmc-cu.org/event/thursday-morning-bible-study-2022-01-20-2/2023-11-02/
LOCATION:FMC Library\, 902 W Springfield Ave\, Urbana\, 61801
CATEGORIES:Bible Study & Prayer
ORGANIZER;CN="Associate Pastor Deb Sutter":MAILTO:debra.sutter@fmc-cu.org
END:VEVENT
BEGIN:VEVENT
DTSTART;TZID=America/Chicago:20231101T080000
DTEND;TZID=America/Chicago:20231101T090000
DTSTAMP:20260423T163846
CREATED:20230526T160503Z
LAST-MODIFIED:20231201T194406Z
UID:10000724-1698825600-1698829200@fmc-cu.org
SUMMARY:Wednesday Morning Zoom Bible Study (meets over Zoom)
DESCRIPTION:Early risers – join us online for a time of study and discussion. Email Pastor Michael for the Zoom link.
URL:https://fmc-cu.org/event/early-morning-bible-study-meets-over-zoom-2/2023-11-01/
LOCATION:Zoom
CATEGORIES:Bible Study & Prayer
ORGANIZER;CN="Pastor Michael Crosby":MAILTO:michael.crosby@fmc-cu.org
END:VEVENT
BEGIN:VEVENT
DTSTART;TZID=America/Chicago:20231026T093000
DTEND;TZID=America/Chicago:20231026T113000
DTSTAMP:20260423T163846
CREATED:20230831T192523Z
LAST-MODIFIED:20230831T192721Z
UID:10001892-1698312600-1698319800@fmc-cu.org
SUMMARY:Thursday Morning Bible Study
DESCRIPTION:Join us for a time of study\, sharing and prayer.  All are welcome to attend.
URL:https://fmc-cu.org/event/thursday-morning-bible-study-2022-01-20-2/2023-10-26/
LOCATION:FMC Library\, 902 W Springfield Ave\, Urbana\, 61801
CATEGORIES:Bible Study & Prayer
ORGANIZER;CN="Associate Pastor Deb Sutter":MAILTO:debra.sutter@fmc-cu.org
END:VEVENT
BEGIN:VEVENT
DTSTART;TZID=America/Chicago:20231025T080000
DTEND;TZID=America/Chicago:20231025T090000
DTSTAMP:20260423T163846
CREATED:20230526T160503Z
LAST-MODIFIED:20231201T194406Z
UID:10000723-1698220800-1698224400@fmc-cu.org
SUMMARY:Wednesday Morning Zoom Bible Study (meets over Zoom)
DESCRIPTION:Early risers – join us online for a time of study and discussion. Email Pastor Michael for the Zoom link.
URL:https://fmc-cu.org/event/early-morning-bible-study-meets-over-zoom-2/2023-10-25/
LOCATION:Zoom
CATEGORIES:Bible Study & Prayer
ORGANIZER;CN="Pastor Michael Crosby":MAILTO:michael.crosby@fmc-cu.org
END:VEVENT
BEGIN:VEVENT
DTSTART;TZID=America/Chicago:20231019T093000
DTEND;TZID=America/Chicago:20231019T113000
DTSTAMP:20260423T163846
CREATED:20230831T192523Z
LAST-MODIFIED:20230831T192721Z
UID:10001891-1697707800-1697715000@fmc-cu.org
SUMMARY:Thursday Morning Bible Study
DESCRIPTION:Join us for a time of study\, sharing and prayer.  All are welcome to attend.
URL:https://fmc-cu.org/event/thursday-morning-bible-study-2022-01-20-2/2023-10-19/
LOCATION:FMC Library\, 902 W Springfield Ave\, Urbana\, 61801
CATEGORIES:Bible Study & Prayer
ORGANIZER;CN="Associate Pastor Deb Sutter":MAILTO:debra.sutter@fmc-cu.org
END:VEVENT
BEGIN:VEVENT
DTSTART;TZID=America/Chicago:20231018T080000
DTEND;TZID=America/Chicago:20231018T090000
DTSTAMP:20260423T163846
CREATED:20230526T160503Z
LAST-MODIFIED:20231201T194406Z
UID:10000722-1697616000-1697619600@fmc-cu.org
SUMMARY:Wednesday Morning Zoom Bible Study (meets over Zoom)
DESCRIPTION:Early risers – join us online for a time of study and discussion. Email Pastor Michael for the Zoom link.
URL:https://fmc-cu.org/event/early-morning-bible-study-meets-over-zoom-2/2023-10-18/
LOCATION:Zoom
CATEGORIES:Bible Study & Prayer
ORGANIZER;CN="Pastor Michael Crosby":MAILTO:michael.crosby@fmc-cu.org
END:VEVENT
BEGIN:VEVENT
DTSTART;TZID=America/Chicago:20231012T093000
DTEND;TZID=America/Chicago:20231012T113000
DTSTAMP:20260423T163846
CREATED:20230831T192523Z
LAST-MODIFIED:20230831T192721Z
UID:10001890-1697103000-1697110200@fmc-cu.org
SUMMARY:Thursday Morning Bible Study
DESCRIPTION:Join us for a time of study\, sharing and prayer.  All are welcome to attend.
URL:https://fmc-cu.org/event/thursday-morning-bible-study-2022-01-20-2/2023-10-12/
LOCATION:FMC Library\, 902 W Springfield Ave\, Urbana\, 61801
CATEGORIES:Bible Study & Prayer
ORGANIZER;CN="Associate Pastor Deb Sutter":MAILTO:debra.sutter@fmc-cu.org
END:VEVENT
BEGIN:VEVENT
DTSTART;TZID=America/Chicago:20231011T080000
DTEND;TZID=America/Chicago:20231011T090000
DTSTAMP:20260423T163846
CREATED:20230526T160503Z
LAST-MODIFIED:20231201T194406Z
UID:10000721-1697011200-1697014800@fmc-cu.org
SUMMARY:Wednesday Morning Zoom Bible Study (meets over Zoom)
DESCRIPTION:Early risers – join us online for a time of study and discussion. Email Pastor Michael for the Zoom link.
URL:https://fmc-cu.org/event/early-morning-bible-study-meets-over-zoom-2/2023-10-11/
LOCATION:Zoom
CATEGORIES:Bible Study & Prayer
ORGANIZER;CN="Pastor Michael Crosby":MAILTO:michael.crosby@fmc-cu.org
END:VEVENT
BEGIN:VEVENT
DTSTART;TZID=America/Chicago:20231005T093000
DTEND;TZID=America/Chicago:20231005T113000
DTSTAMP:20260423T163846
CREATED:20230831T192523Z
LAST-MODIFIED:20230831T192721Z
UID:10001889-1696498200-1696505400@fmc-cu.org
SUMMARY:Thursday Morning Bible Study
DESCRIPTION:Join us for a time of study\, sharing and prayer.  All are welcome to attend.
URL:https://fmc-cu.org/event/thursday-morning-bible-study-2022-01-20-2/2023-10-05/
LOCATION:FMC Library\, 902 W Springfield Ave\, Urbana\, 61801
CATEGORIES:Bible Study & Prayer
ORGANIZER;CN="Associate Pastor Deb Sutter":MAILTO:debra.sutter@fmc-cu.org
END:VEVENT
BEGIN:VEVENT
DTSTART;TZID=America/Chicago:20231004T080000
DTEND;TZID=America/Chicago:20231004T090000
DTSTAMP:20260423T163846
CREATED:20230526T160503Z
LAST-MODIFIED:20231201T194406Z
UID:10000720-1696406400-1696410000@fmc-cu.org
SUMMARY:Wednesday Morning Zoom Bible Study (meets over Zoom)
DESCRIPTION:Early risers – join us online for a time of study and discussion. Email Pastor Michael for the Zoom link.
URL:https://fmc-cu.org/event/early-morning-bible-study-meets-over-zoom-2/2023-10-04/
LOCATION:Zoom
CATEGORIES:Bible Study & Prayer
ORGANIZER;CN="Pastor Michael Crosby":MAILTO:michael.crosby@fmc-cu.org
END:VEVENT
BEGIN:VEVENT
DTSTART;TZID=America/Chicago:20230928T183000
DTEND;TZID=America/Chicago:20230928T200000
DTSTAMP:20260423T163846
CREATED:20230525T175924Z
LAST-MODIFIED:20231013T192559Z
UID:10001751-1695925800-1695931200@fmc-cu.org
SUMMARY:Beloved Community Bible Study
DESCRIPTION:This is a weekly 20-week community Bible study lead by Pastor Michael Crosby\, of First Mennonite Church\, and Rev. Terrance Thomas of Bethel AME Church.  The location will alternate between the two churches. \nDetails about materials and meeting location for each session can be found at: https://sites.google.com/fmc-cu.org/belovedcommunity/overview
URL:https://fmc-cu.org/event/beloved-community-bible-study/2023-09-28/
CATEGORIES:Bible Study & Prayer
ORGANIZER;CN="Pastor Michael Crosby":MAILTO:michael.crosby@fmc-cu.org
END:VEVENT
BEGIN:VEVENT
DTSTART;TZID=America/Chicago:20230928T093000
DTEND;TZID=America/Chicago:20230928T113000
DTSTAMP:20260423T163846
CREATED:20230831T192523Z
LAST-MODIFIED:20230831T192721Z
UID:10001888-1695893400-1695900600@fmc-cu.org
SUMMARY:Thursday Morning Bible Study
DESCRIPTION:Join us for a time of study\, sharing and prayer.  All are welcome to attend.
URL:https://fmc-cu.org/event/thursday-morning-bible-study-2022-01-20-2/2023-09-28/
LOCATION:FMC Library\, 902 W Springfield Ave\, Urbana\, 61801
CATEGORIES:Bible Study & Prayer
ORGANIZER;CN="Associate Pastor Deb Sutter":MAILTO:debra.sutter@fmc-cu.org
END:VEVENT
END:VCALENDAR