BEGIN:VCALENDAR
VERSION:2.0
PRODID:-//First Mennonite Church of Champaign-Urbana - ECPv6.15.20//NONSGML v1.0//EN
CALSCALE:GREGORIAN
METHOD:PUBLISH
X-ORIGINAL-URL:https://fmc-cu.org
X-WR-CALDESC:Events for First Mennonite Church of Champaign-Urbana
REFRESH-INTERVAL;VALUE=DURATION:PT1H
X-Robots-Tag:noindex
X-PUBLISHED-TTL:PT1H
BEGIN:VTIMEZONE
TZID:America/Chicago
BEGIN:DAYLIGHT
TZOFFSETFROM:-0600
TZOFFSETTO:-0500
TZNAME:CDT
DTSTART:20230312T080000
END:DAYLIGHT
BEGIN:STANDARD
TZOFFSETFROM:-0500
TZOFFSETTO:-0600
TZNAME:CST
DTSTART:20231105T070000
END:STANDARD
BEGIN:DAYLIGHT
TZOFFSETFROM:-0600
TZOFFSETTO:-0500
TZNAME:CDT
DTSTART:20240310T080000
END:DAYLIGHT
BEGIN:STANDARD
TZOFFSETFROM:-0500
TZOFFSETTO:-0600
TZNAME:CST
DTSTART:20241103T070000
END:STANDARD
BEGIN:DAYLIGHT
TZOFFSETFROM:-0600
TZOFFSETTO:-0500
TZNAME:CDT
DTSTART:20250309T080000
END:DAYLIGHT
BEGIN:STANDARD
TZOFFSETFROM:-0500
TZOFFSETTO:-0600
TZNAME:CST
DTSTART:20251102T070000
END:STANDARD
END:VTIMEZONE
BEGIN:VEVENT
DTSTART;TZID=America/Chicago:20240925T080000
DTEND;TZID=America/Chicago:20240925T093000
DTSTAMP:20260422T063548
CREATED:20230526T160544Z
LAST-MODIFIED:20241121T165805Z
UID:10002623-1727251200-1727256600@fmc-cu.org
SUMMARY:Wednesday Morning Zoom Bible Study (meets over Zoom)
DESCRIPTION:Early risers – join us online for a time of study and discussion. Email Pastor Michael for the Zoom link.
URL:https://fmc-cu.org/event/early-morning-bible-study-meets-over-zoom-2-2/2024-09-25/
LOCATION:Zoom
CATEGORIES:Bible Study & Prayer
ORGANIZER;CN="Pastor Michael Crosby":MAILTO:michael.crosby@fmc-cu.org
END:VEVENT
BEGIN:VEVENT
DTSTART;TZID=America/Chicago:20240919T121500
DTEND;TZID=America/Chicago:20240919T124500
DTSTAMP:20260422T063548
CREATED:20240814T154958Z
LAST-MODIFIED:20241108T154258Z
UID:10002611-1726748100-1726749900@fmc-cu.org
SUMMARY:Election Season Contemplative Prayer-Hybrid
DESCRIPTION:As the tumult of this political season intensifies\, FMC is hosting a mid-week prayer service to quiet ourselves\, offer our fears\, hopes\, anxieties\, sorrows\, and longings to God\, and listen for the Spirit’s leading about what faithfulness to Jesus looks like for us in these moments. The service will be 20-30 minutes\, and will likely include 1-2 sung prayers\, a short scripture reading\, “Prayers for the World” prompts\, and time for silence. \nThe service will be available in-person and online.
URL:https://fmc-cu.org/event/election-season-contemplative-prayer/2024-09-19/
LOCATION:First Mennonite Church\, 902 W Springfield Ave\, Urbana\, IL\, 61801\, United States
CATEGORIES:Bible Study & Prayer
END:VEVENT
BEGIN:VEVENT
DTSTART;TZID=America/Chicago:20240919T093000
DTEND;TZID=America/Chicago:20240919T113000
DTSTAMP:20260422T063548
CREATED:20240814T153346Z
LAST-MODIFIED:20241106T164321Z
UID:10002547-1726738200-1726745400@fmc-cu.org
SUMMARY:Thursday Morning Bible Study
DESCRIPTION:Join us for a time of study\, sharing and prayer.  The group will study Ecclesiastes and Proverbs. Pastor Deb is organizing the study. All are welcome to attend.
URL:https://fmc-cu.org/event/thursday-morning-bible-study-2022-01-20-2-2-2/2024-09-19/
LOCATION:FMC Library\, 902 W Springfield Ave\, Urbana\, 61801
CATEGORIES:Bible Study & Prayer
ORGANIZER;CN="Pastor Michael Crosby":MAILTO:michael.crosby@fmc-cu.org
END:VEVENT
BEGIN:VEVENT
DTSTART;TZID=America/Chicago:20240918T080000
DTEND;TZID=America/Chicago:20240918T093000
DTSTAMP:20260422T063548
CREATED:20230526T160544Z
LAST-MODIFIED:20241121T165805Z
UID:10002622-1726646400-1726651800@fmc-cu.org
SUMMARY:Wednesday Morning Zoom Bible Study (meets over Zoom)
DESCRIPTION:Early risers – join us online for a time of study and discussion. Email Pastor Michael for the Zoom link.
URL:https://fmc-cu.org/event/early-morning-bible-study-meets-over-zoom-2-2/2024-09-18/
LOCATION:Zoom
CATEGORIES:Bible Study & Prayer
ORGANIZER;CN="Pastor Michael Crosby":MAILTO:michael.crosby@fmc-cu.org
END:VEVENT
BEGIN:VEVENT
DTSTART;TZID=America/Chicago:20240912T121500
DTEND;TZID=America/Chicago:20240912T124500
DTSTAMP:20260422T063548
CREATED:20240814T154958Z
LAST-MODIFIED:20241108T154258Z
UID:10002610-1726143300-1726145100@fmc-cu.org
SUMMARY:Election Season Contemplative Prayer-Hybrid
DESCRIPTION:As the tumult of this political season intensifies\, FMC is hosting a mid-week prayer service to quiet ourselves\, offer our fears\, hopes\, anxieties\, sorrows\, and longings to God\, and listen for the Spirit’s leading about what faithfulness to Jesus looks like for us in these moments. The service will be 20-30 minutes\, and will likely include 1-2 sung prayers\, a short scripture reading\, “Prayers for the World” prompts\, and time for silence. \nThe service will be available in-person and online.
URL:https://fmc-cu.org/event/election-season-contemplative-prayer/2024-09-12/
LOCATION:First Mennonite Church\, 902 W Springfield Ave\, Urbana\, IL\, 61801\, United States
CATEGORIES:Bible Study & Prayer
END:VEVENT
BEGIN:VEVENT
DTSTART;TZID=America/Chicago:20240912T093000
DTEND;TZID=America/Chicago:20240912T113000
DTSTAMP:20260422T063548
CREATED:20240814T153346Z
LAST-MODIFIED:20241106T164321Z
UID:10002302-1726133400-1726140600@fmc-cu.org
SUMMARY:Thursday Morning Bible Study
DESCRIPTION:Join us for a time of study\, sharing and prayer.  The group will study Ecclesiastes and Proverbs. Pastor Deb is organizing the study. All are welcome to attend.
URL:https://fmc-cu.org/event/thursday-morning-bible-study-2022-01-20-2-2-2/2024-09-12/
LOCATION:FMC Library\, 902 W Springfield Ave\, Urbana\, 61801
CATEGORIES:Bible Study & Prayer
ORGANIZER;CN="Pastor Michael Crosby":MAILTO:michael.crosby@fmc-cu.org
END:VEVENT
BEGIN:VEVENT
DTSTART;TZID=America/Chicago:20240911T080000
DTEND;TZID=America/Chicago:20240911T093000
DTSTAMP:20260422T063548
CREATED:20230526T160544Z
LAST-MODIFIED:20241121T165805Z
UID:10002621-1726041600-1726047000@fmc-cu.org
SUMMARY:Wednesday Morning Zoom Bible Study (meets over Zoom)
DESCRIPTION:Early risers – join us online for a time of study and discussion. Email Pastor Michael for the Zoom link.
URL:https://fmc-cu.org/event/early-morning-bible-study-meets-over-zoom-2-2/2024-09-11/
LOCATION:Zoom
CATEGORIES:Bible Study & Prayer
ORGANIZER;CN="Pastor Michael Crosby":MAILTO:michael.crosby@fmc-cu.org
END:VEVENT
BEGIN:VEVENT
DTSTART;TZID=America/Chicago:20240905T121500
DTEND;TZID=America/Chicago:20240905T124500
DTSTAMP:20260422T063548
CREATED:20240814T154958Z
LAST-MODIFIED:20241108T154258Z
UID:10002609-1725538500-1725540300@fmc-cu.org
SUMMARY:Election Season Contemplative Prayer-Hybrid
DESCRIPTION:As the tumult of this political season intensifies\, FMC is hosting a mid-week prayer service to quiet ourselves\, offer our fears\, hopes\, anxieties\, sorrows\, and longings to God\, and listen for the Spirit’s leading about what faithfulness to Jesus looks like for us in these moments. The service will be 20-30 minutes\, and will likely include 1-2 sung prayers\, a short scripture reading\, “Prayers for the World” prompts\, and time for silence. \nThe service will be available in-person and online.
URL:https://fmc-cu.org/event/election-season-contemplative-prayer/2024-09-05/
LOCATION:First Mennonite Church\, 902 W Springfield Ave\, Urbana\, IL\, 61801\, United States
CATEGORIES:Bible Study & Prayer
END:VEVENT
BEGIN:VEVENT
DTSTART;TZID=America/Chicago:20240904T080000
DTEND;TZID=America/Chicago:20240904T093000
DTSTAMP:20260422T063548
CREATED:20230526T160544Z
LAST-MODIFIED:20241121T165805Z
UID:10002620-1725436800-1725442200@fmc-cu.org
SUMMARY:Wednesday Morning Zoom Bible Study (meets over Zoom)
DESCRIPTION:Early risers – join us online for a time of study and discussion. Email Pastor Michael for the Zoom link.
URL:https://fmc-cu.org/event/early-morning-bible-study-meets-over-zoom-2-2/2024-09-04/
LOCATION:Zoom
CATEGORIES:Bible Study & Prayer
ORGANIZER;CN="Pastor Michael Crosby":MAILTO:michael.crosby@fmc-cu.org
END:VEVENT
BEGIN:VEVENT
DTSTART;TZID=America/Chicago:20240425T183000
DTEND;TZID=America/Chicago:20240425T200000
DTSTAMP:20260422T063548
CREATED:20240124T203656Z
LAST-MODIFIED:20240306T194143Z
UID:10002352-1714069800-1714075200@fmc-cu.org
SUMMARY:Beloved Community Bible Study
DESCRIPTION:This is a community Bible study lead by Pastor Michael Crosby\, of First Mennonite Church\, and Rev. Terrance Thomas of Bethel AME Church. \nThe location will alternate between the two churches:\nFebruary 8 at FMC\nFebruary 22 at Bethel AME\nMarch 7 at Bethel AME\nMarch 21 at FMC\nApril 11 at FMC\nApril 25 at Bethel AME (final session) \n 
URL:https://fmc-cu.org/event/beloved-community-bible-study-3/2024-04-25/
LOCATION:IL
CATEGORIES:Bible Study & Prayer
ORGANIZER;CN="Pastor Michael Crosby":MAILTO:michael.crosby@fmc-cu.org
END:VEVENT
BEGIN:VEVENT
DTSTART;TZID=America/Chicago:20240425T093000
DTEND;TZID=America/Chicago:20240425T113000
DTSTAMP:20260422T063548
CREATED:20231213T172927Z
LAST-MODIFIED:20231220T192237Z
UID:10002300-1714037400-1714044600@fmc-cu.org
SUMMARY:Thursday Morning Bible Study
DESCRIPTION:Join us for a time of study\, sharing and prayer.  Pastor Michael willserve as facilitator. We will study “To Follow the Lamb: A Peaceable Reading of the Book of Revelation” by Ted Grimsrud. All are welcome to attend.
URL:https://fmc-cu.org/event/thursday-morning-bible-study-2022-01-20-2-2/2024-04-25/
LOCATION:FMC Library\, 902 W Springfield Ave\, Urbana\, 61801
CATEGORIES:Bible Study & Prayer
ORGANIZER;CN="Pastor Michael Crosby":MAILTO:michael.crosby@fmc-cu.org
END:VEVENT
BEGIN:VEVENT
DTSTART;TZID=America/Chicago:20240418T093000
DTEND;TZID=America/Chicago:20240418T113000
DTSTAMP:20260422T063548
CREATED:20231213T172927Z
LAST-MODIFIED:20231220T192237Z
UID:10002299-1713432600-1713439800@fmc-cu.org
SUMMARY:Thursday Morning Bible Study
DESCRIPTION:Join us for a time of study\, sharing and prayer.  Pastor Michael willserve as facilitator. We will study “To Follow the Lamb: A Peaceable Reading of the Book of Revelation” by Ted Grimsrud. All are welcome to attend.
URL:https://fmc-cu.org/event/thursday-morning-bible-study-2022-01-20-2-2/2024-04-18/
LOCATION:FMC Library\, 902 W Springfield Ave\, Urbana\, 61801
CATEGORIES:Bible Study & Prayer
ORGANIZER;CN="Pastor Michael Crosby":MAILTO:michael.crosby@fmc-cu.org
END:VEVENT
BEGIN:VEVENT
DTSTART;TZID=America/Chicago:20240411T183000
DTEND;TZID=America/Chicago:20240411T200000
DTSTAMP:20260422T063548
CREATED:20240124T203656Z
LAST-MODIFIED:20240306T194143Z
UID:10002351-1712860200-1712865600@fmc-cu.org
SUMMARY:Beloved Community Bible Study
DESCRIPTION:This is a community Bible study lead by Pastor Michael Crosby\, of First Mennonite Church\, and Rev. Terrance Thomas of Bethel AME Church. \nThe location will alternate between the two churches:\nFebruary 8 at FMC\nFebruary 22 at Bethel AME\nMarch 7 at Bethel AME\nMarch 21 at FMC\nApril 11 at FMC\nApril 25 at Bethel AME (final session) \n 
URL:https://fmc-cu.org/event/beloved-community-bible-study-3/2024-04-11/
LOCATION:IL
CATEGORIES:Bible Study & Prayer
ORGANIZER;CN="Pastor Michael Crosby":MAILTO:michael.crosby@fmc-cu.org
END:VEVENT
BEGIN:VEVENT
DTSTART;TZID=America/Chicago:20240411T093000
DTEND;TZID=America/Chicago:20240411T113000
DTSTAMP:20260422T063548
CREATED:20231213T172927Z
LAST-MODIFIED:20231220T192237Z
UID:10002298-1712827800-1712835000@fmc-cu.org
SUMMARY:Thursday Morning Bible Study
DESCRIPTION:Join us for a time of study\, sharing and prayer.  Pastor Michael willserve as facilitator. We will study “To Follow the Lamb: A Peaceable Reading of the Book of Revelation” by Ted Grimsrud. All are welcome to attend.
URL:https://fmc-cu.org/event/thursday-morning-bible-study-2022-01-20-2-2/2024-04-11/
LOCATION:FMC Library\, 902 W Springfield Ave\, Urbana\, 61801
CATEGORIES:Bible Study & Prayer
ORGANIZER;CN="Pastor Michael Crosby":MAILTO:michael.crosby@fmc-cu.org
END:VEVENT
BEGIN:VEVENT
DTSTART;TZID=America/Chicago:20240404T093000
DTEND;TZID=America/Chicago:20240404T113000
DTSTAMP:20260422T063548
CREATED:20231213T172927Z
LAST-MODIFIED:20231220T192237Z
UID:10002297-1712223000-1712230200@fmc-cu.org
SUMMARY:Thursday Morning Bible Study
DESCRIPTION:Join us for a time of study\, sharing and prayer.  Pastor Michael willserve as facilitator. We will study “To Follow the Lamb: A Peaceable Reading of the Book of Revelation” by Ted Grimsrud. All are welcome to attend.
URL:https://fmc-cu.org/event/thursday-morning-bible-study-2022-01-20-2-2/2024-04-04/
LOCATION:FMC Library\, 902 W Springfield Ave\, Urbana\, 61801
CATEGORIES:Bible Study & Prayer
ORGANIZER;CN="Pastor Michael Crosby":MAILTO:michael.crosby@fmc-cu.org
END:VEVENT
BEGIN:VEVENT
DTSTART;TZID=America/Chicago:20240321T183000
DTEND;TZID=America/Chicago:20240321T200000
DTSTAMP:20260422T063548
CREATED:20240124T203656Z
LAST-MODIFIED:20240306T194143Z
UID:10002350-1711045800-1711051200@fmc-cu.org
SUMMARY:Beloved Community Bible Study
DESCRIPTION:This is a community Bible study lead by Pastor Michael Crosby\, of First Mennonite Church\, and Rev. Terrance Thomas of Bethel AME Church. \nThe location will alternate between the two churches:\nFebruary 8 at FMC\nFebruary 22 at Bethel AME\nMarch 7 at Bethel AME\nMarch 21 at FMC\nApril 11 at FMC\nApril 25 at Bethel AME (final session) \n 
URL:https://fmc-cu.org/event/beloved-community-bible-study-3/2024-03-21/
LOCATION:IL
CATEGORIES:Bible Study & Prayer
ORGANIZER;CN="Pastor Michael Crosby":MAILTO:michael.crosby@fmc-cu.org
END:VEVENT
BEGIN:VEVENT
DTSTART;TZID=America/Chicago:20240321T093000
DTEND;TZID=America/Chicago:20240321T113000
DTSTAMP:20260422T063548
CREATED:20231213T172927Z
LAST-MODIFIED:20231220T192237Z
UID:10002296-1711013400-1711020600@fmc-cu.org
SUMMARY:Thursday Morning Bible Study
DESCRIPTION:Join us for a time of study\, sharing and prayer.  Pastor Michael willserve as facilitator. We will study “To Follow the Lamb: A Peaceable Reading of the Book of Revelation” by Ted Grimsrud. All are welcome to attend.
URL:https://fmc-cu.org/event/thursday-morning-bible-study-2022-01-20-2-2/2024-03-21/
LOCATION:FMC Library\, 902 W Springfield Ave\, Urbana\, 61801
CATEGORIES:Bible Study & Prayer
ORGANIZER;CN="Pastor Michael Crosby":MAILTO:michael.crosby@fmc-cu.org
END:VEVENT
BEGIN:VEVENT
DTSTART;TZID=America/Chicago:20240314T183000
DTEND;TZID=America/Chicago:20240314T200000
DTSTAMP:20260422T063548
CREATED:20240301T190914Z
LAST-MODIFIED:20240301T190915Z
UID:10002315-1710441000-1710446400@fmc-cu.org
SUMMARY:Beloved Community Bible Study
DESCRIPTION:This community Bible study meets twice a month and is led by Pastor Michael Crosby\, of First Mennonite Church\, and Rev. Terrance Thomas of Bethel AME Church.  The location will alternate between the two churches. \nMarch 14 – meets at Bethel AME\nMarch 21 – meets at FMC \n 
URL:https://fmc-cu.org/event/beloved-community-bible-study-2-2/
LOCATION:IL
CATEGORIES:Bible Study & Prayer
ORGANIZER;CN="Pastor Michael Crosby":MAILTO:michael.crosby@fmc-cu.org
END:VEVENT
BEGIN:VEVENT
DTSTART;TZID=America/Chicago:20240314T093000
DTEND;TZID=America/Chicago:20240314T113000
DTSTAMP:20260422T063548
CREATED:20231213T172927Z
LAST-MODIFIED:20231220T192237Z
UID:10002295-1710408600-1710415800@fmc-cu.org
SUMMARY:Thursday Morning Bible Study
DESCRIPTION:Join us for a time of study\, sharing and prayer.  Pastor Michael willserve as facilitator. We will study “To Follow the Lamb: A Peaceable Reading of the Book of Revelation” by Ted Grimsrud. All are welcome to attend.
URL:https://fmc-cu.org/event/thursday-morning-bible-study-2022-01-20-2-2/2024-03-14/
LOCATION:FMC Library\, 902 W Springfield Ave\, Urbana\, 61801
CATEGORIES:Bible Study & Prayer
ORGANIZER;CN="Pastor Michael Crosby":MAILTO:michael.crosby@fmc-cu.org
END:VEVENT
BEGIN:VEVENT
DTSTART;TZID=America/Chicago:20240307T093000
DTEND;TZID=America/Chicago:20240307T113000
DTSTAMP:20260422T063548
CREATED:20231213T172927Z
LAST-MODIFIED:20231220T192237Z
UID:10002294-1709803800-1709811000@fmc-cu.org
SUMMARY:Thursday Morning Bible Study
DESCRIPTION:Join us for a time of study\, sharing and prayer.  Pastor Michael willserve as facilitator. We will study “To Follow the Lamb: A Peaceable Reading of the Book of Revelation” by Ted Grimsrud. All are welcome to attend.
URL:https://fmc-cu.org/event/thursday-morning-bible-study-2022-01-20-2-2/2024-03-07/
LOCATION:FMC Library\, 902 W Springfield Ave\, Urbana\, 61801
CATEGORIES:Bible Study & Prayer
ORGANIZER;CN="Pastor Michael Crosby":MAILTO:michael.crosby@fmc-cu.org
END:VEVENT
BEGIN:VEVENT
DTSTART;TZID=America/Chicago:20240229T093000
DTEND;TZID=America/Chicago:20240229T113000
DTSTAMP:20260422T063548
CREATED:20231213T172927Z
LAST-MODIFIED:20231220T192237Z
UID:10002293-1709199000-1709206200@fmc-cu.org
SUMMARY:Thursday Morning Bible Study
DESCRIPTION:Join us for a time of study\, sharing and prayer.  Pastor Michael willserve as facilitator. We will study “To Follow the Lamb: A Peaceable Reading of the Book of Revelation” by Ted Grimsrud. All are welcome to attend.
URL:https://fmc-cu.org/event/thursday-morning-bible-study-2022-01-20-2-2/2024-02-29/
LOCATION:FMC Library\, 902 W Springfield Ave\, Urbana\, 61801
CATEGORIES:Bible Study & Prayer
ORGANIZER;CN="Pastor Michael Crosby":MAILTO:michael.crosby@fmc-cu.org
END:VEVENT
BEGIN:VEVENT
DTSTART;TZID=America/Chicago:20240222T183000
DTEND;TZID=America/Chicago:20240222T200000
DTSTAMP:20260422T063548
CREATED:20240124T203656Z
LAST-MODIFIED:20240306T194143Z
UID:10002326-1708626600-1708632000@fmc-cu.org
SUMMARY:Beloved Community Bible Study
DESCRIPTION:This is a community Bible study lead by Pastor Michael Crosby\, of First Mennonite Church\, and Rev. Terrance Thomas of Bethel AME Church. \nThe location will alternate between the two churches:\nFebruary 8 at FMC\nFebruary 22 at Bethel AME\nMarch 7 at Bethel AME\nMarch 21 at FMC\nApril 11 at FMC\nApril 25 at Bethel AME (final session) \n 
URL:https://fmc-cu.org/event/beloved-community-bible-study-3/2024-02-22/
LOCATION:IL
CATEGORIES:Bible Study & Prayer
ORGANIZER;CN="Pastor Michael Crosby":MAILTO:michael.crosby@fmc-cu.org
END:VEVENT
BEGIN:VEVENT
DTSTART;TZID=America/Chicago:20240222T093000
DTEND;TZID=America/Chicago:20240222T113000
DTSTAMP:20260422T063548
CREATED:20231213T172927Z
LAST-MODIFIED:20231220T192237Z
UID:10002292-1708594200-1708601400@fmc-cu.org
SUMMARY:Thursday Morning Bible Study
DESCRIPTION:Join us for a time of study\, sharing and prayer.  Pastor Michael willserve as facilitator. We will study “To Follow the Lamb: A Peaceable Reading of the Book of Revelation” by Ted Grimsrud. All are welcome to attend.
URL:https://fmc-cu.org/event/thursday-morning-bible-study-2022-01-20-2-2/2024-02-22/
LOCATION:FMC Library\, 902 W Springfield Ave\, Urbana\, 61801
CATEGORIES:Bible Study & Prayer
ORGANIZER;CN="Pastor Michael Crosby":MAILTO:michael.crosby@fmc-cu.org
END:VEVENT
BEGIN:VEVENT
DTSTART;TZID=America/Chicago:20240215T093000
DTEND;TZID=America/Chicago:20240215T113000
DTSTAMP:20260422T063548
CREATED:20231213T172927Z
LAST-MODIFIED:20231220T192237Z
UID:10002291-1707989400-1707996600@fmc-cu.org
SUMMARY:Thursday Morning Bible Study
DESCRIPTION:Join us for a time of study\, sharing and prayer.  Pastor Michael willserve as facilitator. We will study “To Follow the Lamb: A Peaceable Reading of the Book of Revelation” by Ted Grimsrud. All are welcome to attend.
URL:https://fmc-cu.org/event/thursday-morning-bible-study-2022-01-20-2-2/2024-02-15/
LOCATION:FMC Library\, 902 W Springfield Ave\, Urbana\, 61801
CATEGORIES:Bible Study & Prayer
ORGANIZER;CN="Pastor Michael Crosby":MAILTO:michael.crosby@fmc-cu.org
END:VEVENT
BEGIN:VEVENT
DTSTART;TZID=America/Chicago:20240208T183000
DTEND;TZID=America/Chicago:20240208T200000
DTSTAMP:20260422T063548
CREATED:20240124T203656Z
LAST-MODIFIED:20240306T194143Z
UID:10001752-1707417000-1707422400@fmc-cu.org
SUMMARY:Beloved Community Bible Study
DESCRIPTION:This is a community Bible study lead by Pastor Michael Crosby\, of First Mennonite Church\, and Rev. Terrance Thomas of Bethel AME Church. \nThe location will alternate between the two churches:\nFebruary 8 at FMC\nFebruary 22 at Bethel AME\nMarch 7 at Bethel AME\nMarch 21 at FMC\nApril 11 at FMC\nApril 25 at Bethel AME (final session) \n 
URL:https://fmc-cu.org/event/beloved-community-bible-study-3/2024-02-08/
LOCATION:IL
CATEGORIES:Bible Study & Prayer
ORGANIZER;CN="Pastor Michael Crosby":MAILTO:michael.crosby@fmc-cu.org
END:VEVENT
BEGIN:VEVENT
DTSTART;TZID=America/Chicago:20240208T093000
DTEND;TZID=America/Chicago:20240208T113000
DTSTAMP:20260422T063548
CREATED:20231213T172927Z
LAST-MODIFIED:20231220T192237Z
UID:10002290-1707384600-1707391800@fmc-cu.org
SUMMARY:Thursday Morning Bible Study
DESCRIPTION:Join us for a time of study\, sharing and prayer.  Pastor Michael willserve as facilitator. We will study “To Follow the Lamb: A Peaceable Reading of the Book of Revelation” by Ted Grimsrud. All are welcome to attend.
URL:https://fmc-cu.org/event/thursday-morning-bible-study-2022-01-20-2-2/2024-02-08/
LOCATION:FMC Library\, 902 W Springfield Ave\, Urbana\, 61801
CATEGORIES:Bible Study & Prayer
ORGANIZER;CN="Pastor Michael Crosby":MAILTO:michael.crosby@fmc-cu.org
END:VEVENT
BEGIN:VEVENT
DTSTART;TZID=America/Chicago:20240201T093000
DTEND;TZID=America/Chicago:20240201T113000
DTSTAMP:20260422T063548
CREATED:20231213T172927Z
LAST-MODIFIED:20231220T192237Z
UID:10002289-1706779800-1706787000@fmc-cu.org
SUMMARY:Thursday Morning Bible Study
DESCRIPTION:Join us for a time of study\, sharing and prayer.  Pastor Michael willserve as facilitator. We will study “To Follow the Lamb: A Peaceable Reading of the Book of Revelation” by Ted Grimsrud. All are welcome to attend.
URL:https://fmc-cu.org/event/thursday-morning-bible-study-2022-01-20-2-2/2024-02-01/
LOCATION:FMC Library\, 902 W Springfield Ave\, Urbana\, 61801
CATEGORIES:Bible Study & Prayer
ORGANIZER;CN="Pastor Michael Crosby":MAILTO:michael.crosby@fmc-cu.org
END:VEVENT
BEGIN:VEVENT
DTSTART;TZID=America/Chicago:20240125T093000
DTEND;TZID=America/Chicago:20240125T113000
DTSTAMP:20260422T063548
CREATED:20231213T172927Z
LAST-MODIFIED:20231220T192237Z
UID:10002288-1706175000-1706182200@fmc-cu.org
SUMMARY:Thursday Morning Bible Study
DESCRIPTION:Join us for a time of study\, sharing and prayer.  Pastor Michael willserve as facilitator. We will study “To Follow the Lamb: A Peaceable Reading of the Book of Revelation” by Ted Grimsrud. All are welcome to attend.
URL:https://fmc-cu.org/event/thursday-morning-bible-study-2022-01-20-2-2/2024-01-25/
LOCATION:FMC Library\, 902 W Springfield Ave\, Urbana\, 61801
CATEGORIES:Bible Study & Prayer
ORGANIZER;CN="Pastor Michael Crosby":MAILTO:michael.crosby@fmc-cu.org
END:VEVENT
BEGIN:VEVENT
DTSTART;TZID=America/Chicago:20240118T183000
DTEND;TZID=America/Chicago:20240118T200000
DTSTAMP:20260422T063548
CREATED:20231213T173100Z
LAST-MODIFIED:20231220T192929Z
UID:10002314-1705602600-1705608000@fmc-cu.org
SUMMARY:Beloved Community Bible Study
DESCRIPTION:This is a weekly 20-week community Bible study lead by Pastor Michael Crosby\, of First Mennonite Church\, and Rev. Terrance Thomas of Bethel AME Church.  The location will alternate between the two churches. \nIn January\, the meeting locations are: Bethel AME Church (401 E. Park St.\, Champaign) on January 11 and 25. First Mennonite Church on January 18.
URL:https://fmc-cu.org/event/beloved-community-bible-study-2/2024-01-18/
LOCATION:IL
CATEGORIES:Bible Study & Prayer
ORGANIZER;CN="Pastor Michael Crosby":MAILTO:michael.crosby@fmc-cu.org
END:VEVENT
BEGIN:VEVENT
DTSTART;TZID=America/Chicago:20240118T093000
DTEND;TZID=America/Chicago:20240118T113000
DTSTAMP:20260422T063548
CREATED:20231213T172927Z
LAST-MODIFIED:20231220T192237Z
UID:10002287-1705570200-1705577400@fmc-cu.org
SUMMARY:Thursday Morning Bible Study
DESCRIPTION:Join us for a time of study\, sharing and prayer.  Pastor Michael willserve as facilitator. We will study “To Follow the Lamb: A Peaceable Reading of the Book of Revelation” by Ted Grimsrud. All are welcome to attend.
URL:https://fmc-cu.org/event/thursday-morning-bible-study-2022-01-20-2-2/2024-01-18/
LOCATION:FMC Library\, 902 W Springfield Ave\, Urbana\, 61801
CATEGORIES:Bible Study & Prayer
ORGANIZER;CN="Pastor Michael Crosby":MAILTO:michael.crosby@fmc-cu.org
END:VEVENT
END:VCALENDAR