BEGIN:VCALENDAR
VERSION:2.0
PRODID:-//First Mennonite Church of Champaign-Urbana - ECPv6.15.20//NONSGML v1.0//EN
CALSCALE:GREGORIAN
METHOD:PUBLISH
X-ORIGINAL-URL:https://fmc-cu.org
X-WR-CALDESC:Events for First Mennonite Church of Champaign-Urbana
REFRESH-INTERVAL;VALUE=DURATION:PT1H
X-Robots-Tag:noindex
X-PUBLISHED-TTL:PT1H
BEGIN:VTIMEZONE
TZID:America/Chicago
BEGIN:DAYLIGHT
TZOFFSETFROM:-0600
TZOFFSETTO:-0500
TZNAME:CDT
DTSTART:20240310T080000
END:DAYLIGHT
BEGIN:STANDARD
TZOFFSETFROM:-0500
TZOFFSETTO:-0600
TZNAME:CST
DTSTART:20241103T070000
END:STANDARD
BEGIN:DAYLIGHT
TZOFFSETFROM:-0600
TZOFFSETTO:-0500
TZNAME:CDT
DTSTART:20250309T080000
END:DAYLIGHT
BEGIN:STANDARD
TZOFFSETFROM:-0500
TZOFFSETTO:-0600
TZNAME:CST
DTSTART:20251102T070000
END:STANDARD
BEGIN:DAYLIGHT
TZOFFSETFROM:-0600
TZOFFSETTO:-0500
TZNAME:CDT
DTSTART:20260308T080000
END:DAYLIGHT
BEGIN:STANDARD
TZOFFSETFROM:-0500
TZOFFSETTO:-0600
TZNAME:CST
DTSTART:20261101T070000
END:STANDARD
END:VTIMEZONE
BEGIN:VEVENT
DTSTART;TZID=America/Chicago:20251105T080000
DTEND;TZID=America/Chicago:20251105T093000
DTSTAMP:20260419T151556
CREATED:20250128T195323Z
LAST-MODIFIED:20250729T191913Z
UID:10002681-1762329600-1762335000@fmc-cu.org
SUMMARY:Wednesday Morning Zoom Bible Study (meets over Zoom)
DESCRIPTION:Early risers – join us online for a time of study and discussion. Email Pastor Michael for the Zoom link.
URL:https://fmc-cu.org/event/early-morning-bible-study-meets-over-zoom-2-2-2/2025-11-05/
LOCATION:Zoom
CATEGORIES:Bible Study & Prayer
ORGANIZER;CN="Pastor Michael Crosby":MAILTO:michael.crosby@fmc-cu.org
END:VEVENT
BEGIN:VEVENT
DTSTART;TZID=America/Chicago:20251106T093000
DTEND;TZID=America/Chicago:20251106T113000
DTSTAMP:20260419T151556
CREATED:20250820T202755Z
LAST-MODIFIED:20250820T202839Z
UID:10003289-1762421400-1762428600@fmc-cu.org
SUMMARY:Thursday Morning Bible Study
DESCRIPTION:Join us for a time of study\, sharing and prayer.  Pastor Deb will facilitate a study of the book “Expecting Emmanuel: Eight Women Who Prepared the Way.” All are welcome to attend.
URL:https://fmc-cu.org/event/thursday-morning-bible-study-2022-01-20-2-2-3-2/2025-11-06/
LOCATION:FMC Library\, 902 W Springfield Ave\, Urbana\, 61801
CATEGORIES:Bible Study & Prayer
ORGANIZER;CN="Pastor Michael Crosby":MAILTO:michael.crosby@fmc-cu.org
END:VEVENT
BEGIN:VEVENT
DTSTART;TZID=America/Chicago:20251106T111500
DTEND;TZID=America/Chicago:20251106T114500
DTSTAMP:20260419T151556
CREATED:20251003T181139Z
LAST-MODIFIED:20251008T164104Z
UID:10003379-1762427700-1762429500@fmc-cu.org
SUMMARY:Weekly Vigil for Palestine
DESCRIPTION:Join in prayer\, song\, lament and listening for God in the Palestine-Israel conflict.
URL:https://fmc-cu.org/event/weekly-vigil-for-palestine/2025-11-06/
LOCATION:First Mennonite Church\, 902 W Springfield Ave\, Urbana\, IL\, 61801\, United States
CATEGORIES:Bible Study & Prayer
ORGANIZER;CN="Pastor Michael Crosby":MAILTO:michael.crosby@fmc-cu.org
END:VEVENT
BEGIN:VEVENT
DTSTART;TZID=America/Chicago:20251112T080000
DTEND;TZID=America/Chicago:20251112T093000
DTSTAMP:20260419T151556
CREATED:20250128T195323Z
LAST-MODIFIED:20250729T191913Z
UID:10002682-1762934400-1762939800@fmc-cu.org
SUMMARY:Wednesday Morning Zoom Bible Study (meets over Zoom)
DESCRIPTION:Early risers – join us online for a time of study and discussion. Email Pastor Michael for the Zoom link.
URL:https://fmc-cu.org/event/early-morning-bible-study-meets-over-zoom-2-2-2/2025-11-12/
LOCATION:Zoom
CATEGORIES:Bible Study & Prayer
ORGANIZER;CN="Pastor Michael Crosby":MAILTO:michael.crosby@fmc-cu.org
END:VEVENT
BEGIN:VEVENT
DTSTART;TZID=America/Chicago:20251113T093000
DTEND;TZID=America/Chicago:20251113T113000
DTSTAMP:20260419T151556
CREATED:20250820T202755Z
LAST-MODIFIED:20250820T202839Z
UID:10003290-1763026200-1763033400@fmc-cu.org
SUMMARY:Thursday Morning Bible Study
DESCRIPTION:Join us for a time of study\, sharing and prayer.  Pastor Deb will facilitate a study of the book “Expecting Emmanuel: Eight Women Who Prepared the Way.” All are welcome to attend.
URL:https://fmc-cu.org/event/thursday-morning-bible-study-2022-01-20-2-2-3-2/2025-11-13/
LOCATION:FMC Library\, 902 W Springfield Ave\, Urbana\, 61801
CATEGORIES:Bible Study & Prayer
ORGANIZER;CN="Pastor Michael Crosby":MAILTO:michael.crosby@fmc-cu.org
END:VEVENT
BEGIN:VEVENT
DTSTART;TZID=America/Chicago:20251113T111500
DTEND;TZID=America/Chicago:20251113T114500
DTSTAMP:20260419T151556
CREATED:20251003T181139Z
LAST-MODIFIED:20251008T164104Z
UID:10003380-1763032500-1763034300@fmc-cu.org
SUMMARY:Weekly Vigil for Palestine
DESCRIPTION:Join in prayer\, song\, lament and listening for God in the Palestine-Israel conflict.
URL:https://fmc-cu.org/event/weekly-vigil-for-palestine/2025-11-13/
LOCATION:First Mennonite Church\, 902 W Springfield Ave\, Urbana\, IL\, 61801\, United States
CATEGORIES:Bible Study & Prayer
ORGANIZER;CN="Pastor Michael Crosby":MAILTO:michael.crosby@fmc-cu.org
END:VEVENT
BEGIN:VEVENT
DTSTART;TZID=America/Chicago:20251119T080000
DTEND;TZID=America/Chicago:20251119T093000
DTSTAMP:20260419T151556
CREATED:20250128T195323Z
LAST-MODIFIED:20250729T191913Z
UID:10002683-1763539200-1763544600@fmc-cu.org
SUMMARY:Wednesday Morning Zoom Bible Study (meets over Zoom)
DESCRIPTION:Early risers – join us online for a time of study and discussion. Email Pastor Michael for the Zoom link.
URL:https://fmc-cu.org/event/early-morning-bible-study-meets-over-zoom-2-2-2/2025-11-19/
LOCATION:Zoom
CATEGORIES:Bible Study & Prayer
ORGANIZER;CN="Pastor Michael Crosby":MAILTO:michael.crosby@fmc-cu.org
END:VEVENT
BEGIN:VEVENT
DTSTART;TZID=America/Chicago:20251120T093000
DTEND;TZID=America/Chicago:20251120T113000
DTSTAMP:20260419T151556
CREATED:20250820T202755Z
LAST-MODIFIED:20250820T202839Z
UID:10003291-1763631000-1763638200@fmc-cu.org
SUMMARY:Thursday Morning Bible Study
DESCRIPTION:Join us for a time of study\, sharing and prayer.  Pastor Deb will facilitate a study of the book “Expecting Emmanuel: Eight Women Who Prepared the Way.” All are welcome to attend.
URL:https://fmc-cu.org/event/thursday-morning-bible-study-2022-01-20-2-2-3-2/2025-11-20/
LOCATION:FMC Library\, 902 W Springfield Ave\, Urbana\, 61801
CATEGORIES:Bible Study & Prayer
ORGANIZER;CN="Pastor Michael Crosby":MAILTO:michael.crosby@fmc-cu.org
END:VEVENT
BEGIN:VEVENT
DTSTART;TZID=America/Chicago:20251120T111500
DTEND;TZID=America/Chicago:20251120T114500
DTSTAMP:20260419T151556
CREATED:20251003T181139Z
LAST-MODIFIED:20251008T164104Z
UID:10003381-1763637300-1763639100@fmc-cu.org
SUMMARY:Weekly Vigil for Palestine
DESCRIPTION:Join in prayer\, song\, lament and listening for God in the Palestine-Israel conflict.
URL:https://fmc-cu.org/event/weekly-vigil-for-palestine/2025-11-20/
LOCATION:First Mennonite Church\, 902 W Springfield Ave\, Urbana\, IL\, 61801\, United States
CATEGORIES:Bible Study & Prayer
ORGANIZER;CN="Pastor Michael Crosby":MAILTO:michael.crosby@fmc-cu.org
END:VEVENT
BEGIN:VEVENT
DTSTART;TZID=America/Chicago:20251126T080000
DTEND;TZID=America/Chicago:20251126T093000
DTSTAMP:20260419T151556
CREATED:20250128T195323Z
LAST-MODIFIED:20250729T191913Z
UID:10002684-1764144000-1764149400@fmc-cu.org
SUMMARY:Wednesday Morning Zoom Bible Study (meets over Zoom)
DESCRIPTION:Early risers – join us online for a time of study and discussion. Email Pastor Michael for the Zoom link.
URL:https://fmc-cu.org/event/early-morning-bible-study-meets-over-zoom-2-2-2/2025-11-26/
LOCATION:Zoom
CATEGORIES:Bible Study & Prayer
ORGANIZER;CN="Pastor Michael Crosby":MAILTO:michael.crosby@fmc-cu.org
END:VEVENT
END:VCALENDAR