BEGIN:VCALENDAR
VERSION:2.0
PRODID:-//First Mennonite Church of Champaign-Urbana - ECPv6.15.20//NONSGML v1.0//EN
CALSCALE:GREGORIAN
METHOD:PUBLISH
X-ORIGINAL-URL:https://fmc-cu.org
X-WR-CALDESC:Events for First Mennonite Church of Champaign-Urbana
REFRESH-INTERVAL;VALUE=DURATION:PT1H
X-Robots-Tag:noindex
X-PUBLISHED-TTL:PT1H
BEGIN:VTIMEZONE
TZID:America/Chicago
BEGIN:DAYLIGHT
TZOFFSETFROM:-0600
TZOFFSETTO:-0500
TZNAME:CDT
DTSTART:20250309T080000
END:DAYLIGHT
BEGIN:STANDARD
TZOFFSETFROM:-0500
TZOFFSETTO:-0600
TZNAME:CST
DTSTART:20251102T070000
END:STANDARD
BEGIN:DAYLIGHT
TZOFFSETFROM:-0600
TZOFFSETTO:-0500
TZNAME:CDT
DTSTART:20260308T080000
END:DAYLIGHT
BEGIN:STANDARD
TZOFFSETFROM:-0500
TZOFFSETTO:-0600
TZNAME:CST
DTSTART:20261101T070000
END:STANDARD
BEGIN:DAYLIGHT
TZOFFSETFROM:-0600
TZOFFSETTO:-0500
TZNAME:CDT
DTSTART:20270314T080000
END:DAYLIGHT
BEGIN:STANDARD
TZOFFSETFROM:-0500
TZOFFSETTO:-0600
TZNAME:CST
DTSTART:20271107T070000
END:STANDARD
END:VTIMEZONE
BEGIN:VEVENT
DTSTART;TZID=America/Chicago:20260320T103000
DTEND;TZID=America/Chicago:20260320T123000
DTSTAMP:20260419T112735
CREATED:20250417T191656Z
LAST-MODIFIED:20260218T200346Z
UID:10003636-1774002600-1774009800@fmc-cu.org
SUMMARY:Friday Spiritual Direction Group
DESCRIPTION:4-6 people meet several times each month for prayer\, sharing\, Lectio Divina and a short silence. Meeting times and days are decided by the group. New groups are formed each September. \nThe group meets in person & on Zoom.
URL:https://fmc-cu.org/event/friday-spiritual-direction-group-2/2026-03-20/
LOCATION:First Mennonite Church\, 902 W Springfield Ave\, Urbana\, IL\, 61801\, United States
CATEGORIES:Spiritual Direction Groups
ORGANIZER;CN="Associate Pastor Deb Sutter":MAILTO:debra.sutter@fmc-cu.org
END:VEVENT
BEGIN:VEVENT
DTSTART;TZID=America/Chicago:20260320T150000
DTEND;TZID=America/Chicago:20260320T170000
DTSTAMP:20260419T112735
CREATED:20240327T145533Z
LAST-MODIFIED:20260305T184548Z
UID:10003767-1774018800-1774026000@fmc-cu.org
SUMMARY:Service & Outreach Committee-Hybrid
DESCRIPTION:The Service and Outreach Committee reaches out to and welcomes people who wish to know more about the church. The committee also coordinates FMC service projects in the community and beyond.
URL:https://fmc-cu.org/event/service-outreach-committee-2021-11-18-2022-09-22-2-2/2026-03-20/
LOCATION:First Mennonite Church\, 902 W Springfield Ave\, Urbana\, IL\, 61801\, United States
CATEGORIES:FMC Meetings
ORGANIZER;CN="Pastor Michael Crosby":MAILTO:michael.crosby@fmc-cu.org
END:VEVENT
BEGIN:VEVENT
DTSTART;TZID=America/Chicago:20260320T163000
DTEND;TZID=America/Chicago:20260320T180000
DTSTAMP:20260419T112735
CREATED:20250430T173744Z
LAST-MODIFIED:20260325T163150Z
UID:10003817-1774024200-1774029600@fmc-cu.org
SUMMARY:Facilities Committee (Hybrid)
DESCRIPTION:This FMC committee is responsible for the general supervision of the church’s physical property and financial affairs.
URL:https://fmc-cu.org/event/facilities-committee-hybrid-4/2026-03-20/
LOCATION:First Mennonite Church\, 902 W Springfield Ave\, Urbana\, IL\, 61801\, United States
CATEGORIES:FMC Meetings
ORGANIZER;CN="Pastor Michael Crosby":MAILTO:michael.crosby@fmc-cu.org
END:VEVENT
BEGIN:VEVENT
DTSTART;TZID=America/Chicago:20260320T170000
DTEND;TZID=America/Chicago:20260320T203000
DTSTAMP:20260419T112735
CREATED:20220208T175320Z
LAST-MODIFIED:20260218T194006Z
UID:10003528-1774026000-1774038600@fmc-cu.org
SUMMARY:68th Annual MCC IL Mennonite Relief Sale
DESCRIPTION:Our 68th Annual Illinois Mennonite Relief Sale will be held on Friday\, March 20 and Saturday\, March 21\, 2026. \nLocation: Interstate Center\, 1106 Interstate Dr\, \, Bloomington\, IL 61705 \nFor details\, visit: https://www.ilreliefsale.org/ \n20% of the Illinois MCC Relief Sale net income will be used locally by grassroots volunteers to provide food for those in need in Central Illinois. 80% of the net proceeds from the Sale are channeled through Mennonite Central Committee (MCC)\, a global\, Anabaptist nonprofit organization that strives to share God’s love and compassion for all through relief\, development and peace.
URL:https://fmc-cu.org/event/64th-annual-mcc-il-mennonite-relief-sale-online-this-year/2026-03-20/
LOCATION:interstate center\, 1106 Interstate Dr\, Bloomington\, IL\, 61705\, United States
CATEGORIES:Mennonite Church-affiliated
ORGANIZER;CN="FMC Office":MAILTO:office@fmc-cu.org
END:VEVENT
END:VCALENDAR